Workbook

Sheet gioco
A2: 0 | B2: 5 | C2: 10 | D2: 15 | E2: 20 | F2: 25 | G2: 30 | H2: 35 | I2: 40 | J2: 45 | K2: 50 | L2: 55 | M2: 60 | N2: 65 | O2: 70 | P2: 75 | Q2: 80 | R2: 85 | S2: 90 | T2: 95 | U2: 100 | V2: 105 | W2: 110 | X2: 115 | Y2: 120 | Z2: 125 | AA2: 130 | AB2: 135 | AC2: 140 | AD2: 145 | AE2: 150 | AF2: 155 | AG2: 160 | AH2: 165 | AI2: 170 | AJ2: 175 | AK2: 180 | AL2: 185 | AM2: 190 | AN2: 195 | AO2: 200 | AP2: 205 | AQ2: 210 | AR2: 215 | AS2: 220 | AT2: 225 | AU2: 230 | AV2: 235 | AW2: 240 | AX2: 245 | AY2: 250 | AZ2: 255 | BA2: 260 | BB2: 265 | BC2: 270 | BD2: 275 | BE2: 280 | BF2: 285 | BG2: 290 | BH2: 295 | BI2: 300 | BJ2: 305 | BK2: 310 | BL2: 315 | BM2: 320 | BN2: 325 | BO2: 330 | BP2: 335 | BQ2: 340 | BR2: 345 | BS2: 350 | BT2: 355 | BU2: 360 | BV2: 365 | BW2: 370 | BX2: 375 | BY2: 380 | BZ2: 385
A3: 5
A4: 10
A5: 15
A6: 20
A7: 25
A8: 30
A9: 35
A10: 40
A11: 45
A12: 50
A13: 55
A14: 60
A16: 5 | B16: 200 | C16: 192 | D16: 43 | E16: =SUM(B16:D16) -> 435
A17: 5 | B17: 200 | C17: 192 | D17: 20 | E17: =SUM(B17:D17) -> 412
A18: 4 | B18: 200 | C18: 138 | E18: =SUM(B18:D18) -> 338
A19: 4 | B19: 200 | C19: 91 | E19: =SUM(B19:D19) -> 291

Sheet bastoni
A1: Scratch | F1: Golfers
A2: 230 | C2: 220 | E2: 210 | F2: 200 | G2: 195 | H2: 190 | I2: 185 | J2: 180 | K2: 175 | L2: 170 | M2: 165 | N2: 160 | O2: 155 | P2: 150 | Q2: 145 | R2: 140 | S2: 135 | T2: 130 | U2: 125 | V2: 120 | W2: 115 | X2: 110 | Y2: 105 | Z2: 100 | AA2: driver
A3: 214 | C3: 206 | E3: 197 | F3: 193 | G3: 188 | H3: 184 | I3: 179 | J3: 174 | K3: 169 | L3: 165 | M3: 160 | N3: 155 | O3: 150 | P3: 146 | Q3: 141 | R3: 136 | S3: 131 | T3: 127 | U3: 122 | V3: 117 | W3: 112 | X3: 107 | Y3: 102 | Z3: 98 | AA3: 3 wood
A4: 194 | C4: 186 | E4: 178 | F4: 175 | G4: 171 | H4: 166 | I4: 162 | J4: 158 | K4: 155 | L4: 150 | M4: 146 | N4: 141 | O4: 137 | P4: 132 | Q4: 128 | R4: 124 | S4: 119 | T4: 115 | U4: 111 | V4: 106 | W4: 102 | X4: 98 | Y4: 93 | Z4: 89 | AA4: 5 wood
A5: 174 | C5: 168 | E5: 160 | F5: 157 | G5: 153 | H5: 150 | I5: 146 | J5: 142 | K5: 139 | L5: 135 | M5: 131 | N5: 127 | O5: 123 | P5: 119 | Q5: 115 | R5: 113 | S5: 109 | T5: 105 | U5: 100 | V5: 96 | W5: 92 | X5: 88 | Y5: 84 | Z5: 80 | AA5: 4 hybrid
A6: 161 | C6: 151 | E6: 143 | F6: 138 | G6: 133 | H6: 128 | I6: 123 | J6: 120 | K6: 117 | L6: 113 | M6: 109 | N6: 105 | O6: 102 | P6: 98 | Q6: 95 | R6: 91 | S6: 87 | T6: 82 | U6: 78 | V6: 74 | W6: 70 | X6: 66 | Y6: 62 | Z6: 58 | AA6: 5 iron
A7: 151 | C7: 142 | E7: 133 | F7: 129 | G7: 124 | H7: 120 | I7: 115 | J7: 113 | K7: 110 | L7: 106 | M7: 103 | N7: 99 | O7: 96 | P7: 92 | Q7: 90 | R7: 86 | S7: 82 | T7: 78 | U7: 74 | V7: 70 | W7: 66 | X7: 62 | Y7: 58 | Z7: 54 | AA7: 6 iron
A8: 141 | C8: 132 | E8: 126 | F8: 121 | G8: 117 | H8: 112 | I8: 108 | J8: 106 | K8: 102 | L8: 99 | M8: 96 | N8: 93 | O8: 89 | P8: 86 | Q8: 83 | R8: 80 | S8: 76 | T8: 72 | U8: 69 | V8: 65 | W8: 61 | X8: 58 | Y8: 54 | Z8: 51 | AA8: 7 iron
A9: 131 | C9: 123 | E9: 116 | F9: 112 | G9: 108 | H9: 104 | I9: 100 | J9: 99 | K9: 96 | L9: 93 | M9: 89 | N9: 86 | O9: 83 | P9: 80 | Q9: 79 | R9: 75 | S9: 72 | T9: 68 | U9: 65 | V9: 61 | W9: 58 | X9: 54 | Y9: 51 | Z9: 47 | AA9: 8 iron
A10: 116 | C10: 109 | E10: 104 | F10: 100 | G10: 97 | H10: 93 | I10: 89 | J10: 88 | K10: 85 | L10: 82 | M10: 80 | N10: 77 | O10: 74 | P10: 71 | Q10: 70 | R10: 67 | S10: 64 | T10: 60 | U10: 57 | V10: 54 | W10: 51 | X10: 48 | Y10: 45 | Z10: 42 | AA10: 9 iron
A11: 106 | C11: 99 | E11: 94 | F11: 91 | G11: 87 | H11: 84 | I11: 81 | J11: 80 | K11: 78 | L11: 75 | M11: 73 | N11: 70 | O11: 68 | P11: 65 | Q11: 63 | R11: 60 | S11: 58 | T11: 55 | U11: 52 | V11: 49 | W11: 46 | X11: 43 | Y11: 41 | Z11: 38 | AA11: P iron
A12: 96 | C12: 90 | E12: 86 | F12: 83 | G12: 80 | H12: 77 | I12: 74 | J12: 73 | K12: 70 | L12: 68 | M12: 66 | N12: 64 | O12: 61 | P12: 59 | Q12: 58 | R12: 56 | S12: 53 | T12: 50 | U12: 48 | V12: 45 | W12: 42 | X12: 40 | Y12: 37 | Z12: 35 | AA12: G iron
A13: 81 | C13: 76 | E13: 72 | F13: 70 | G13: 67 | H13: 65 | I13: 62 | J13: 63 | K13: 61 | L13: 59 | M13: 56 | N13: 54 | O13: 52 | P13: 50 | Q13: 50 | R13: 47 | S13: 45 | T13: 43 | U13: 40 | V13: 38 | W13: 36 | X13: 33 | Y13: 31 | Z13: 28 | AA13: Sand iron
... A15: 30 | C15: 30 | E15: 30 | F15: 28 | G15: 28 | H15: 37 | I15: 37 | J15: 26 | K15: 26 | L15: 25 | M15: 25 | N15: 24 | O15: 24 | P15: 23 | Q15: 23 | R15: 20 | S15: 20 | T15: 20 | U15: 20 | V15: 18 | W15: 18 | X15: 15 | Y15: 15 | Z15: 15 | AA15: chip
A16: 230 | B16: 225 | C16: 220 | D16: 215 | E16: 210 | F16: 200 | G16: 195 | H16: 190 | I16: 185 | J16: 180 | K16: 175 | L16: 170 | M16: 165 | N16: 160 | O16: 155 | P16: 150 | Q16: 145 | R16: 140 | S16: 135 | T16: 130 | U16: 125 | V16: 120 | W16: 115 | X16: 110 | Y16: 105 | Z16: 100

Sheet tabelle
I2: PAR 5 | J2: =COUNTIF(E$6:E$109,I2) -> 51
I3: PAR 4 | J3: =COUNTIF(E$6:E$109,I3) -> 28
E4: 1/2Prof. green | G4: 15 | H4: D 200 | I4: PAR 3 | J4: =COUNTIF(E$6:E$109,I4) -> 14 | K4: =SUM(J2:J4) -> 93 | L4: TOT
E5: Lunghezza del lato di ritorno alla buca | K5: =I6-G4 -> 185 | L5: L
D6: 1 | E6: par 4 | F6: Drvr | G6: + | H6: Wd 3 | I6: 200 | J6: 193 | K6: =I6-J6-G4 -> -8 | L6: =I6+J6 -> 393
D7: 2 | E7: par 4 | F7: Drvr | G7: + | H7: Wd 5 | I7: 200 | J7: 175 | K7: =I7-J7-G4 -> 10 | L7: =I7+J7+K7 -> 385
D8: 3 | E8: par 5 | F8: Drvr | G8: + | H8: Wd 7 | I8: 200 | J8: 157 | K8: =I8-J8-G4 -> 28 | L8: =I8+J8+K8 -> 385
D9: 4 | E9: par 5 | F9: Drvr | G9: + | H9: fe 5 | I9: 200 | J9: 138 | K9: =I9-J9-G4 -> 47 | L9: =I9+J9+K9 -> 385
D10: 5 | E10: par 5 | F10: Drvr | G10: + | H10: fe 6 | I10: 200 | J10: 129 | K10: =I10-J10-G4 -> 56 | L10: =I10+J10+K10 -> 385
D11: 6 | E11: par 5 | F11: Drvr | G11: + | H11: fe 7 | I11: 200 | J11: 121 | K11: =I11-J11-G4 -> 64 | L11: =I11+J11+K11 -> 385
D12: 7 | E12: par 5 | F12: Drvr | G12: + | H12: fe 8 | I12: 200 | J12: 112 | K12: =I12-J12-G4 -> 73 | L12: =I12+J12+K12 -> 385
D13: 8 | E13: par 5 | F13: Drvr | G13: + | H13: fe 9 | I13: 200 | J13: 100 | K13: =I13-J13-G4 -> 85 | L13: =I13+J13+K13 -> 385
D14: 9 | E14: par 5 | F14: Drvr | G14: + | H14: pitch | I14: 200 | J14: 91 | K14: =I14-J14-G4 -> 94 | L14: =I14+J14+K14 -> 385
D15: 10 | E15: par 5 | F15: Drvr | G15: + | H15: gap | I15: 200 | J15: 83 | K15: =I15-J15-G4 -> 102 | L15: =I15+J15+K15 -> 385
D16: 11 | E16: par 5 | F16: Drvr | G16: + | H16: sand | I16: 200 | J16: 70 | K16: =I16-J16-G4 -> 115 | L16: =I16+J16+K16 -> 385
D17: 12 | E17: par 5 | F17: Drvr | G17: + | H17: lob | I17: 200 | J17: 62 | K17: =I17-J17-G4 -> 123 | L17: =I17+J17+K17 -> 385
E18: Lunghezza del lato di ritorno alla buca | K18: =I19-G4 -> 178 | L18: L
D19: 13 | E19: par 4 | F19: Wd 3 | G19: + | H19: Wd 5 | I19: 193 | J19: 175 | K19: =K$18-J19 -> 3 | L19: =I19+J19 -> 368
D20: 14 | E20: par 5 | F20: Wd 3 | G20: + | H20: Wd 7 | I20: 193 | J20: 157 | K20: =K$18-J20 -> 21 | L20: =I20+J20+K20 -> 371
D21: 15 | E21: par 5 | F21: Wd 3 | G21: + | H21: fe 5 | I21: 193 | J21: 138 | K21: =K$18-J21 -> 40 | L21: =I21+J21+K21 -> 371
D22: 16 | E22: par 5 | F22: Wd 3 | G22: + | H22: fe 6 | I22: 193 | J22: 129 | K22: =K$18-J22 -> 49 | L22: =I22+J22+K22 -> 371
D23: 17 | E23: par 5 | F23: Wd 3 | G23: + | H23: fe 7 | I23: 193 | J23: 121 | K23: =K$18-J23 -> 57 | L23: =I23+J23+K23 -> 371
D24: 18 | E24: par 5 | F24: Wd 3 | G24: + | H24: fe 8 | I24: 193 | J24: 112 | K24: =K$18-J24 -> 66 | L24: =I24+J24+K24 -> 371
D25: 19 | E25: par 5 | F25: Wd 3 | G25: + | H25: fe 9 | I25: 193 | J25: 100 | K25: =K$18-J25 -> 78 | L25: =I25+J25+K25 -> 371
D26: 20 | E26: par 5 | F26: Wd 3 | G26: + | H26: pitch | I26: 193 | J26: 91 | K26: =K$18-J26 -> 87 | L26: =I26+J26+K26 -> 371
D27: 21 | E27: par 5 | F27: Wd 3 | G27: + | H27: gap | I27: 193 | J27: 83 | K27: =K$18-J27 -> 95 | L27: =I27+J27+K27 -> 371
D28: 22 | E28: par 5 | F28: Wd 3 | G28: + | H28: sand | I28: 193 | J28: 70 | K28: =K$18-J28 -> 108 | L28: =I28+J28+K28 -> 371
D29: 23 | E29: par 5 | F29: Wd 3 | G29: + | H29: lob | I29: 193 | J29: 62 | K29: =K$18-J29 -> 116 | L29: =I29+J29+K29 -> 371
E30: Lunghezza del lato di ritorno alla buca | K30: =I31-G4 -> 160 | L30: L
D31: 24 | E31: par 4 | F31: Wd 5 | G31: + | H31: Wd 7 | I31: 175 | J31: 157 | K31: =K$30-J31 -> 3 | L31: =I31+J31 -> 332
D32: 25 | E32: par 5 | F32: Wd 5 | G32: + | H32: fe 5 | I32: 175 | J32: 138 | K32: =K$30-J32 -> 22 | L32: =I32+J32+K32 -> 335
D33: 26 | E33: par 5 | F33: Wd 5 | G33: + | H33: fe 6 | I33: 175 | J33: 129 | K33: =K$30-J33 -> 31 | L33: =I33+J33+K33 -> 335
D34: 27 | E34: par 5 | F34: Wd 5 | G34: + | H34: fe 7 | I34: 175 | J34: 121 | K34: =K$30-J34 -> 39 | L34: =I34+J34+K34 -> 335
D35: 28 | E35: par 5 | F35: Wd 5 | G35: + | H35: fe 8 | I35: 175 | J35: 112 | K35: =K$30-J35 -> 48 | L35: =I35+J35+K35 -> 335
D36: 29 | E36: par 5 | F36: Wd 5 | G36: + | H36: fe 9 | I36: 175 | J36: 100 | K36: =K$30-J36 -> 60 | L36: =I36+J36+K36 -> 335
D37: 30 | E37: par 5 | F37: Wd 5 | G37: + | H37: pitch | I37: 175 | J37: 91 | K37: =K$30-J37 -> 69 | L37: =I37+J37+K37 -> 335
D38: 31 | E38: par 5 | F38: Wd 5 | G38: + | H38: gap | I38: 175 | J38: 83 | K38: =K$30-J38 -> 77 | L38: =I38+J38+K38 -> 335
D39: 32 | E39: par 5 | F39: Wd 5 | G39: + | H39: sand | I39: 175 | J39: 70 | K39: =K$30-J39 -> 90 | L39: =I39+J39+K39 -> 335
D40: 33 | E40: par 5 | F40: Wd 5 | G40: + | H40: lob | I40: 175 | J40: 62 | K40: =K$30-J40 -> 98 | L40: =I40+J40+K40 -> 335
E41: Lunghezza del lato di ritorno alla buca | K41: =I42-G4 -> 142 | L41: L
...

Sheet x word
F2: PAR 5 | G2: =COUNTIF(E$5:E$96,F2) -> 28 | H2: PAR 4 | I2: =COUNTIF(E$5:E$96,H2) -> 17 | J2: PAR 3 | K2: =COUNTIF(E$5:E$96,J2) -> 0 | L2: =SUM(G2,I2,K2) -> 45
E3: 1/2Prof. green | G3: 15 | H3: ref.nce player | J3: D 200 | L3: TOT | O3: Lunghezza del lato di ritorno alla buca | U3: =S4-G3 -> 178 | V3: L
E4: Lunghezza del lato di ritorno alla buca | K4: =I5-G3 -> 185 | L4: L | N4: 13 | O4: par 4 | P4: Wd 3 | Q4: + | R4: Wd 5 | S4: 193 | T4: 175 | U4: =U$3-T4 -> 3 | V4: =S4+T4 -> 368
D5: 1 | E5: par 4 | F5: Drvr | G5: + | H5: Wd 3 | I5: 200 | J5: 193 | K5: =I5-J5-G3 -> -8 | L5: =I5+J5 -> 393 | N5: 14 | O5: par 5 | P5: Wd 3 | Q5: + | R5: Wd 7 | S5: 193 | T5: 157 | U5: =U$3-T5 -> 21 | V5: =S5+T5+U5 -> 371
D6: 2 | E6: par 4 | F6: Drvr | G6: + | H6: Wd 5 | I6: 200 | J6: 175 | K6: =I6-J6-G3 -> 10 | L6: =I6+J6+K6 -> 385 | N6: 15 | O6: par 5 | P6: Wd 3 | Q6: + | R6: fe 5 | S6: 193 | T6: 138 | U6: =U$3-T6 -> 40 | V6: =S6+T6+U6 -> 371
D7: 3 | E7: par 5 | F7: Drvr | G7: + | H7: Wd 7 | I7: 200 | J7: 157 | K7: =I7-J7-G3 -> 28 | L7: =I7+J7+K7 -> 385 | N7: 16 | O7: par 5 | P7: Wd 3 | Q7: + | R7: fe 6 | S7: 193 | T7: 129 | U7: =U$3-T7 -> 49 | V7: =S7+T7+U7 -> 371
D8: 4 | E8: par 5 | F8: Drvr | G8: + | H8: fe 5 | I8: 200 | J8: 138 | K8: =I8-J8-G3 -> 47 | L8: =I8+J8+K8 -> 385 | N8: 17 | O8: par 5 | P8: Wd 3 | Q8: + | R8: fe 7 | S8: 193 | T8: 121 | U8: =U$3-T8 -> 57 | V8: =S8+T8+U8 -> 371
D9: 5 | E9: par 5 | F9: Drvr | G9: + | H9: fe 6 | I9: 200 | J9: 129 | K9: =I9-J9-G3 -> 56 | L9: =I9+J9+K9 -> 385 | N9: 18 | O9: par 5 | P9: Wd 3 | Q9: + | R9: fe 8 | S9: 193 | T9: 112 | U9: =U$3-T9 -> 66 | V9: =S9+T9+U9 -> 371
D10: 6 | E10: par 5 | F10: Drvr | G10: + | H10: fe 7 | I10: 200 | J10: 121 | K10: =I10-J10-G3 -> 64 | L10: =I10+J10+K10 -> 385 | N10: 19 | O10: par 5 | P10: Wd 3 | Q10: + | R10: fe 9 | S10: 193 | T10: 100 | U10: =U$3-T10 -> 78 | V10: =S10+T10+U10 -> 371
D11: 7 | E11: par 5 | F11: Drvr | G11: + | H11: fe 8 | I11: 200 | J11: 112 | K11: =I11-J11-G3 -> 73 | L11: =I11+J11+K11 -> 385 | N11: 20 | O11: par 5 | P11: Wd 3 | Q11: + | R11: pitch | S11: 193 | T11: 91 | U11: =U$3-T11 -> 87 | V11: =S11+T11+U11 -> 371
D12: 8 | E12: par 5 | F12: Drvr | G12: + | H12: fe 9 | I12: 200 | J12: 100 | K12: =I12-J12-G3 -> 85 | L12: =I12+J12+K12 -> 385 | N12: 21 | O12: par 5 | P12: Wd 3 | Q12: + | R12: gap | S12: 193 | T12: 83 | U12: =U$3-T12 -> 95 | V12: =S12+T12+U12 -> 371
D13: 9 | E13: par 5 | F13: Drvr | G13: + | H13: pitch | I13: 200 | J13: 91 | K13: =I13-J13-G3 -> 94 | L13: =I13+J13+K13 -> 385 | N13: 22 | O13: par 5 | P13: Wd 3 | Q13: + | R13: sand | S13: 193 | T13: 70 | U13: =U$3-T13 -> 108 | V13: =S13+T13+U13 -> 371
D14: 10 | E14: par 5 | F14: Drvr | G14: + | H14: gap | I14: 200 | J14: 83 | K14: =I14-J14-G3 -> 102 | L14: =I14+J14+K14 -> 385 | N14: 23 | O14: par 5 | P14: Wd 3 | Q14: + | R14: lob | S14: 193 | T14: 62 | U14: =U$3-T14 -> 116 | V14: =S14+T14+U14 -> 371
D15: 11 | E15: par 5 | F15: Drvr | G15: + | H15: sand | I15: 200 | J15: 70 | K15: =I15-J15-G3 -> 115 | L15: =I15+J15+K15 -> 385 | O15: Lunghezza del lato di ritorno alla buca | U15: =S16-G3 -> 142 | V15: L
D16: 12 | E16: par 5 | F16: Drvr | G16: + | H16: lob | I16: 200 | J16: 62 | K16: =I16-J16-G3 -> 123 | L16: =I16+J16+K16 -> 385 | N16: 34 | O16: par 4 | P16: Wd 7 | Q16: + | R16: fe 5 | S16: 157 | T16: 138 | U16: =U$15-T16 -> 4 | V16: =S16+T16 -> 295
E17: Lunghezza del lato di ritorno alla buca | K17: =I18-G3 -> 160 | L17: L | N17: 35 | O17: par 4 | P17: Wd 7 | Q17: + | R17: fe 6 | S17: 157 | T17: 129 | U17: =U$15-T17 -> 13 | V17: =S17+T17+U17 -> 299
D18: 24 | E18: par 4 | F18: Wd 5 | G18: + | H18: Wd 7 | I18: 175 | J18: 157 | K18: =K$17-J18 -> 3 | L18: =I18+J18 -> 332 | N18: 36 | O18: par 5 | P18: Wd 7 | Q18: + | R18: fe 7 | S18: 157 | T18: 121 | U18: =U$15-T18 -> 21 | V18: =S18+T18+U18 -> 299
D19: 25 | E19: par 5 | F19: Wd 5 | G19: + | H19: fe 5 | I19: 175 | J19: 138 | K19: =K$17-J19 -> 22 | L19: =I19+J19+K19 -> 335 | N19: 37 | O19: par 5 | P19: Wd 7 | Q19: + | R19: fe 8 | S19: 157 | T19: 112 | U19: =U$15-T19 -> 30 | V19: =S19+T19+U19 -> 299
D20: 26 | E20: par 5 | F20: Wd 5 | G20: + | H20: fe 6 | I20: 175 | J20: 129 | K20: =K$17-J20 -> 31 | L20: =I20+J20+K20 -> 335 | N20: 38 | O20: par 5 | P20: Wd 7 | Q20: + | R20: fe 9 | S20: 157 | T20: 100 | U20: =U$15-T20 -> 42 | V20: =S20+T20+U20 -> 299
D21: 27 | E21: par 5 | F21: Wd 5 | G21: + | H21: fe 7 | I21: 175 | J21: 121 | K21: =K$17-J21 -> 39 | L21: =I21+J21+K21 -> 335 | N21: 39 | O21: par 5 | P21: Wd 7 | Q21: + | R21: pitch | S21: 157 | T21: 91 | U21: =U$15-T21 -> 51 | V21: =S21+T21+U21 -> 299
D22: 28 | E22: par 5 | F22: Wd 5 | G22: + | H22: fe 8 | I22: 175 | J22: 112 | K22: =K$17-J22 -> 48 | L22: =I22+J22+K22 -> 335 | N22: 40 | O22: par 5 | P22: Wd 7 | Q22: + | R22: gap | S22: 157 | T22: 83 | U22: =U$15-T22 -> 59 | V22: =S22+T22+U22 -> 299
D23: 29 | E23: par 5 | F23: Wd 5 | G23: + | H23: fe 9 | I23: 175 | J23: 100 | K23: =K$17-J23 -> 60 | L23: =I23+J23+K23 -> 335 | N23: 41 | O23: par 5 | P23: Wd 7 | Q23: + | R23: sand | S23: 157 | T23: 70 | U23: =U$15-T23 -> 72 | V23: =S23+T23+U23 -> 299
D24: 30 | E24: par 5 | F24: Wd 5 | G24: + | H24: pitch | I24: 175 | J24: 91 | K24: =K$17-J24 -> 69 | L24: =I24+J24+K24 -> 335 | N24: 42 | O24: par 5 | P24: Wd 7 | Q24: + | R24: lob | S24: 157 | T24: 62 | U24: =U$15-T24 -> 80 | V24: =S24+T24+U24 -> 299
D25: 31 | E25: par 5 | F25: Wd 5 | G25: + | H25: gap | I25: 175 | J25: 83 | K25: =K$17-J25 -> 77 | L25: =I25+J25+K25 -> 335 | O25: Lunghezza del lato di ritorno alla buca | U25: =S26-G3 -> 114 | V25: L
D26: 32 | E26: par 5 | F26: Wd 5 | G26: + | H26: sand | I26: 175 | J26: 70 | K26: =K$17-J26 -> 90 | L26: =I26+J26+K26 -> 335 | N26: 51 | O26: par 4 | P26: fe 6 | Q26: + | R26: fe 7 | S26: 129 | T26: 121 | U26: =U$25-T26 -> -7 | V26: =S26+T26 -> 250
D27: 33 | E27: par 5 | F27: Wd 5 | G27: + | H27: lob | I27: 175 | J27: 62 | K27: =K$17-J27 -> 98 | L27: =I27+J27+K27 -> 335 | N27: 52 | O27: par 4 | P27: fe 6 | Q27: + | R27: fe 8 | S27: 129 | T27: 112 | U27: =U$25-T27 -> 2 | V27: =S27+T27 -> 241
E28: Lunghezza del lato di ritorno alla buca | K28: =I29-G3 -> 123 | L28: L | N28: 53 | O28: par 4 | P28: fe 6 | Q28: + | R28: fe 9 | S28: 129 | T28: 100 | U28: =U$25-T28 -> 14 | V28: =S28+T28+U28 -> 243
D29: 43 | E29: par 4 | F29: fe 5 | G29: + | H29: fe 6 | I29: 138 | J29: 129 | K29: =K$28-J29 -> -6 | L29: =I29+J29 -> 267 | N29: 54 | O29: par 5 | P29: fe 6 | Q29: + | R29: pitch | S29: 129 | T29: 91 | U29: =U$25-T29 -> 23 | V29: =S29+T29+U29 -> 243
D30: 44 | E30: par 4 | F30: fe 5 | G30: + | H30: fe 7 | I30: 138 | J30: 121 | K30: =K$28-J30 -> 2 | L30: =I30+J30+K30 -> 261 | N30: 55 | O30: par 5 | P30: fe 6 | Q30: + | R30: gap | S30: 129 | T30: 83 | U30: =U$25-T30 -> 31 | V30: =S30+T30+U30 -> 243
D31: 45 | E31: par 4 | F31: fe 5 | G31: + | H31: fe 8 | I31: 138 | J31: 112 | K31: =K$28-J31 -> 11 | L31: =I31+J31+K31 -> 261 | N31: 56 | O31: par 5 | P31: fe 6 | Q31: + | R31: sand | S31: 129 | T31: 70 | U31: =U$25-T31 -> 44 | V31: =S31+T31+U31 -> 243
D32: 46 | E32: par 5 | F32: fe 5 | G32: + | H32: fe 9 | I32: 138 | J32: 100 | K32: =K$28-J32 -> 23 | L32: =I32+J32+K32 -> 261 | N32: 57 | O32: par 5 | P32: fe 6 | Q32: + | R32: lob | S32: 129 | T32: 62 | U32: =U$25-T32 -> 52 | V32: =S32+T32+U32 -> 243
D33: 47 | E33: par 5 | F33: fe 5 | G33: + | H33: pitch | I33: 138 | J33: 91 | K33: =K$28-J33 -> 32 | L33: =I33+J33+K33 -> 261 | O33: Lunghezza del lato di ritorno alla buca | U33: =S34-G3 -> 97 | V33: L
D34: 48 | E34: par 5 | F34: fe 5 | G34: + | H34: gap | I34: 138 | J34: 83 | K34: =K$28-J34 -> 40 | L34: =I34+J34+K34 -> 261 | N34: 64 | O34: par 4 | P34: fe 8 | Q34: + | R34: fe 9 | S34: 112 | T34: 100 | U34: =U$33-T34 -> -3 | V34: =S34+T34 -> 212
D35: 49 | E35: par 5 | F35: fe 5 | G35: + | H35: sand | I35: 138 | J35: 70 | K35: =K$28-J35 -> 53 | L35: =I35+J35+K35 -> 261 | N35: 65 | O35: par 4 | P35: fe 8 | Q35: + | R35: pitch | S35: 112 | T35: 91 | U35: =U$33-T35 -> 6 | V35: =S35+T35+U35 -> 209
D36: 50 | E36: par 5 | F36: fe 5 | G36: + | H36: lob | I36: 138 | J36: 62 | K36: =K$28-J36 -> 61 | L36: =I36+J36+K36 -> 261 | N36: 66 | O36: par 4 | P36: fe 8 | Q36: + | R36: gap | S36: 112 | T36: 83 | U36: =U$33-T36 -> 14 | V36: =S36+T36+U36 -> 209
E37: Lunghezza del lato di ritorno alla buca | K37: =I38-G3 -> 106 | L37: L | N37: 67 | O37: par 5 | P37: fe 8 | Q37: + | R37: sand | S37: 112 | T37: 70 | U37: =U$33-T37 -> 27 | V37: =S37+T37+U37 -> 209
D38: 58 | E38: par 4 | F38: fe 7 | G38: + | H38: fe 8 | I38: 121 | J38: 112 | K38: =K$37-J38 -> -6 | L38: =I38+J38 -> 233 | N38: 68 | O38: par 5 | P38: fe 8 | Q38: + | R38: lob | S38: 112 | T38: 62 | U38: =U$33-T38 -> 35 | V38: =S38+T38+U38 -> 209
D39: 59 | E39: par 4 | F39: fe 7 | G39: + | H39: fe 9 | I39: 121 | J39: 100 | K39: =K$37-J39 -> 6 | L39: =I39+J39+K39 -> 227 | O39: Lunghezza del lato di ritorno alla buca | U39: =S40-G3 -> 55 | V39: L
D40: 60 | E40: par 4 | F40: fe 7 | G40: + | H40: pitch | I40: 121 | J40: 91 | K40: =K$37-J40 -> 15 | L40: =I40+J40+K40 -> 227 | N40: 78 | O40: par 4 | P40: sand | Q40: + | R40: lob | S40: 70 | T40: 62 | U40: =U$39-T40 -> -7 | V40: =S40+T40+U40 -> 125
D41: 61 | E41: par 5 | F41: fe 7 | G41: + | H41: gap | I41: 121 | J41: 83 | K41: =K$37-J41 -> 23 | L41: =I41+J41+K41 -> 227 | N41: 79 | O41: PAR 3 | P41: Drvr | S41: 200 | V41: 200
...

Sheet SCORE
D2: rif | E2: BUCA | F2: mt. | G2: bastoni | J2: PAR | K2: D | L2: 2° | M2: 3° | N2: colpi | Y2: combinazioni
C3: CAMPO | D3: 1 | E3: 1 | F3: =VLOOKUP($D3,tabelle!$D$6:$L$110,9, FALSE) -> 393 | G3: =VLOOKUP($D3,tabelle!$D$6:$L$110,3, FALSE) -> Drvr | H3: =IF(J3=3,"","+") -> + | I3: =IF(J3=3,"",VLOOKUP($D3,tabelle!$D$6:$L$110,5,FALSE)) -> Wd 3 | J3: =RIGHT(VLOOKUP($D3,tabelle!$D$6:$L$110,2, FALSE),1)*1 -> 4 | K3: =VLOOKUP($D3,tabelle!$D$6:$L$110,6, FALSE) -> 200 | L3: =IF(J3=3,"",VLOOKUP($D3,tabelle!$D$6:$L$110,7,FALSE)) -> 193 | M3: =IF(OR(J3=3,J3=4),"",VLOOKUP($D3,tabelle!$D$6:$L$110,8,FALSE)) | N3: Score di riferimento | X3: Drvr | Y3: Driver | Z3: 200 | AA3: 190 | AB3: 180 | AC3: 170 | AD3: 160 | AE3: 150 | AF3: 140 | AG3: 130 | AH3: 120 | AI3: 110 | AJ3: 100 | AK3: =AD8 -> 103 | AL3: =AE8 -> 97 | AM3: =AF8 -> 90 | AN3: =AG8 -> 84 | AO3: =AH8 -> 77 | AP3: =AI8 -> 71 | AQ3: =AJ8 -> 65
D4: 5 | E4: 2 | F4: =VLOOKUP($D4,tabelle!$D$6:$L$110,9, FALSE) -> 385 | G4: =VLOOKUP($D4,tabelle!$D$6:$L$110,3, FALSE) -> Drvr | H4: =IF(J4=3,"","+") -> + | I4: =IF(J4=3,"",VLOOKUP($D4,tabelle!$D$6:$L$110,5,FALSE)) -> fe 6 | J4: =RIGHT(VLOOKUP($D4,tabelle!$D$6:$L$110,2, FALSE),1)*1 -> 5 | K4: =VLOOKUP($D4,tabelle!$D$6:$L$110,6, FALSE) -> 200 | L4: =IF(J4=3,"",VLOOKUP($D4,tabelle!$D$6:$L$110,7,FALSE)) -> 129 | M4: =IF(OR(J4=3,J4=4),"",VLOOKUP($D4,tabelle!$D$6:$L$110,8,FALSE)) -> 56 | X4: Wd 3 | Y4: Legno 3 | Z4: 193 | AA4: =ROUND(AA$19*$Z4,0) -> 183 | AB4: =ROUND(AB$19*$Z4,0) -> 174 | AC4: =ROUND(AC$19*$Z4,0) -> 164 | AD4: =ROUND(AD$19*$Z4,0) -> 154 | AE4: =ROUND(AE$19*$Z4,0) -> 145 | AF4: =ROUND(AF$19*$Z4,0) -> 135 | AG4: =ROUND(AG$19*$Z4,0) -> 125 | AH4: =ROUND(AH$19*$Z4,0) -> 116 | ... AJ4: =ROUND(AJ$19*$Z4,0) -> 97
D5: 9 | E5: 3 | F5: =VLOOKUP($D5,tabelle!$D$6:$L$110,9, FALSE) -> 385 | G5: =VLOOKUP($D5,tabelle!$D$6:$L$110,3, FALSE) -> Drvr | H5: =IF(J5=3,"","+") -> + | I5: =IF(J5=3,"",VLOOKUP($D5,tabelle!$D$6:$L$110,5,FALSE)) -> pitch | J5: =RIGHT(VLOOKUP($D5,tabelle!$D$6:$L$110,2, FALSE),1)*1 -> 5 | K5: =VLOOKUP($D5,tabelle!$D$6:$L$110,6, FALSE) -> 200 | L5: =IF(J5=3,"",VLOOKUP($D5,tabelle!$D$6:$L$110,7,FALSE)) -> 91 | M5: =IF(OR(J5=3,J5=4),"",VLOOKUP($D5,tabelle!$D$6:$L$110,8,FALSE)) -> 94 | X5: Wd 5 | Y5: Legno 5 | Z5: 175 | AA5: =ROUND(AA$19*$Z5,0) -> 166 | AB5: =ROUND(AB$19*$Z5,0) -> 158 | AC5: =ROUND(AC$19*$Z5,0) -> 149 | AD5: =ROUND(AD$19*$Z5,0) -> 140 | AE5: =ROUND(AE$19*$Z5,0) -> 131 | AF5: =ROUND(AF$19*$Z5,0) -> 123 | AG5: =ROUND(AG$19*$Z5,0) -> 114 | AH5: =ROUND(AH$19*$Z5,0) -> 105 | ... AJ5: =ROUND(AJ$19*$Z5,0) -> 88
D6: 13 | E6: 4 | F6: =VLOOKUP($D6,tabelle!$D$6:$L$110,9, FALSE) -> 368 | G6: =VLOOKUP($D6,tabelle!$D$6:$L$110,3, FALSE) -> Wd 3 | H6: =IF(J6=3,"","+") -> + | I6: =IF(J6=3,"",VLOOKUP($D6,tabelle!$D$6:$L$110,5,FALSE)) -> Wd 5 | J6: =RIGHT(VLOOKUP($D6,tabelle!$D$6:$L$110,2, FALSE),1)*1 -> 4 | K6: =VLOOKUP($D6,tabelle!$D$6:$L$110,6, FALSE) -> 193 | L6: =IF(J6=3,"",VLOOKUP($D6,tabelle!$D$6:$L$110,7,FALSE)) -> 175 | M6: =IF(OR(J6=3,J6=4),"",VLOOKUP($D6,tabelle!$D$6:$L$110,8,FALSE)) | X6: Wd 7 | Y6: Legno 7 | Z6: 157 | AA6: =ROUND(AA$19*$Z6,0) -> 149 | AB6: =ROUND(AB$19*$Z6,0) -> 141 | AC6: =ROUND(AC$19*$Z6,0) -> 133 | AD6: =ROUND(AD$19*$Z6,0) -> 126 | AE6: =ROUND(AE$19*$Z6,0) -> 118 | AF6: =ROUND(AF$19*$Z6,0) -> 110 | AG6: =ROUND(AG$19*$Z6,0) -> 102 | AH6: =ROUND(AH$19*$Z6,0) -> 94 | ... AJ6: =ROUND(AJ$19*$Z6,0) -> 79
D7: 22 | E7: 5 | F7: =VLOOKUP($D7,tabelle!$D$6:$L$110,9, FALSE) -> 371 | G7: =VLOOKUP($D7,tabelle!$D$6:$L$110,3, FALSE) -> Wd 3 | H7: =IF(J7=3,"","+") -> + | I7: =IF(J7=3,"",VLOOKUP($D7,tabelle!$D$6:$L$110,5,FALSE)) -> sand | J7: =RIGHT(VLOOKUP($D7,tabelle!$D$6:$L$110,2, FALSE),1)*1 -> 5 | K7: =VLOOKUP($D7,tabelle!$D$6:$L$110,6, FALSE) -> 193 | L7: =IF(J7=3,"",VLOOKUP($D7,tabelle!$D$6:$L$110,7,FALSE)) -> 70 | M7: =IF(OR(J7=3,J7=4),"",VLOOKUP($D7,tabelle!$D$6:$L$110,8,FALSE)) -> 108 | X7: fe 5 | Y7: ferro 5 | Z7: 138 | AA7: =ROUND(AA$19*$Z7,0) -> 131 | AB7: =ROUND(AB$19*$Z7,0) -> 124 | AC7: =ROUND(AC$19*$Z7,0) -> 117 | AD7: =ROUND(AD$19*$Z7,0) -> 110 | AE7: =ROUND(AE$19*$Z7,0) -> 104 | AF7: =ROUND(AF$19*$Z7,0) -> 97 | AG7: =ROUND(AG$19*$Z7,0) -> 90 | AH7: =ROUND(AH$19*$Z7,0) -> 83 | ... AJ7: =ROUND(AJ$19*$Z7,0) -> 69
D8: 78 | E8: 6 | F8: =VLOOKUP($D8,tabelle!$D$6:$L$110,9, FALSE) -> 125 | G8: =VLOOKUP($D8,tabelle!$D$6:$L$110,3, FALSE) -> sand | H8: =IF(J8=3,"","+") -> + | I8: =IF(J8=3,"",VLOOKUP($D8,tabelle!$D$6:$L$110,5,FALSE)) -> lob | J8: =RIGHT(VLOOKUP($D8,tabelle!$D$6:$L$110,2, FALSE),1)*1 -> 4 | K8: =VLOOKUP($D8,tabelle!$D$6:$L$110,6, FALSE) -> 70 | L8: =IF(J8=3,"",VLOOKUP($D8,tabelle!$D$6:$L$110,7,FALSE)) -> 62 | M8: =IF(OR(J8=3,J8=4),"",VLOOKUP($D8,tabelle!$D$6:$L$110,8,FALSE)) | X8: fe 6 | Y8: ferro 6 | Z8: 129 | AA8: =ROUND(AA$19*$Z8,0) -> 123 | AB8: =ROUND(AB$19*$Z8,0) -> 116 | AC8: =ROUND(AC$19*$Z8,0) -> 110 | AD8: =ROUND(AD$19*$Z8,0) -> 103 | AE8: =ROUND(AE$19*$Z8,0) -> 97 | AF8: =ROUND(AF$19*$Z8,0) -> 90 | AG8: =ROUND(AG$19*$Z8,0) -> 84 | AH8: =ROUND(AH$19*$Z8,0) -> 77 | ... AJ8: =ROUND(AJ$19*$Z8,0) -> 65
D9: 82 | E9: 7 | F9: =VLOOKUP($D9,tabelle!$D$6:$L$110,9, FALSE) -> 157 | G9: =VLOOKUP($D9,tabelle!$D$6:$L$110,3, FALSE) -> Wd 7 | H9: =IF(J9=3,"","+") | I9: =IF(J9=3,"",VLOOKUP($D9,tabelle!$D$6:$L$110,5,FALSE)) | J9: =RIGHT(VLOOKUP($D9,tabelle!$D$6:$L$110,2, FALSE),1)*1 -> 3 | K9: =VLOOKUP($D9,tabelle!$D$6:$L$110,6, FALSE) -> 157 | L9: =IF(J9=3,"",VLOOKUP($D9,tabelle!$D$6:$L$110,7,FALSE)) | M9: =IF(OR(J9=3,J9=4),"",VLOOKUP($D9,tabelle!$D$6:$L$110,8,FALSE)) | O9: =tabelle!G4 -> 15 | X9: fe 7 | Y9: ferro 7 | Z9: 121 | AA9: =ROUND(AA$19*$Z9,0) -> 115 | AB9: =ROUND(AB$19*$Z9,0) -> 109 | AC9: =ROUND(AC$19*$Z9,0) -> 103 | AD9: =ROUND(AD$19*$Z9,0) -> 97 | AE9: =ROUND(AE$19*$Z9,0) -> 91 | AF9: =ROUND(AF$19*$Z9,0) -> 85 | AG9: =ROUND(AG$19*$Z9,0) -> 79 | AH9: =ROUND(AH$19*$Z9,0) -> 73 | ... AJ9: =ROUND(AJ$19*$Z9,0) -> 61
D10: 84 | E10: 8 | F10: =VLOOKUP($D10,tabelle!$D$6:$L$110,9, FALSE) -> 129 | G10: =VLOOKUP($D10,tabelle!$D$6:$L$110,3, FALSE) -> fe 6 | H10: =IF(J10=3,"","+") | I10: =IF(J10=3,"",VLOOKUP($D10,tabelle!$D$6:$L$110,5,FALSE)) | J10: =RIGHT(VLOOKUP($D10,tabelle!$D$6:$L$110,2, FALSE),1)*1 -> 3 | K10: =VLOOKUP($D10,tabelle!$D$6:$L$110,6, FALSE) -> 129 | L10: =IF(J10=3,"",VLOOKUP($D10,tabelle!$D$6:$L$110,7,FALSE)) | M10: =IF(OR(J10=3,J10=4),"",VLOOKUP($D10,tabelle!$D$6:$L$110,8,FALSE)) | O10: D | X10: fe 8 | Y10: ferro 8 | Z10: 112 | AA10: =ROUND(AA$19*$Z10,0) -> 106 | AB10: =ROUND(AB$19*$Z10,0) -> 101 | AC10: =ROUND(AC$19*$Z10,0) -> 95 | AD10: =ROUND(AD$19*$Z10,0) -> 90 | AE10: =ROUND(AE$19*$Z10,0) -> 84 | AF10: =ROUND(AF$19*$Z10,0) -> 78 | AG10: =ROUND(AG$19*$Z10,0) -> 73 | AH10: =ROUND(AH$19*$Z10,0) -> 67 | ... AJ10: =ROUND(AJ$19*$Z10,0) -> 56
D11: 88 | E11: 9 | F11: =VLOOKUP($D11,tabelle!$D$6:$L$110,9, FALSE) -> 91 | G11: =VLOOKUP($D11,tabelle!$D$6:$L$110,3, FALSE) -> pitch | H11: =IF(J11=3,"","+") | I11: =IF(J11=3,"",VLOOKUP($D11,tabelle!$D$6:$L$110,5,FALSE)) | J11: =RIGHT(VLOOKUP($D11,tabelle!$D$6:$L$110,2, FALSE),1)*1 -> 3 | K11: =VLOOKUP($D11,tabelle!$D$6:$L$110,6, FALSE) -> 91 | L11: =IF(J11=3,"",VLOOKUP($D11,tabelle!$D$6:$L$110,7,FALSE)) | M11: =IF(OR(J11=3,J11=4),"",VLOOKUP($D11,tabelle!$D$6:$L$110,8,FALSE)) | O11: F | X11: fe 9 | Y11: ferro 9 | Z11: 100 | AA11: =ROUND(AA$19*$Z11,0) -> 95 | AB11: =ROUND(AB$19*$Z11,0) -> 90 | AC11: =ROUND(AC$19*$Z11,0) -> 85 | AD11: =ROUND(AD$19*$Z11,0) -> 80 | AE11: =ROUND(AE$19*$Z11,0) -> 75 | AF11: =ROUND(AF$19*$Z11,0) -> 70 | AG11: =ROUND(AG$19*$Z11,0) -> 65 | AH11: =ROUND(AH$19*$Z11,0) -> 60 | ... AJ11: =ROUND(AJ$19*$Z11,0) -> 50
X12: pitch | Y12: pitch | Z12: 91 | AA12: =ROUND(AA$19*$Z12,0) -> 86 | AB12: =ROUND(AB$19*$Z12,0) -> 82 | AC12: =ROUND(AC$19*$Z12,0) -> 77 | AD12: =ROUND(AD$19*$Z12,0) -> 73 | AE12: =ROUND(AE$19*$Z12,0) -> 68 | AF12: =ROUND(AF$19*$Z12,0) -> 64 | AG12: =ROUND(AG$19*$Z12,0) -> 59 | AH12: =ROUND(AH$19*$Z12,0) -> 55 | ... AJ12: =ROUND(AJ$19*$Z12,0) -> 46
B13: mark | C13: giocat | D13: buca | E13: mt. | F13: bastoni | G13: tee 6 | J13: PAR | K13: D | L13: 2° | M13: 3° | N13: D | X13: gap | Y13: gap | Z13: 83 | AA13: =ROUND(AA$19*$Z13,0) -> 79 | AB13: =ROUND(AB$19*$Z13,0) -> 75 | AC13: =ROUND(AC$19*$Z13,0) -> 71 | AD13: =ROUND(AD$19*$Z13,0) -> 66 | AE13: =ROUND(AE$19*$Z13,0) -> 62 | AF13: =ROUND(AF$19*$Z13,0) -> 58 | AG13: =ROUND(AG$19*$Z13,0) -> 54 | AH13: =ROUND(AH$19*$Z13,0) -> 50 | ... AJ13: =ROUND(AJ$19*$Z13,0) -> 42
D14: 1 | E14: =IF(J14=3,K14,IF(J14=4,K14+L14,IF(J14=5,K14+L14+M14))) -> 354 | F14: =IF(AND($N13="F",OR(G$3="Drvr",G$3="Wd 3",G$3="Wd 5",G$3="Wd 7",G$3="fe 5")),"fe 6",G$3) -> Drvr | G14: =IF(J14=3,K14,IF(L14+M14+O$9-K14>2,L14+M14+O$9-K14,2)) -> 9 | H14: =IF(J14=3,"","+") -> + | I14: =IF(J14=3,"",IF(AND($N13="F",OR(I$3="Drvr",I$3="Wd 3",I$3="Wd 5",I$3="Wd 7",I$3="fe 5")),"fe 6",I$3)) -> Wd 3 | J14: =J$3*1 -> 4 | K14: =IF(AND($N13="F",F14="fe 6"),N14,IF(AND($N13="D",F14="Drvr"),N14,VLOOKUP(F14,$X$3:$AJ$18,O$15,FALSE))) -> 180 | L14: =IF(I14="",0,IF(AND($N13="F",I14="fe 6"),N14,IF(AND($N13="D",I14="Drvr"),N14,VLOOKUP(I14,$X$3:$AJ$18,O$15,FALSE)))) -> 174 | M14: =IF(M$3="",0,M$3*O16) -> 0 | N14: 180 | P14: =IF(J14=3,0,(K14-O$9)-L14) -> -9 | X14: sand | Y14: sand | Z14: 70 | AA14: =ROUND(AA$19*$Z14,0) -> 67 | AB14: =ROUND(AB$19*$Z14,0) -> 63 | AC14: =ROUND(AC$19*$Z14,0) -> 60 | AD14: =ROUND(AD$19*$Z14,0) -> 56 | AE14: =ROUND(AE$19*$Z14,0) -> 53 | AF14: =ROUND(AF$19*$Z14,0) -> 49 | AG14: =ROUND(AG$19*$Z14,0) -> 46 | AH14: =ROUND(AH$19*$Z14,0) -> 42 | ... AJ14: =ROUND(AJ$19*$Z14,0) -> 35
D15: 2 | E15: =IF(J15=3,K15,IF(J15=4,K15+L15,IF(J15=5,K15+L15+M15))) -> 346.4 | F15: =IF(AND($N13="F",OR(G$4="Drvr",G$4="Wd 3",G$4="Wd 5",G$4="Wd 7",G$4="fe 5")),"fe 6",G$4) -> Drvr | G15: =IF(J15=3,K15,IF(L15+M15+O$9-K15>2,L15+M15+O$9-K15,2)) -> 2 | H15: =IF(J15=3,"","+") -> + | I15: =IF(J15=3,"",IF(AND($N13="F",OR(I$4="Drvr",I$4="Wd 3",I$4="Wd 5",I$4="Wd 7",I$4="fe 5")),"fe 6",I$4)) -> fe 6 | J15: =J$4*1 -> 5 | K15: =IF(AND($N13="F",F15="fe 6"),N14,IF(AND($N13="D",F15="Drvr"),N14,VLOOKUP(F15,$X$3:$AJ$18,O$15,FALSE))) -> 180 | L15: =IF(I15="",0,IF(AND($N13="F",I15="fe 6"),N14,IF(AND($N13="D",I15="Drvr"),N14,VLOOKUP(I15,$X$3:$AJ$18,O$15,FALSE)))) -> 116 | M15: =IF(M$4="",0,M$4*O16) -> 50.4 | N15: Machiavelli | O15: =IF(AND(N13="D",N14=Z$3),3,IF(AND(N13="D",N14=AA$3),4,IF(AND(N13="D",N14=AB$3),5,IF(AND(N13="D",N14=AC$3),6,IF(AND(N13="D",N14=AD$3),7,IF(AND(N13="D",N14=AE$3),8,IF(AND(N13="D",N14=AF$3),9,IF(AND(N13="D",N14=AG$3),10,IF(AND(N13="D",N14=AH$3),11,IF(AND(N13="D",N14=AI$3),12,IF(AND(N13="D",N14=AJ$3),13,IF(AND(N13="F",N14=Z$8),3,IF(AND(N13="F",N14=AA$8),4,IF(AND(N13="F",N14=AB$8),5,IF(AND(N13="F",N14=AC$8),6,IF(AND(N13="F",N14=AD$8),7,IF(AND(N13="F",N14=AE$8),8,IF(AND(N13="F",N14=AF$8),9,IF(AND(N13="F",N14=AG$8),10,IF(AND(N13="F",N14=AH$8),11,IF(AND(N13="F",N14=AI$8),12,IF(AND(N13="F",N14=AJ$8),13)))))))))))))))))))))) -> 5 | P15: =IF(J15=3,0,(K15-O$9)-L15) -> 49 | X15: lob | Y15: lob | Z15: 62 | AA15: =ROUND(AA$19*$Z15,0) -> 59 | AB15: =ROUND(AB$19*$Z15,0) -> 56 | AC15: =ROUND(AC$19*$Z15,0) -> 53 | AD15: =ROUND(AD$19*$Z15,0) -> 50 | AE15: =ROUND(AE$19*$Z15,0) -> 47 | AF15: =ROUND(AF$19*$Z15,0) -> 43 | AG15: =ROUND(AG$19*$Z15,0) -> 40 | AH15: =ROUND(AH$19*$Z15,0) -> 37 | ... AJ15: =ROUND(AJ$19*$Z15,0) -> 31
D16: 3 | E16: =IF(J16=3,K16,IF(J16=4,K16+L16,IF(J16=5,K16+L16+M16))) -> 346.6 | F16: =IF(AND($N13="F",OR(G$5="Drvr",G5="Wd 3",G$5="Wd 5",G$5="Wd 7",G$5="fe 5")),"fe 6",G$5) -> Drvr | G16: =IF(J16=3,K16,IF(L16+M16+O$9-K16>2,L16+M16+O$9-K16,2)) -> 2 | H16: =IF(J16=3,"","+") -> + | I16: =IF(J16=3,"",IF(AND($N13="F",OR(I$5="Drvr",I$5="Wd 3",I$5="Wd 5",I$5="Wd 7",I$5="fe 5")),"fe 6",I$5)) -> pitch | J16: =J$5*1 -> 5 | K16: =IF(AND($N13="F",F16="fe 6"),N14,IF(AND($N13="D",F16="Drvr"),N14,VLOOKUP(F16,$X$3:$AJ$18,O$15,FALSE))) -> 180 | L16: =IF(I16="",0,IF(AND($N13="F",I16="fe 6"),N14,IF(AND($N13="D",I16="Drvr"),N14,VLOOKUP(I16,$X$3:$AJ$18,O$15,FALSE)))) -> 82 | M16: =IF(M$5="",0,M$5*O16) -> 84.6 | O16: =IF(K14=200,1,IF(N13="D",HLOOKUP(N14,Z$3:AJ$19,17,FALSE),IF(N13="F",HLOOKUP(N14,Z$8:AJ$19,12,FALSE)))) -> 0.9 | P16: =IF(J16=3,0,(K16-O$9)-L16) -> 83 | X16: chip | Y16: chip | Z16: 20 | AA16: =$Z16 -> 20 | AB16: =$Z16 -> 20 | AC16: =$Z16 -> 20 | AD16: =$Z16 -> 20 | AE16: =$Z16 -> 20 | AF16: =$Z16 -> 20 | AG16: =$Z16 -> 20 | AH16: =$Z16 -> 20 | ... AJ16: =$Z16 -> 20
D17: 4 | E17: =IF(J17=3,K17,IF(J17=4,K17+L17,IF(J17=5,K17+L17+M17))) -> 332 | F17: =IF(AND($N13="F",OR(G$6="Drvr",G$6="Wd 3",G$6="Wd 5",G$6="Wd 7",G$6="fe 5")),"fe 6",G$6) -> Wd 3 | G17: =IF(J17=3,K17,IF(L17+M17+O$9-K17>2,L17+M17+O$9-K17,2)) -> 2 | H17: =IF(J17=3,"","+") -> + | I17: =IF(J17=3,"",IF(AND($N13="F",OR(I$6="Drvr",I$6="Wd 3",I$6="Wd 5",I$6="Wd 7",I$6="fe 5")),"fe 6",I$6)) -> Wd 5 | J17: =J$6*1 -> 4 | K17: =IF(AND($N13="F",F17="fe 6"),N14,IF(AND($N13="D",F17="Drvr"),N14,VLOOKUP(F17,$X$3:$AJ$18,O$15,FALSE))) -> 174 | L17: =IF(I17="",0,IF(AND($N13="F",I17="fe 6"),N14,IF(AND($N13="D",I17="Drvr"),N14,VLOOKUP(I17,$X$3:$AJ$18,O$15,FALSE)))) -> 158 | M17: =IF(M$6="",0,M$6*O16) -> 0 | O17: =MAX(O18:O19) -> 180 | P17: =IF(J17=3,0,(K17-O$9)-L17) -> 1 | X17: sand | Y17: sand | Z17: 30 | AA17: =$Z17 -> 30 | AB17: =$Z17 -> 30 | AC17: =$Z17 -> 30 | AD17: =$Z17 -> 30 | AE17: =$Z17 -> 30 | AF17: =$Z17 -> 30 | AG17: =$Z17 -> 30 | AH17: =$Z17 -> 30 | ... AJ17: =$Z17 -> 30
D18: 5 | E18: =IF(J18=3,K18,IF(J18=4,K18+L18,IF(J18=5,K18+L18+M18))) -> 334.2 | F18: =IF(AND($N13="F",OR(G$7="Drvr",G$7="Wd 3",G$7="Wd 5",G$7="Wd 7",G$7="fe 5")),"fe 6",G$7) -> Wd 3 | G18: =IF(J18=3,K18,IF(L18+M18+O$9-K18>2,L18+M18+O$9-K18,2)) -> 2 | H18: =IF(J18=3,"","+") -> + | I18: =IF(J18=3,"",IF(AND($N13="F",OR(I$7="Drvr",I$7="Wd 3",I$7="Wd 5",I$7="Wd 7",I$7="fe 5")),"fe 6",I$7)) -> sand | J18: =J$7*1 -> 5 | K18: =IF(AND($N13="F",F18="fe 6"),N14,IF(AND($N13="D",F18="Drvr"),N14,VLOOKUP(F18,$X$3:$AJ$18,O$15,FALSE))) -> 174 | L18: =IF(I18="",0,IF(AND($N13="F",I18="fe 6"),N14,IF(AND($N13="D",I18="Drvr"),N14,VLOOKUP(I18,$X$3:$AJ$18,O$15,FALSE)))) -> 63 | M18: =IF(M$7="",0,M$7*O16) -> 97.2 | O18: =IF(N13="F",0,IF(AND(N13="D",ISNA(HLOOKUP(N14,Z$3:AJ$3,1,FALSE))),888,IF(AND(N13="D",HLOOKUP(N14,Z$3:AJ$3,1,FALSE)),N14,))) -> 180 | P18: =IF(J18=3,0,(K18-O$9)-L18) -> 96 | X18: bunk | Y18: bunker | Z18: 33 | AA18: =$Z18 -> 33 | AB18: =$Z18 -> 33 | AC18: =$Z18 -> 33 | AD18: =$Z18 -> 33 | AE18: =$Z18 -> 33 | AF18: =$Z18 -> 33 | AG18: =$Z18 -> 33 | AH18: =$Z18 -> 33 | ... AJ18: =$Z18 -> 33
D19: 6 | E19: =IF(J19=3,K19,IF(J19=4,K19+L19,IF(J19=5,K19+L19+M19))) -> 119 | F19: =IF(AND($N13="F",OR(G$8="Drvr",G$8="Wd 3",G$8="Wd 5",G$8="Wd 7",G$8="fe 5")),"fe 6",G$8) -> sand | G19: =IF(J19=3,K19,IF(L19+M19+O$9-K19>2,L19+M19+O$9-K19,2)) -> 8 | H19: =IF(J19=3,"","+") -> + | I19: =IF(J19=3,"",IF(AND($N13="F",OR(I$8="Drvr",I$8="Wd 3",I$8="Wd 5",I$8="Wd 7",I$8="fe 5")),"fe 6",I$8)) -> lob | J19: =J$8*1 -> 4 | K19: =IF(AND($N13="F",F19="fe 6"),N14,IF(AND($N13="D",F19="Drvr"),N14,VLOOKUP(F19,$X$3:$AJ$18,O$15,FALSE))) -> 63 | L19: =IF(I19="",0,IF(AND($N13="F",I19="fe 6"),N14,IF(AND($N13="D",I19="Drvr"),N14,VLOOKUP(I19,$X$3:$AJ$18,O$15,FALSE)))) -> 56 | M19: =IF(M$8="",0,M$8*O16) -> 0 | O19: =IF(N13="D",0,IF(AND(N13="F",ISNA(HLOOKUP(N14,Z$8:AJ$8,1,FALSE))),999,IF(AND(N13="F",HLOOKUP(N14,Z$8:AJ$8,1,FALSE)),N14))) -> 0 | P19: =IF(J19=3,0,(K19-O$9)-L19) -> -8 | Z19: 1 | AA19: =AA3/$Z3 -> 0.95 | AB19: =AB3/$Z3 -> 0.9 | AC19: =AC3/$Z3 -> 0.85 | AD19: =AD3/$Z3 -> 0.8 | AE19: =AE3/$Z3 -> 0.75 | AF19: =AF3/$Z3 -> 0.7 | AG19: =AG3/$Z3 -> 0.65 | AH19: =AH3/$Z3 -> 0.6 | ... AJ19: =AJ3/$Z3 -> 0.5
D20: 7 | E20: =IF(J20=3,K20,IF(J20=4,K20+L20,IF(J20=5,K20+L20+M20))) -> 141 | F20: =IF(AND($N13="F",OR(G$9="Drvr",G$9="Wd 3",G$9="Wd 5",G$9="Wd 7",G$9="fe 5")),"fe 6",G$9) -> Wd 7 | G20: =IF(J20=3,K20,IF(L20+M20+O$9-K20>2,L20+M20+O$9-K20,2)) -> 141 | H20: =IF(J20=3,"","+") | I20: =IF(J20=3,"",IF(AND($N13="F",OR(I$9="Drvr",I$9="Wd 3",I$9="Wd 5",I$9="Wd 7",I$9="fe 5")),"fe 6",I$9)) | J20: =J$9*1 -> 3 | K20: =IF(AND($N13="F",F20="fe 6"),N14,IF(AND($N13="D",F20="Drvr"),N14,VLOOKUP(F20,$X$3:$AJ$18,O$15,FALSE))) -> 141 | L20: =IF(I20="",0,IF(AND($N13="F",I20="fe 6"),N14,IF(AND($N13="D",I20="Drvr"),N14,VLOOKUP(I20,$X$3:$AJ$18,O$15,FALSE)))) -> 0 | M20: =IF(M$9="",0,M$9*O16) -> 0 | P20: =IF(J20=3,0,(K20-O$9)-L20) -> 0
D21: 8 | E21: =IF(J21=3,K21,IF(J21=4,K21+L21,IF(J21=5,K21+L21+M21))) -> 116 | F21: =IF(AND($N13="F",OR(G$10="Drvr",G$10="Wd 3",G$10="Wd 5",G$10="Wd 7",G$10="fe 5")),"fe 6",G$10) -> fe 6 | G21: =IF(J21=3,K21,IF(L21+M21+O$9-K21>2,L21+M21+O$9-K21,2)) -> 116 | H21: =IF(J21=3,"","+") | I21: =IF(J21=3,"",IF(AND($N13="F",OR(I$10="Drvr",I$10="Wd 3",I$10="Wd 5",I$10="Wd 7",I$10="fe 5")),"fe 6",I$10)) | J21: =J$10*1 -> 3 | K21: =IF(AND($N13="F",F21="fe 6"),N14,IF(AND($N13="D",F21="Drvr"),N14,VLOOKUP(F21,$X$3:$AJ$18,O$15,FALSE))) -> 116 | L21: =IF(I21="",0,IF(AND($N13="F",I21="fe 6"),N14,IF(AND($N13="D",I21="Drvr"),N14,VLOOKUP(I21,$X$3:$AJ$18,O$15,FALSE)))) -> 0 | M21: =IF(M$10="",0,M$10*O16) -> 0 | P21: =IF(J21=3,0,(K21-O$9)-L21) -> 0
D22: 9 | E22: =IF(J22=3,K22,IF(J22=4,K22+L22,IF(J22=5,K22+L22+M22))) -> 82 | F22: =IF(AND($N13="F",OR(G$11="Drvr",G$11="Wd 3",G$11="Wd 5",G$11="Wd 7",G$11="fe 5")),"fe 6",G$11) -> pitch | G22: =IF(J22=3,K22,IF(L22+M22+O$9-K22>2,L22+M22+O$9-K22,2)) -> 82 | H22: =IF(J22=3,"","+") | I22: =IF(J22=3,"",IF(AND($N13="F",OR(I$11="Drvr",I$11="Wd 3",I$11="Wd 5",I$11="Wd 7",I$11="fe 5")),"fe 6",I$11)) | J22: =J$11*1 -> 3 | K22: =IF(AND($N13="F",F22="fe 6"),N14,IF(AND($N13="D",F22="Drvr"),N14,VLOOKUP(F22,$X$3:$AJ$18,O$15,FALSE))) -> 82 | L22: =IF(I22="",0,IF(AND($N13="F",I22="fe 6"),N14,IF(AND($N13="D",I22="Drvr"),N14,VLOOKUP(I22,$X$3:$AJ$18,O$15,FALSE)))) -> 0 | M22: =IF(M$11="",0,M$11*O16) -> 0 | P22: =IF(J22=3,0,(K22-O$9)-L22) -> 0
D23: TOT
B24: mark | C24: giocat | D24: buca | E24: mt. | F24: bastoni | G24: tee 6 | J24: PAR | K24: D | L24: 2° | M24: 3° | N24: F
D25: 1 | E25: =IF(J25=3,K25,IF(J25=4,K25+L25,IF(J25=5,K25+L25+M25))) -> 246 | F25: =IF(AND($N24="F",OR(G$3="Drvr",G$3="Wd 3",G$3="Wd 5",G$3="Wd 7",G$3="fe 5")),"fe 6",G$3) -> fe 6 | G25: =IF(J25=3,K25,IF(L25+M25+O$9-K25>2,L25+M25+O$9-K25,2)) -> 15 | H25: =IF(J25=3,"","+") -> + | I25: =IF(J25=3,"",IF(AND($N24="F",OR(I$3="Drvr",I$3="Wd 3",I$3="Wd 5",I$3="Wd 7",I$3="fe 5")),"fe 6",I$3)) -> fe 6 | J25: =J$3*1 -> 4 | K25: =IF(AND($N24="F",F25="fe 6"),N25,IF(AND($N24="D",F25="Drvr"),N25,VLOOKUP(F25,$X$3:$AJ$18,O$15,FALSE))) -> 123 | L25: =IF(I25="",0,IF(AND($N24="F",I25="fe 6"),N25,IF(AND($N24="D",I25="Drvr"),N25,VLOOKUP(I25,$X$3:$AJ$18,O$15,FALSE)))) -> 123 | M25: =IF(M$3="",0,M$3*O27) -> 0 | N25: 123 | P25: =IF(J25=3,0,(K25-O$9)-L25) -> -15
D26: 2 | E26: =IF(J26=3,K26,IF(J26=4,K26+L26,IF(J26=5,K26+L26+M26))) -> 299.2 | F26: =IF(AND($N24="F",OR(G$4="Drvr",G$4="Wd 3",G$4="Wd 5",G$4="Wd 7",G$4="fe 5")),"fe 6",G$4) -> fe 6 | G26: =IF(J26=3,K26,IF(L26+M26+O$9-K26>2,L26+M26+O$9-K26,2)) -> 68.2 | H26: =IF(J26=3,"","+") -> + | I26: =IF(J26=3,"",IF(AND($N24="F",OR(I$4="Drvr",I$4="Wd 3",I$4="Wd 5",I$4="Wd 7",I$4="fe 5")),"fe 6",I$4)) -> fe 6 | J26: =J$4*1 -> 5 | K26: =IF(AND($N24="F",F26="fe 6"),N25,IF(AND($N24="D",F26="Drvr"),N25,VLOOKUP(F26,$X$3:$AJ$18,O$15,FALSE))) -> 123 | L26: =IF(I26="",0,IF(AND($N24="F",I26="fe 6"),N25,IF(AND($N24="D",I26="Drvr"),N25,VLOOKUP(I26,$X$3:$AJ$18,O$15,FALSE)))) -> 123 | M26: =IF(M$4="",0,M$4*O27) -> 53.2 | N26: Alighieri | O26: =IF(AND(N24="D",N25=Z$3),3,IF(AND(N24="D",N25=AA$3),4,IF(AND(N24="D",N25=AB$3),5,IF(AND(N24="D",N25=AC$3),6,IF(AND(N24="D",N25=AD$3),7,IF(AND(N24="D",N25=AE$3),8,IF(AND(N24="D",N25=AF$3),9,IF(AND(N24="D",N25=AG$3),10,IF(AND(N24="D",N25=AH$3),11,IF(AND(N24="D",N25=AI$3),12,IF(AND(N24="D",N25=AJ$3),13,IF(AND(N24="F",N25=Z$8),3,IF(AND(N24="F",N25=AA$8),4,IF(AND(N24="F",N25=AB$8),5,IF(AND(N24="F",N25=AC$8),6,IF(AND(N24="F",N25=AD$8),7,IF(AND(N24="F",N25=AE$8),8,IF(AND(N24="F",N25=AF$8),9,IF(AND(N24="F",N25=AG$8),10,IF(AND(N24="F",N25=AH$8),11,IF(AND(N24="F",N25=AI$8),12,IF(AND(N24="F",N25=AJ$8),13)))))))))))))))))))))) -> 4 | P26: =IF(J26=3,0,(K26-O$9)-L26) -> -15
D27: 3 | E27: =IF(J27=3,K27,IF(J27=4,K27+L27,IF(J27=5,K27+L27+M27))) -> 294.3 | F27: =IF(AND($N24="F",OR(G$5="Drvr",G15="Wd 3",G$5="Wd 5",G$5="Wd 7",G$5="fe 5")),"fe 6",G$5) -> fe 6 | G27: =IF(J27=3,K27,IF(L27+M27+O$9-K27>2,L27+M27+O$9-K27,2)) -> 63.3 | H27: =IF(J27=3,"","+") -> + | I27: =IF(J27=3,"",IF(AND($N24="F",OR(I$5="Drvr",I$5="Wd 3",I$5="Wd 5",I$5="Wd 7",I$5="fe 5")),"fe 6",I$5)) -> pitch | J27: =J$5*1 -> 5 | K27: =IF(AND($N24="F",F27="fe 6"),N25,IF(AND($N24="D",F27="Drvr"),N25,VLOOKUP(F27,$X$3:$AJ$18,O$15,FALSE))) -> 123 | L27: =IF(I27="",0,IF(AND($N24="F",I27="fe 6"),N25,IF(AND($N24="D",I27="Drvr"),N25,VLOOKUP(I27,$X$3:$AJ$18,O$15,FALSE)))) -> 82 | M27: =IF(M$5="",0,M$5*O27) -> 89.3 | O27: =IF(K25=200,1,IF(N24="D",HLOOKUP(N25,Z$3:AJ$19,17,FALSE),IF(N24="F",HLOOKUP(N25,Z$8:AJ$19,12,FALSE)))) -> 0.95 | P27: =IF(J27=3,0,(K27-O$9)-L27) -> 26
D28: 4 | E28: =IF(J28=3,K28,IF(J28=4,K28+L28,IF(J28=5,K28+L28+M28))) -> 246 | F28: =IF(AND($N24="F",OR(G$6="Drvr",G$6="Wd 3",G$6="Wd 5",G$6="Wd 7",G$6="fe 5")),"fe 6",G$6) -> fe 6 | G28: =IF(J28=3,K28,IF(L28+M28+O$9-K28>2,L28+M28+O$9-K28,2)) -> 15 | H28: =IF(J28=3,"","+") -> + | I28: =IF(J28=3,"",IF(AND($N24="F",OR(I$6="Drvr",I$6="Wd 3",I$6="Wd 5",I$6="Wd 7",I$6="fe 5")),"fe 6",I$6)) -> fe 6 | J28: =J$6*1 -> 4 | K28: =IF(AND($N24="F",F28="fe 6"),N25,IF(AND($N24="D",F28="Drvr"),N25,VLOOKUP(F28,$X$3:$AJ$18,O$15,FALSE))) -> 123 | L28: =IF(I28="",0,IF(AND($N24="F",I28="fe 6"),N25,IF(AND($N24="D",I28="Drvr"),N25,VLOOKUP(I28,$X$3:$AJ$18,O$15,FALSE)))) -> 123 | M28: =IF(M$6="",0,M$6*O27) -> 0 | O28: =MAX(O29:O30) -> 123 | P28: =IF(J28=3,0,(K28-O$9)-L28) -> -15
D29: 5 | E29: =IF(J29=3,K29,IF(J29=4,K29+L29,IF(J29=5,K29+L29+M29))) -> 288.6 | F29: =IF(AND($N24="F",OR(G$7="Drvr",G$7="Wd 3",G$7="Wd 5",G$7="Wd 7",G$7="fe 5")),"fe 6",G$7) -> fe 6 | G29: =IF(J29=3,K29,IF(L29+M29+O$9-K29>2,L29+M29+O$9-K29,2)) -> 57.6 | H29: =IF(J29=3,"","+") -> + | I29: =IF(J29=3,"",IF(AND($N24="F",OR(I$7="Drvr",I$7="Wd 3",I$7="Wd 5",I$7="Wd 7",I$7="fe 5")),"fe 6",I$7)) -> sand | J29: =J$7*1 -> 5 | K29: =IF(AND($N24="F",F29="fe 6"),N25,IF(AND($N24="D",F29="Drvr"),N25,VLOOKUP(F29,$X$3:$AJ$18,O$15,FALSE))) -> 123 | L29: =IF(I29="",0,IF(AND($N24="F",I29="fe 6"),N25,IF(AND($N24="D",I29="Drvr"),N25,VLOOKUP(I29,$X$3:$AJ$18,O$15,FALSE)))) -> 63 | M29: =IF(M$7="",0,M$7*O27) -> 102.6 | O29: =IF(N24="F",0,IF(AND(N24="D",ISNA(HLOOKUP(N25,Z$3:AJ$3,1,FALSE))),888,IF(AND(N24="D",HLOOKUP(N25,Z$3:AJ$3,1,FALSE)),N25,))) -> 0 | P29: =IF(J29=3,0,(K29-O$9)-L29) -> 45
D30: 6 | E30: =IF(J30=3,K30,IF(J30=4,K30+L30,IF(J30=5,K30+L30+M30))) -> 119 | F30: =IF(AND($N24="F",OR(G$8="Drvr",G$8="Wd 3",G$8="Wd 5",G$8="Wd 7",G$8="fe 5")),"fe 6",G$8) -> sand | G30: =IF(J30=3,K30,IF(L30+M30+O$9-K30>2,L30+M30+O$9-K30,2)) -> 8 | H30: =IF(J30=3,"","+") -> + | I30: =IF(J30=3,"",IF(AND($N24="F",OR(I$8="Drvr",I$8="Wd 3",I$8="Wd 5",I$8="Wd 7",I$8="fe 5")),"fe 6",I$8)) -> lob | J30: =J$8*1 -> 4 | K30: =IF(AND($N24="F",F30="fe 6"),N25,IF(AND($N24="D",F30="Drvr"),N25,VLOOKUP(F30,$X$3:$AJ$18,O$15,FALSE))) -> 63 | L30: =IF(I30="",0,IF(AND($N24="F",I30="fe 6"),N25,IF(AND($N24="D",I30="Drvr"),N25,VLOOKUP(I30,$X$3:$AJ$18,O$15,FALSE)))) -> 56 | M30: =IF(M$8="",0,M$8*O27) -> 0 | O30: =IF(N24="D",0,IF(AND(N24="F",ISNA(HLOOKUP(N25,Z$8:AJ$8,1,FALSE))),999,IF(AND(N24="F",HLOOKUP(N25,Z$8:AJ$8,1,FALSE)),N25))) -> 123 | P30: =IF(J30=3,0,(K30-O$9)-L30) -> -8
D31: 7 | E31: =IF(J31=3,K31,IF(J31=4,K31+L31,IF(J31=5,K31+L31+M31))) -> 123 | F31: =IF(AND($N24="F",OR(G$9="Drvr",G$9="Wd 3",G$9="Wd 5",G$9="Wd 7",G$9="fe 5")),"fe 6",G$9) -> fe 6 | G31: =IF(J31=3,K31,IF(L31+M31+O$9-K31>2,L31+M31+O$9-K31,2)) -> 123 | H31: =IF(J31=3,"","+") | I31: =IF(J31=3,"",IF(AND($N24="F",OR(I$9="Drvr",I$9="Wd 3",I$9="Wd 5",I$9="Wd 7",I$9="fe 5")),"fe 6",I$9)) | J31: =J$9*1 -> 3 | K31: =IF(AND($N24="F",F31="fe 6"),N25,IF(AND($N24="D",F31="Drvr"),N25,VLOOKUP(F31,$X$3:$AJ$18,O$15,FALSE))) -> 123 | L31: =IF(I31="",0,IF(AND($N24="F",I31="fe 6"),N25,IF(AND($N24="D",I31="Drvr"),N25,VLOOKUP(I31,$X$3:$AJ$18,O$15,FALSE)))) -> 0 | M31: =IF(M$9="",0,M$9*O27) -> 0 | P31: =IF(J31=3,0,(K31-O$9)-L31) -> 0
D32: 8 | E32: =IF(J32=3,K32,IF(J32=4,K32+L32,IF(J32=5,K32+L32+M32))) -> 123 | F32: =IF(AND($N24="F",OR(G$10="Drvr",G$10="Wd 3",G$10="Wd 5",G$10="Wd 7",G$10="fe 5")),"fe 6",G$10) -> fe 6 | G32: =IF(J32=3,K32,IF(L32+M32+O$9-K32>2,L32+M32+O$9-K32,2)) -> 123 | H32: =IF(J32=3,"","+") | I32: =IF(J32=3,"",IF(AND($N24="F",OR(I$10="Drvr",I$10="Wd 3",I$10="Wd 5",I$10="Wd 7",I$10="fe 5")),"fe 6",I$10)) | J32: =J$10*1 -> 3 | K32: =IF(AND($N24="F",F32="fe 6"),N25,IF(AND($N24="D",F32="Drvr"),N25,VLOOKUP(F32,$X$3:$AJ$18,O$15,FALSE))) -> 123 | L32: =IF(I32="",0,IF(AND($N24="F",I32="fe 6"),N25,IF(AND($N24="D",I32="Drvr"),N25,VLOOKUP(I32,$X$3:$AJ$18,O$15,FALSE)))) -> 0 | M32: =IF(M$10="",0,M$10*O27) -> 0 | P32: =IF(J32=3,0,(K32-O$9)-L32) -> 0
D33: 9 | E33: =IF(J33=3,K33,IF(J33=4,K33+L33,IF(J33=5,K33+L33+M33))) -> 82 | F33: =IF(AND($N24="F",OR(G$11="Drvr",G$11="Wd 3",G$11="Wd 5",G$11="Wd 7",G$11="fe 5")),"fe 6",G$11) -> pitch | G33: =IF(J33=3,K33,IF(L33+M33+O$9-K33>2,L33+M33+O$9-K33,2)) -> 82 | H33: =IF(J33=3,"","+") | I33: =IF(J33=3,"",IF(AND($N24="F",OR(I$11="Drvr",I$11="Wd 3",I$11="Wd 5",I$11="Wd 7",I$11="fe 5")),"fe 6",I$11)) | J33: =J$11*1 -> 3 | K33: =IF(AND($N24="F",F33="fe 6"),N25,IF(AND($N24="D",F33="Drvr"),N25,VLOOKUP(F33,$X$3:$AJ$18,O$15,FALSE))) -> 82 | L33: =IF(I33="",0,IF(AND($N24="F",I33="fe 6"),N25,IF(AND($N24="D",I33="Drvr"),N25,VLOOKUP(I33,$X$3:$AJ$18,O$15,FALSE)))) -> 0 | M33: =IF(M$11="",0,M$11*O27) -> 0 | P33: =IF(J33=3,0,(K33-O$9)-L33) -> 0
B35: mark | C35: giocat | D35: buca | E35: mt. | F35: bastoni | G35: tee 6 | J35: PAR | K35: D | L35: 2° | M35: 3° | N35: F
D36: 1 | E36: =IF(J36=3,K36,IF(J36=4,K36+L36,IF(J36=5,K36+L36+M36))) -> 246 | F36: =IF(AND($N35="F",OR(G$3="Drvr",G$3="Wd 3",G$3="Wd 5",G$3="Wd 7",G$3="fe 5")),"fe 6",G$3) -> fe 6 | G36: =IF(J36=3,K36,IF(L36+M36+O$9-K36>2,L36+M36+O$9-K36,2)) -> 15 | H36: =IF(J36=3,"","+") -> + | I36: =IF(J36=3,"",IF(AND($N35="F",OR(I$3="Drvr",I$3="Wd 3",I$3="Wd 5",I$3="Wd 7",I$3="fe 5")),"fe 6",I$3)) -> fe 6 | J36: =J$3*1 -> 4 | K36: =IF(AND($N35="F",F36="fe 6"),N36,IF(AND($N35="D",F36="Drvr"),N36,VLOOKUP(F36,$X$3:$AJ$18,O$15,FALSE))) -> 123 | L36: =IF(I36="",0,IF(AND($N35="F",I36="fe 6"),N36,IF(AND($N35="D",I36="Drvr"),N36,VLOOKUP(I36,$X$3:$AJ$18,O$15,FALSE)))) -> 123 | M36: =IF(M$3="",0,M$3*O38) -> 0 | N36: 123 | P36: =IF(J36=3,0,(K36-O$9)-L36) -> -15
D37: 2 | E37: =IF(J37=3,K37,IF(J37=4,K37+L37,IF(J37=5,K37+L37+M37))) -> 299.2 | F37: =IF(AND($N35="F",OR(G$4="Drvr",G$4="Wd 3",G$4="Wd 5",G$4="Wd 7",G$4="fe 5")),"fe 6",G$4) -> fe 6 | G37: =IF(J37=3,K37,IF(L37+M37+O$9-K37>2,L37+M37+O$9-K37,2)) -> 68.2 | H37: =IF(J37=3,"","+") -> + | I37: =IF(J37=3,"",IF(AND($N35="F",OR(I$4="Drvr",I$4="Wd 3",I$4="Wd 5",I$4="Wd 7",I$4="fe 5")),"fe 6",I$4)) -> fe 6 | J37: =J$4*1 -> 5 | K37: =IF(AND($N35="F",F37="fe 6"),N36,IF(AND($N35="D",F37="Drvr"),N36,VLOOKUP(F37,$X$3:$AJ$18,O$15,FALSE))) -> 123 | L37: =IF(I37="",0,IF(AND($N35="F",I37="fe 6"),N36,IF(AND($N35="D",I37="Drvr"),N36,VLOOKUP(I37,$X$3:$AJ$18,O$15,FALSE)))) -> 123 | M37: =IF(M$4="",0,M$4*O38) -> 53.2 | N37: Petrarca | O37: =IF(AND(N35="D",N36=Z$3),3,IF(AND(N35="D",N36=AA$3),4,IF(AND(N35="D",N36=AB$3),5,IF(AND(N35="D",N36=AC$3),6,IF(AND(N35="D",N36=AD$3),7,IF(AND(N35="D",N36=AE$3),8,IF(AND(N35="D",N36=AF$3),9,IF(AND(N35="D",N36=AG$3),10,IF(AND(N35="D",N36=AH$3),11,IF(AND(N35="D",N36=AI$3),12,IF(AND(N35="D",N36=AJ$3),13,IF(AND(N35="F",N36=Z$8),3,IF(AND(N35="F",N36=AA$8),4,IF(AND(N35="F",N36=AB$8),5,IF(AND(N35="F",N36=AC$8),6,IF(AND(N35="F",N36=AD$8),7,IF(AND(N35="F",N36=AE$8),8,IF(AND(N35="F",N36=AF$8),9,IF(AND(N35="F",N36=AG$8),10,IF(AND(N35="F",N36=AH$8),11,IF(AND(N35="F",N36=AI$8),12,IF(AND(N35="F",N36=AJ$8),13)))))))))))))))))))))) -> 4 | P37: =IF(J37=3,0,(K37-O$9)-L37) -> -15
D38: 3 | E38: =IF(J38=3,K38,IF(J38=4,K38+L38,IF(J38=5,K38+L38+M38))) -> 294.3 | F38: =IF(AND($N35="F",OR(G$5="Drvr",G26="Wd 3",G$5="Wd 5",G$5="Wd 7",G$5="fe 5")),"fe 6",G$5) -> fe 6 | G38: =IF(J38=3,K38,IF(L38+M38+O$9-K38>2,L38+M38+O$9-K38,2)) -> 63.3 | H38: =IF(J38=3,"","+") -> + | I38: =IF(J38=3,"",IF(AND($N35="F",OR(I$5="Drvr",I$5="Wd 3",I$5="Wd 5",I$5="Wd 7",I$5="fe 5")),"fe 6",I$5)) -> pitch | J38: =J$5*1 -> 5 | K38: =IF(AND($N35="F",F38="fe 6"),N36,IF(AND($N35="D",F38="Drvr"),N36,VLOOKUP(F38,$X$3:$AJ$18,O$15,FALSE))) -> 123 | L38: =IF(I38="",0,IF(AND($N35="F",I38="fe 6"),N36,IF(AND($N35="D",I38="Drvr"),N36,VLOOKUP(I38,$X$3:$AJ$18,O$15,FALSE)))) -> 82 | M38: =IF(M$5="",0,M$5*O38) -> 89.3 | O38: =IF(K36=200,1,IF(N35="D",HLOOKUP(N36,Z$3:AJ$19,17,FALSE),IF(N35="F",HLOOKUP(N36,Z$8:AJ$19,12,FALSE)))) -> 0.95 | P38: =IF(J38=3,0,(K38-O$9)-L38) -> 26
D39: 4 | E39: =IF(J39=3,K39,IF(J39=4,K39+L39,IF(J39=5,K39+L39+M39))) -> 246 | F39: =IF(AND($N35="F",OR(G$6="Drvr",G$6="Wd 3",G$6="Wd 5",G$6="Wd 7",G$6="fe 5")),"fe 6",G$6) -> fe 6 | G39: =IF(J39=3,K39,IF(L39+M39+O$9-K39>2,L39+M39+O$9-K39,2)) -> 15 | H39: =IF(J39=3,"","+") -> + | I39: =IF(J39=3,"",IF(AND($N35="F",OR(I$6="Drvr",I$6="Wd 3",I$6="Wd 5",I$6="Wd 7",I$6="fe 5")),"fe 6",I$6)) -> fe 6 | J39: =J$6*1 -> 4 | K39: =IF(AND($N35="F",F39="fe 6"),N36,IF(AND($N35="D",F39="Drvr"),N36,VLOOKUP(F39,$X$3:$AJ$18,O$15,FALSE))) -> 123 | L39: =IF(I39="",0,IF(AND($N35="F",I39="fe 6"),N36,IF(AND($N35="D",I39="Drvr"),N36,VLOOKUP(I39,$X$3:$AJ$18,O$15,FALSE)))) -> 123 | M39: =IF(M$6="",0,M$6*O38) -> 0 | O39: =MAX(O40:O41) -> 123 | P39: =IF(J39=3,0,(K39-O$9)-L39) -> -15
D40: 5 | E40: =IF(J40=3,K40,IF(J40=4,K40+L40,IF(J40=5,K40+L40+M40))) -> 288.6 | F40: =IF(AND($N35="F",OR(G$7="Drvr",G$7="Wd 3",G$7="Wd 5",G$7="Wd 7",G$7="fe 5")),"fe 6",G$7) -> fe 6 | G40: =IF(J40=3,K40,IF(L40+M40+O$9-K40>2,L40+M40+O$9-K40,2)) -> 57.6 | H40: =IF(J40=3,"","+") -> + | I40: =IF(J40=3,"",IF(AND($N35="F",OR(I$7="Drvr",I$7="Wd 3",I$7="Wd 5",I$7="Wd 7",I$7="fe 5")),"fe 6",I$7)) -> sand | J40: =J$7*1 -> 5 | K40: =IF(AND($N35="F",F40="fe 6"),N36,IF(AND($N35="D",F40="Drvr"),N36,VLOOKUP(F40,$X$3:$AJ$18,O$15,FALSE))) -> 123 | L40: =IF(I40="",0,IF(AND($N35="F",I40="fe 6"),N36,IF(AND($N35="D",I40="Drvr"),N36,VLOOKUP(I40,$X$3:$AJ$18,O$15,FALSE)))) -> 63 | M40: =IF(M$7="",0,M$7*O38) -> 102.6 | O40: =IF(N35="F",0,IF(AND(N35="D",ISNA(HLOOKUP(N36,Z$3:AJ$3,1,FALSE))),888,IF(AND(N35="D",HLOOKUP(N36,Z$3:AJ$3,1,FALSE)),N36,))) -> 0 | P40: =IF(J40=3,0,(K40-O$9)-L40) -> 45
D41: 6 | E41: =IF(J41=3,K41,IF(J41=4,K41+L41,IF(J41=5,K41+L41+M41))) -> 119 | F41: =IF(AND($N35="F",OR(G$8="Drvr",G$8="Wd 3",G$8="Wd 5",G$8="Wd 7",G$8="fe 5")),"fe 6",G$8) -> sand | G41: =IF(J41=3,K41,IF(L41+M41+O$9-K41>2,L41+M41+O$9-K41,2)) -> 8 | H41: =IF(J41=3,"","+") -> + | I41: =IF(J41=3,"",IF(AND($N35="F",OR(I$8="Drvr",I$8="Wd 3",I$8="Wd 5",I$8="Wd 7",I$8="fe 5")),"fe 6",I$8)) -> lob | J41: =J$8*1 -> 4 | K41: =IF(AND($N35="F",F41="fe 6"),N36,IF(AND($N35="D",F41="Drvr"),N36,VLOOKUP(F41,$X$3:$AJ$18,O$15,FALSE))) -> 63 | L41: =IF(I41="",0,IF(AND($N35="F",I41="fe 6"),N36,IF(AND($N35="D",I41="Drvr"),N36,VLOOKUP(I41,$X$3:$AJ$18,O$15,FALSE)))) -> 56 | M41: =IF(M$8="",0,M$8*O38) -> 0 | O41: =IF(N35="D",0,IF(AND(N35="F",ISNA(HLOOKUP(N36,Z$8:AJ$8,1,FALSE))),999,IF(AND(N35="F",HLOOKUP(N36,Z$8:AJ$8,1,FALSE)),N36))) -> 123 | P41: =IF(J41=3,0,(K41-O$9)-L41) -> -8
D42: 7 | E42: =IF(J42=3,K42,IF(J42=4,K42+L42,IF(J42=5,K42+L42+M42))) -> 123 | F42: =IF(AND($N35="F",OR(G$9="Drvr",G$9="Wd 3",G$9="Wd 5",G$9="Wd 7",G$9="fe 5")),"fe 6",G$9) -> fe 6 | G42: =IF(J42=3,K42,IF(L42+M42+O$9-K42>2,L42+M42+O$9-K42,2)) -> 123 | H42: =IF(J42=3,"","+") | I42: =IF(J42=3,"",IF(AND($N35="F",OR(I$9="Drvr",I$9="Wd 3",I$9="Wd 5",I$9="Wd 7",I$9="fe 5")),"fe 6",I$9)) | J42: =J$9*1 -> 3 | K42: =IF(AND($N35="F",F42="fe 6"),N36,IF(AND($N35="D",F42="Drvr"),N36,VLOOKUP(F42,$X$3:$AJ$18,O$15,FALSE))) -> 123 | L42: =IF(I42="",0,IF(AND($N35="F",I42="fe 6"),N36,IF(AND($N35="D",I42="Drvr"),N36,VLOOKUP(I42,$X$3:$AJ$18,O$15,FALSE)))) -> 0 | M42: =IF(M$9="",0,M$9*O38) -> 0 | P42: =IF(J42=3,0,(K42-O$9)-L42) -> 0
...
