Workbook

Sheet 1° HOLES
H2: Prof | I2: CLUB'S DISTANCES
H3: Prof | I3: Scratch | N3: Golfers | AM3: D | AN3: 200 | AO3: 175 | AP3: 170 | AQ3: 145 | AR3: 140 | AS3: 100
F4: Driver | H4: 270 | I4: 230 | K4: 220 | M4: 210 | N4: 200 | O4: 195 | P4: 190 | Q4: 185 | R4: 180 | S4: 175 | U4: 170 | V4: 165 | W4: 160 | X4: 155 | Y4: 150 | Z4: 145 | AA4: 140 | AB4: 135 | AC4: 130 | AD4: 125 | AE4: 120 | AF4: 115 | AG4: 110 | AH4: 105 | AI4: 100 | AJ4: driver | AM4: 5W | AN4: 170 | AO4: 150 | AP4: 140 | AQ4: 100
F5: 3 wood/hybrid15 | H5: 240 | I5: 214 | K5: 206 | M5: 197 | N5: 193 | O5: 188 | P5: 184 | Q5: 179 | R5: 174 | S5: 169 | U5: 165 | V5: 160 | W5: 155 | X5: 150 | Y5: 146 | Z5: 141 | AA5: 136 | AB5: 131 | AC5: 127 | AD5: 122 | AE5: 117 | AF5: 112 | AG5: 107 | AH5: 102 | AI5: 98 | AJ5: 3 wood | AM5: 6 i | AN5: 50 | AP5: 50 | AT5: ± 5
F6: 5 wood | H6: 208 | I6: 194 | K6: 186 | M6: 178 | N6: 175 | O6: 171 | P6: 166 | Q6: 162 | R6: 158 | S6: 155 | U6: 150 | V6: 146 | W6: 141 | X6: 137 | Y6: 132 | Z6: 128 | AA6: 124 | AB6: 119 | AC6: 115 | AD6: 111 | AE6: 106 | AF6: 102 | AG6: 98 | AH6: 93 | AI6: 89 | AJ6: 5 wood | AM6: 4 H | AN6: 30 meters fod all distance
F7: Hyb 4 | H7: 192.5 | I7: 174 | K7: 168 | M7: 160 | N7: 157 | O7: 153 | P7: 150 | Q7: 146 | R7: 142 | S7: 139 | U7: 135 | V7: 131 | W7: 127 | X7: 123 | Y7: 119 | Z7: 115 | AA7: 113 | AB7: 109 | AC7: 105 | AD7: 100 | AE7: 96 | AF7: 92 | AG7: 88 | AH7: 84 | AI7: 80 | AJ7: 4 hybrid | AM7: 6 i | AT7: ± 5
F8: 5 iron | H8: 184 | I8: 161 | K8: 151 | M8: 143 | N8: 138 | O8: 133 | P8: 128 | Q8: 123 | R8: 120 | S8: 117 | U8: 113 | V8: 109 | W8: 105 | X8: 102 | Y8: 98 | Z8: 95 | AA8: 91 | AB8: 87 | AC8: 82 | AD8: 78 | AE8: 74 | AF8: 70 | AG8: 66 | AH8: 62 | AI8: 58 | AJ8: 5 iron | AM8: 5 i | AN8: 140 | AO8: 110 | AP8: 105 | AQ8: 90 | AR8: 85 | AS8: 60
F9: 6 iron | H9: 174 | I9: 151 | K9: 142 | M9: 133 | N9: 129 | O9: 124 | P9: 120 | Q9: 115 | R9: 113 | S9: 110 | U9: 106 | V9: 103 | W9: 99 | X9: 96 | Y9: 92 | Z9: 90 | AA9: 86 | AB9: 82 | AC9: 78 | AD9: 74 | AE9: 70 | AF9: 66 | AG9: 62 | AH9: 58 | AI9: 54 | AJ9: 6 iron | AM9: 6 i | AN9: 8 | AP9: 6 | AR9: 4 | AT9: ±2
F10: 7 iron | H10: 164 | I10: 141 | K10: 132 | M10: 126 | N10: 121 | O10: 117 | P10: 112 | Q10: 108 | R10: 106 | S10: 102 | U10: 99 | V10: 96 | W10: 93 | X10: 89 | Y10: 86 | Z10: 83 | AA10: 80 | AB10: 76 | AC10: 72 | AD10: 69 | AE10: 65 | AF10: 61 | AG10: 58 | AH10: 54 | AI10: 51 | AJ10: 7 iron
F11: 8 iron | H11: 154 | I11: 131 | K11: 123 | M11: 116 | N11: 112 | O11: 108 | P11: 104 | Q11: 100 | R11: 99 | S11: 96 | U11: 93 | V11: 89 | W11: 86 | X11: 83 | Y11: 80 | Z11: 79 | AA11: 75 | AB11: 72 | AC11: 68 | AD11: 65 | AE11: 61 | AF11: 58 | AG11: 54 | AH11: 51 | AI11: 47 | AJ11: 8 iron | AL11: =N4 -> 200 | AM11: =O4 -> 195 | AN11: =P4 -> 190 | AO11: =Q4 -> 185 | AP11: =R4 -> 180 | AQ11: =S4 -> 175 | AR11: =U4 -> 170 | AS11: =V4 -> 165 | AT11: =W4 -> 160 | AU11: =X4 -> 155 | AV11: =Y4 -> 150 | AW11: =Z4 -> 145 | AX11: =AA4 -> 140 | AY11: =AB4 -> 135 | ... BF11: =AI4 -> 100
F12: 9 iron | H12: 144 | I12: 116 | K12: 109 | M12: 104 | N12: 100 | O12: 97 | P12: 93 | Q12: 89 | R12: 88 | S12: 85 | U12: 82 | V12: 80 | W12: 77 | X12: 74 | Y12: 71 | Z12: 70 | AA12: 67 | AB12: 64 | AC12: 60 | AD12: 57 | AE12: 54 | AF12: 51 | AG12: 48 | AH12: 45 | AI12: 42 | AJ12: 9 iron | AL12: =N8 -> 138 | AM12: =O8 -> 133 | AN12: =P8 -> 128 | AO12: =Q8 -> 123 | AP12: =R8 -> 120 | AQ12: =S8 -> 117 | AR12: =U8 -> 113 | AS12: =V8 -> 109 | AT12: =W8 -> 105 | AU12: =X8 -> 102 | AV12: =Y8 -> 98 | AW12: =Z8 -> 95 | AX12: =AA8 -> 91 | AY12: =AB8 -> 87 | ... BF12: =AI8 -> 58
F13: P iron | H13: 137 | I13: 106 | K13: 99 | M13: 94 | N13: 91 | O13: 87 | P13: 84 | Q13: 81 | R13: 80 | S13: 78 | U13: 75 | V13: 73 | W13: 70 | X13: 68 | Y13: 65 | Z13: 63 | AA13: 60 | AB13: 58 | AC13: 55 | AD13: 52 | AE13: 49 | AF13: 46 | AG13: 43 | AH13: 41 | AI13: 38 | AJ13: P iron | AL13: =AL12-N9 -> 9 | AM13: =AM12-O9 -> 9 | AN13: =AN12-P9 -> 8 | AO13: =AO12-Q9 -> 8 | AP13: =AP12-R9 -> 7 | AQ13: =AQ12-S9 -> 7 | AR13: =AR12-U9 -> 7 | AS13: =AS12-V9 -> 6 | AT13: =AT12-W9 -> 6 | AU13: =AU12-X9 -> 6 | AV13: =AV12-Y9 -> 6 | AW13: =AW12-Z9 -> 5 | AX13: =AX12-AA9 -> 5 | AY13: =AY12-AB9 -> 5 | ... BF13: =BF12-AI9 -> 4
F14: G iron | H14: 128 | I14: 96 | K14: 90 | M14: 86 | N14: 83 | O14: 80 | P14: 77 | Q14: 74 | R14: 73 | S14: 70 | U14: 68 | V14: 66 | W14: 64 | X14: 61 | Y14: 59 | Z14: 58 | AA14: 56 | AB14: 53 | AC14: 50 | AD14: 48 | AE14: 45 | AF14: 42 | AG14: 40 | AH14: 37 | AI14: 35 | AJ14: G iron
F15: S iron | H15: 110 | I15: 81 | K15: 76 | M15: 72 | N15: 70 | O15: 67 | P15: 65 | Q15: 62 | R15: 63 | S15: 61 | U15: 59 | V15: 56 | W15: 54 | X15: 52 | Y15: 50 | Z15: 50 | AA15: 47 | AB15: 45 | AC15: 43 | AD15: 40 | AE15: 38 | AF15: 36 | AG15: 33 | AH15: 31 | AI15: 28 | AJ15: Sand iron
F16: L iron | H16: 85 | I16: 71 | K16: 66 | M16: 64 | N16: 62 | O16: 59 | P16: 57 | Q16: 55 | R16: 55 | S16: 54 | U16: 52 | V16: 50 | W16: 48 | X16: 47 | Y16: 45 | Z16: 43 | AA16: 41 | AB16: 39 | AC16: 37 | AD16: 35 | AE16: 33 | AF16: 31 | AG16: 29 | AH16: 27 | AI16: 25 | AJ16: Lob iron
F17: chip | H17: 40 | I17: 30 | K17: 30 | M17: 30 | N17: 28 | O17: 28 | P17: 37 | Q17: 37 | R17: 26 | S17: 26 | U17: 25 | V17: 25 | W17: 24 | X17: 24 | Y17: 23 | Z17: 23 | AA17: 20 | AB17: 20 | AC17: 20 | AD17: 20 | AE17: 18 | AF17: 18 | AG17: 15 | AH17: 15 | AI17: 15 | AJ17: chip
H18: 270 | I18: 230 | J18: 225 | K18: 220 | L18: 215 | M18: 210 | N18: 200 | O18: 195 | P18: 190 | Q18: 185 | R18: 180 | S18: 175 | U18: 170 | V18: 165 | W18: 160 | X18: 155 | Y18: 150 | Z18: 145 | AA18: 140 | AB18: 135 | AC18: 130 | AD18: 125 | AE18: 120 | AF18: 115 | AG18: 110 | AH18: 105 | AI18: 100
I25: buche | J25: 1 | K25: 2 | L25: 3 | M25: 4 | N25: 5 | O25: 6 | P25: 7 | Q25: 8 | R25: 9 | S25: tot
I26: PAR | J26: 5 | K26: 3 | L26: 5 | M26: 3 | N26: 4 | O26: 5 | P26: 4 | Q26: 4 | R26: 3 | S26: =SUM(J26:R26) -> 36
T27: 12 | U27: 13 | V27: 14 | W27: 15 | X27: 16 | Y27: 17 | Z27: 18 | AA27: 19 | AB27: 20 | AC27: 21 | AD27: 22 | AE27: 23 | AF27: 24 | AG27: 25 | AH27: 26 | AI27: 27 | AJ27: 28 | AK27: 29 | AL27: 30 | AM27: 31
V28: drive 1° GPS spot | AF28: PAR 5 2° GPS spot
I29: 2° leg | L29: 166 | S29: 2° leg | U29: 1 | V29: 2 | W29: 3 | X29: 4 | Y29: 5 | Z29: 6 | AA29: 7 | AB29: 8 | AC29: 9 | AE29: 1 | AF29: 2 | AG29: 3 | AH29: 4 | AI29: 5 | AJ29: 6 | AK29: 7 | AL29: 8 | AM29: 9
I30: DRIVE | L30: D | S30: DOG LEG | T30: D
F31: 0.95 | G31: 0.94 | H31: 0.95 | I31: 200 | J31: 452 | K31: 110 | L31: 420 | M31: 150 | N31: 321 | O31: 452 | P31: 338 | Q31: 281 | R31: 157 | S31: metri | T31: 6f | U31: =IF(J$26=3,"",J31-$I31) -> 252 | V31: =IF(K$26=3,"",K31-$I31) | W31: =IF(L$26=3,"",L31-$I31) -> 220 | X31: =IF(M$26=3,"",M31-$I31) | Y31: =IF(N$26=3,"",N31-$I31) -> 121 | Z31: =IF(O$26=3,"",O31-$I31) -> 252 | AA31: =IF(P$26=3,"",P31-$I31) -> 138 | AB31: =IF(Q$26=3,"",Q31-$I31) -> 81 | AC31: =IF(R$26=3,"",R31-$I31) | AE31: =IF(J$26<5,"",U31-$I31+10) -> 62 | AF31: =IF(K$26<5,"",V31-$I31+10) | AG31: =IF(L$26<5,"",W31-$I31+10) -> 30 | AH31: =IF(M$26<5,"",X31-$I31+10) | AI31: =IF(N$26<5,"",Y31-$I31+10) | AJ31: =IF(O$26<5,"",Z31-$I31+10) -> 62 | AK31: =IF(P$26<5,"",AA31-$I31+10) | AL31: =IF(Q$26<5,"",AB31-$I31+10) | AM31: =IF(R$26<5,"",AC31-$I31+10)
F32: 0.9 | G32: 0.89 | H32: 0.89 | I32: 190 | J32: =IF(J$26=3,J$31*$F31,IF(J$26=4,J$31*$G31,IF(J$26=5,J$31*$H31))) -> 429.4 | K32: =IF(K$26=3,K$31*$F31,IF(K$26=4,K$31*$G31,IF(K$26=5,K$31*$H31))) -> 104.5 | L32: =IF(L$26=3,L$31*$F31,IF(L$26=4,L$31*$G31,IF(L$26=5,L$31*$H31))) -> 399 | M32: =IF(M$26=3,M$31*$F31,IF(M$26=4,M$31*$G31,IF(M$26=5,M$31*$H31))) -> 142.5 | N32: =IF(N$26=3,N$31*$F31,IF(N$26=4,N$31*$G31,IF(N$26=5,N$31*$H31))) -> 301.74 | O32: =IF(O$26=3,O$31*$F31,IF(O$26=4,O$31*$G31,IF(O$26=5,O$31*$H31))) -> 429.4 | P32: =IF(P$26=3,P$31*$F31,IF(P$26=4,P$31*$G31,IF(P$26=5,P$31*$H31))) -> 317.72 | Q32: =IF(Q$26=3,Q$31*$F31,IF(Q$26=4,Q$31*$G31,IF(Q$26=5,Q$31*$H31))) -> 264.14 | R32: =IF(R$26=3,R$31*$F31,IF(R$26=4,R$31*$G31,IF(R$26=5,R$31*$H31))) -> 149.15 | U32: =IF(J$26=3,"",J32-$I32) -> 239.4 | V32: =IF(K$26=3,"",K32-$I32) | W32: =IF(L$26=3,"",L32-$I32) -> 209 | X32: =IF(M$26=3,"",M32-$I32) | Y32: =IF(N$26=3,"",N32-$I32) -> 111.74 | Z32: =IF(O$26=3,"",O32-$I32) -> 239.4 | AA32: =IF(P$26=3,"",P32-$I32) -> 127.72 | AB32: =IF(Q$26=3,"",Q32-$I32) -> 74.14 | AC32: =IF(R$26=3,"",R32-$I32) | AE32: =IF(J$26<5,"",U32-$I32+10) -> 59.4 | AF32: =IF(K$26<5,"",V32-$I32+10) | AG32: =IF(L$26<5,"",W32-$I32+10) -> 29 | AH32: =IF(M$26<5,"",X32-$I32+10) | AI32: =IF(N$26<5,"",Y32-$I32+10) | AJ32: =IF(O$26<5,"",Z32-$I32+10) -> 59.4 | AK32: =IF(P$26<5,"",AA32-$I32+10) | AL32: =IF(Q$26<5,"",AB32-$I32+10) | AM32: =IF(R$26<5,"",AC32-$I32+10)
F33: 0.85 | G33: 0.84 | H33: 0.84 | I33: 180 | J33: =IF(J$26=3,J$31*$F32,IF(J$26=4,J$31*$G32,IF(J$26=5,J$31*$H32))) -> 402.28 | K33: =IF(K$26=3,K$31*$F32,IF(K$26=4,K$31*$G32,IF(K$26=5,K$31*$H32))) -> 99 | L33: =IF(L$26=3,L$31*$F32,IF(L$26=4,L$31*$G32,IF(L$26=5,L$31*$H32))) -> 373.8 | M33: =IF(M$26=3,M$31*$F32,IF(M$26=4,M$31*$G32,IF(M$26=5,M$31*$H32))) -> 135 | N33: =IF(N$26=3,N$31*$F32,IF(N$26=4,N$31*$G32,IF(N$26=5,N$31*$H32))) -> 285.69 | O33: =IF(O$26=3,O$31*$F32,IF(O$26=4,O$31*$G32,IF(O$26=5,O$31*$H32))) -> 402.28 | P33: =IF(P$26=3,P$31*$F32,IF(P$26=4,P$31*$G32,IF(P$26=5,P$31*$H32))) -> 300.82 | Q33: =IF(Q$26=3,Q$31*$F32,IF(Q$26=4,Q$31*$G32,IF(Q$26=5,Q$31*$H32))) -> 250.09 | R33: =IF(R$26=3,R$31*$F32,IF(R$26=4,R$31*$G32,IF(R$26=5,R$31*$H32))) -> 141.3 | U33: =IF(J$26=3,"",J33-$I33) -> 222.28 | V33: =IF(K$26=3,"",K33-$I33) | W33: =IF(L$26=3,"",L33-$I33) -> 193.8 | X33: =IF(M$26=3,"",M33-$I33) | Y33: =IF(N$26=3,"",N33-$I33) -> 105.69 | Z33: =IF(O$26=3,"",O33-$I33) -> 222.28 | AA33: =IF(P$26=3,"",P33-$I33) -> 120.82 | AB33: =IF(Q$26=3,"",Q33-$I33) -> 70.09 | AC33: =IF(R$26=3,"",R33-$I33) | AE33: =IF(J$26<5,"",U33-$I33+10) -> 52.28 | AF33: =IF(K$26<5,"",V33-$I33+10) | AG33: =IF(L$26<5,"",W33-$I33+10) -> 23.8 | AH33: =IF(M$26<5,"",X33-$I33+10) | AI33: =IF(N$26<5,"",Y33-$I33+10) | AJ33: =IF(O$26<5,"",Z33-$I33+10) -> 52.28 | AK33: =IF(P$26<5,"",AA33-$I33+10) | AL33: =IF(Q$26<5,"",AB33-$I33+10) | AM33: =IF(R$26<5,"",AC33-$I33+10)
F34: 0.8 | G34: 0.78 | H34: 0.79 | I34: 170 | J34: =IF(J$26=3,J$31*$F33,IF(J$26=4,J$31*$G33,IF(J$26=5,J$31*$H33))) -> 379.68 | K34: =IF(K$26=3,K$31*$F33,IF(K$26=4,K$31*$G33,IF(K$26=5,K$31*$H33))) -> 93.5 | L34: =IF(L$26=3,L$31*$F33,IF(L$26=4,L$31*$G33,IF(L$26=5,L$31*$H33))) -> 352.8 | M34: =IF(M$26=3,M$31*$F33,IF(M$26=4,M$31*$G33,IF(M$26=5,M$31*$H33))) -> 127.5 | N34: =IF(N$26=3,N$31*$F33,IF(N$26=4,N$31*$G33,IF(N$26=5,N$31*$H33))) -> 269.64 | O34: =IF(O$26=3,O$31*$F33,IF(O$26=4,O$31*$G33,IF(O$26=5,O$31*$H33))) -> 379.68 | P34: =IF(P$26=3,P$31*$F33,IF(P$26=4,P$31*$G33,IF(P$26=5,P$31*$H33))) -> 283.92 | Q34: =IF(Q$26=3,Q$31*$F33,IF(Q$26=4,Q$31*$G33,IF(Q$26=5,Q$31*$H33))) -> 236.04 | R34: =IF(R$26=3,R$31*$F33,IF(R$26=4,R$31*$G33,IF(R$26=5,R$31*$H33))) -> 133.45 | U34: =IF(J$26=3,"",J34-$I34) -> 209.68 | V34: =IF(K$26=3,"",K34-$I34) | W34: =IF(L$26=3,"",L34-$I34) -> 182.8 | X34: =IF(M$26=3,"",M34-$I34) | Y34: =IF(N$26=3,"",N34-$I34) -> 99.64 | Z34: =IF(O$26=3,"",O34-$I34) -> 209.68 | AA34: =IF(P$26=3,"",P34-$I34) -> 113.92 | AB34: =IF(Q$26=3,"",Q34-$I34) -> 66.04 | AC34: =IF(R$26=3,"",R34-$I34) | AE34: =IF(J$26<5,"",U34-$I34+10) -> 49.68 | AF34: =IF(K$26<5,"",V34-$I34+10) | AG34: =IF(L$26<5,"",W34-$I34+10) -> 22.8 | AH34: =IF(M$26<5,"",X34-$I34+10) | AI34: =IF(N$26<5,"",Y34-$I34+10) | AJ34: =IF(O$26<5,"",Z34-$I34+10) -> 49.68 | AK34: =IF(P$26<5,"",AA34-$I34+10) | AL34: =IF(Q$26<5,"",AB34-$I34+10) | AM34: =IF(R$26<5,"",AC34-$I34+10)
F35: 0.76 | G35: 0.73 | H35: 0.74 | I35: 160 | J35: =IF(J$26=3,J$31*$F34,IF(J$26=4,J$31*$G34,IF(J$26=5,J$31*$H34))) -> 357.08 | K35: =IF(K$26=3,K$31*$F34,IF(K$26=4,K$31*$G34,IF(K$26=5,K$31*$H34))) -> 88 | L35: =IF(L$26=3,L$31*$F34,IF(L$26=4,L$31*$G34,IF(L$26=5,L$31*$H34))) -> 331.8 | M35: =IF(M$26=3,M$31*$F34,IF(M$26=4,M$31*$G34,IF(M$26=5,M$31*$H34))) -> 120 | N35: =IF(N$26=3,N$31*$F34,IF(N$26=4,N$31*$G34,IF(N$26=5,N$31*$H34))) -> 250.38 | O35: =IF(O$26=3,O$31*$F34,IF(O$26=4,O$31*$G34,IF(O$26=5,O$31*$H34))) -> 357.08 | P35: =IF(P$26=3,P$31*$F34,IF(P$26=4,P$31*$G34,IF(P$26=5,P$31*$H34))) -> 263.64 | Q35: =IF(Q$26=3,Q$31*$F34,IF(Q$26=4,Q$31*$G34,IF(Q$26=5,Q$31*$H34))) -> 219.18 | R35: =IF(R$26=3,R$31*$F34,IF(R$26=4,R$31*$G34,IF(R$26=5,R$31*$H34))) -> 125.6 | U35: =IF(J$26=3,"",J35-$I35) -> 197.08 | V35: =IF(K$26=3,"",K35-$I35) | W35: =IF(L$26=3,"",L35-$I35) -> 171.8 | X35: =IF(M$26=3,"",M35-$I35) | Y35: =IF(N$26=3,"",N35-$I35) -> 90.38 | Z35: =IF(O$26=3,"",O35-$I35) -> 197.08 | AA35: =IF(P$26=3,"",P35-$I35) -> 103.64 | AB35: =IF(Q$26=3,"",Q35-$I35) -> 59.18 | AC35: =IF(R$26=3,"",R35-$I35) | AE35: =IF(J$26<5,"",U35-$I35+10) -> 47.08 | AF35: =IF(K$26<5,"",V35-$I35+10) | AG35: =IF(L$26<5,"",W35-$I35+10) -> 21.8 | AH35: =IF(M$26<5,"",X35-$I35+10) | AI35: =IF(N$26<5,"",Y35-$I35+10) | AJ35: =IF(O$26<5,"",Z35-$I35+10) -> 47.08 | AK35: =IF(P$26<5,"",AA35-$I35+10) | AL35: =IF(Q$26<5,"",AB35-$I35+10) | AM35: =IF(R$26<5,"",AC35-$I35+10)
F36: 0.7 | G36: 0.68 | H36: 0.69 | I36: 150 | J36: =IF(J$26=3,J$31*$F35,IF(J$26=4,J$31*$G35,IF(J$26=5,J$31*$H35))) -> 334.48 | K36: =IF(K$26=3,K$31*$F35,IF(K$26=4,K$31*$G35,IF(K$26=5,K$31*$H35))) -> 83.6 | L36: =IF(L$26=3,L$31*$F35,IF(L$26=4,L$31*$G35,IF(L$26=5,L$31*$H35))) -> 310.8 | M36: =IF(M$26=3,M$31*$F35,IF(M$26=4,M$31*$G35,IF(M$26=5,M$31*$H35))) -> 114 | N36: =IF(N$26=3,N$31*$F35,IF(N$26=4,N$31*$G35,IF(N$26=5,N$31*$H35))) -> 234.33 | O36: =IF(O$26=3,O$31*$F35,IF(O$26=4,O$31*$G35,IF(O$26=5,O$31*$H35))) -> 334.48 | P36: =IF(P$26=3,P$31*$F35,IF(P$26=4,P$31*$G35,IF(P$26=5,P$31*$H35))) -> 246.74 | Q36: =IF(Q$26=3,Q$31*$F35,IF(Q$26=4,Q$31*$G35,IF(Q$26=5,Q$31*$H35))) -> 205.13 | R36: =IF(R$26=3,R$31*$F35,IF(R$26=4,R$31*$G35,IF(R$26=5,R$31*$H35))) -> 119.32 | U36: =IF(J$26=3,"",J36-$I36) -> 184.48 | V36: =IF(K$26=3,"",K36-$I36) | W36: =IF(L$26=3,"",L36-$I36) -> 160.8 | X36: =IF(M$26=3,"",M36-$I36) | Y36: =IF(N$26=3,"",N36-$I36) -> 84.33 | Z36: =IF(O$26=3,"",O36-$I36) -> 184.48 | AA36: =IF(P$26=3,"",P36-$I36) -> 96.74 | AB36: =IF(Q$26=3,"",Q36-$I36) -> 55.13 | AC36: =IF(R$26=3,"",R36-$I36) | AE36: =IF(J$26<5,"",U36-$I36+10) -> 44.48 | AF36: =IF(K$26<5,"",V36-$I36+10) | AG36: =IF(L$26<5,"",W36-$I36+10) -> 20.8 | AH36: =IF(M$26<5,"",X36-$I36+10) | AI36: =IF(N$26<5,"",Y36-$I36+10) | AJ36: =IF(O$26<5,"",Z36-$I36+10) -> 44.48 | AK36: =IF(P$26<5,"",AA36-$I36+10) | AL36: =IF(Q$26<5,"",AB36-$I36+10) | AM36: =IF(R$26<5,"",AC36-$I36+10)
F37: 0.66 | G37: 0.63 | H37: 0.64 | I37: 140 | J37: =IF(J$26=3,J$31*$F36,IF(J$26=4,J$31*$G36,IF(J$26=5,J$31*$H36))) -> 311.88 | K37: =IF(K$26=3,K$31*$F36,IF(K$26=4,K$31*$G36,IF(K$26=5,K$31*$H36))) -> 77 | L37: =IF(L$26=3,L$31*$F36,IF(L$26=4,L$31*$G36,IF(L$26=5,L$31*$H36))) -> 289.8 | M37: =IF(M$26=3,M$31*$F36,IF(M$26=4,M$31*$G36,IF(M$26=5,M$31*$H36))) -> 105 | N37: =IF(N$26=3,N$31*$F36,IF(N$26=4,N$31*$G36,IF(N$26=5,N$31*$H36))) -> 218.28 | O37: =IF(O$26=3,O$31*$F36,IF(O$26=4,O$31*$G36,IF(O$26=5,O$31*$H36))) -> 311.88 | P37: =IF(P$26=3,P$31*$F36,IF(P$26=4,P$31*$G36,IF(P$26=5,P$31*$H36))) -> 229.84 | Q37: =IF(Q$26=3,Q$31*$F36,IF(Q$26=4,Q$31*$G36,IF(Q$26=5,Q$31*$H36))) -> 191.08 | R37: =IF(R$26=3,R$31*$F36,IF(R$26=4,R$31*$G36,IF(R$26=5,R$31*$H36))) -> 109.9 | U37: =IF(J$26=3,"",J37-$I37) -> 171.88 | V37: =IF(K$26=3,"",K37-$I37) | W37: =IF(L$26=3,"",L37-$I37) -> 149.8 | X37: =IF(M$26=3,"",M37-$I37) | Y37: =IF(N$26=3,"",N37-$I37) -> 78.28 | Z37: =IF(O$26=3,"",O37-$I37) -> 171.88 | AA37: =IF(P$26=3,"",P37-$I37) -> 89.84 | AB37: =IF(Q$26=3,"",Q37-$I37) -> 51.08 | AC37: =IF(R$26=3,"",R37-$I37) | AE37: =IF(J$26<5,"",U37-$I37+10) -> 41.88 | AF37: =IF(K$26<5,"",V37-$I37+10) | AG37: =IF(L$26<5,"",W37-$I37+10) -> 19.8 | AH37: =IF(M$26<5,"",X37-$I37+10) | AI37: =IF(N$26<5,"",Y37-$I37+10) | AJ37: =IF(O$26<5,"",Z37-$I37+10) -> 41.88 | AK37: =IF(P$26<5,"",AA37-$I37+10) | AL37: =IF(Q$26<5,"",AB37-$I37+10) | AM37: =IF(R$26<5,"",AC37-$I37+10)
F38: 0.61 | G38: 0.57 | H38: 0.59 | I38: 130 | J38: =IF(J$26=3,J$31*$F37,IF(J$26=4,J$31*$G37,IF(J$26=5,J$31*$H37))) -> 289.28 | K38: =IF(K$26=3,K$31*$F37,IF(K$26=4,K$31*$G37,IF(K$26=5,K$31*$H37))) -> 72.6 | L38: =IF(L$26=3,L$31*$F37,IF(L$26=4,L$31*$G37,IF(L$26=5,L$31*$H37))) -> 268.8 | M38: =IF(M$26=3,M$31*$F37,IF(M$26=4,M$31*$G37,IF(M$26=5,M$31*$H37))) -> 99 | N38: =IF(N$26=3,N$31*$F37,IF(N$26=4,N$31*$G37,IF(N$26=5,N$31*$H37))) -> 202.23 | O38: =IF(O$26=3,O$31*$F37,IF(O$26=4,O$31*$G37,IF(O$26=5,O$31*$H37))) -> 289.28 | P38: =IF(P$26=3,P$31*$F37,IF(P$26=4,P$31*$G37,IF(P$26=5,P$31*$H37))) -> 212.94 | Q38: =IF(Q$26=3,Q$31*$F37,IF(Q$26=4,Q$31*$G37,IF(Q$26=5,Q$31*$H37))) -> 177.03 | R38: =IF(R$26=3,R$31*$F37,IF(R$26=4,R$31*$G37,IF(R$26=5,R$31*$H37))) -> 103.62 | U38: =IF(J$26=3,"",J38-$I38) -> 159.28 | V38: =IF(K$26=3,"",K38-$I38) | W38: =IF(L$26=3,"",L38-$I38) -> 138.8 | X38: =IF(M$26=3,"",M38-$I38) | Y38: =IF(N$26=3,"",N38-$I38) -> 72.23 | Z38: =IF(O$26=3,"",O38-$I38) -> 159.28 | AA38: =IF(P$26=3,"",P38-$I38) -> 82.94 | AB38: =IF(Q$26=3,"",Q38-$I38) -> 47.03 | AC38: =IF(R$26=3,"",R38-$I38) | AE38: =IF(J$26<5,"",U38-$I38+10) -> 39.28 | AF38: =IF(K$26<5,"",V38-$I38+10) | AG38: =IF(L$26<5,"",W38-$I38+10) -> 18.8 | AH38: =IF(M$26<5,"",X38-$I38+10) | AI38: =IF(N$26<5,"",Y38-$I38+10) | AJ38: =IF(O$26<5,"",Z38-$I38+10) -> 39.28 | AK38: =IF(P$26<5,"",AA38-$I38+10) | AL38: =IF(Q$26<5,"",AB38-$I38+10) | AM38: =IF(R$26<5,"",AC38-$I38+10)
F39: 0.55 | G39: 0.52 | H39: 0.54 | I39: 120 | J39: =IF(J$26=3,J$31*$F38,IF(J$26=4,J$31*$G38,IF(J$26=5,J$31*$H38))) -> 266.68 | K39: =IF(K$26=3,K$31*$F38,IF(K$26=4,K$31*$G38,IF(K$26=5,K$31*$H38))) -> 67.1 | L39: =IF(L$26=3,L$31*$F38,IF(L$26=4,L$31*$G38,IF(L$26=5,L$31*$H38))) -> 247.8 | M39: =IF(M$26=3,M$31*$F38,IF(M$26=4,M$31*$G38,IF(M$26=5,M$31*$H38))) -> 91.5 | N39: =IF(N$26=3,N$31*$F38,IF(N$26=4,N$31*$G38,IF(N$26=5,N$31*$H38))) -> 182.97 | O39: =IF(O$26=3,O$31*$F38,IF(O$26=4,O$31*$G38,IF(O$26=5,O$31*$H38))) -> 266.68 | P39: =IF(P$26=3,P$31*$F38,IF(P$26=4,P$31*$G38,IF(P$26=5,P$31*$H38))) -> 192.66 | Q39: =IF(Q$26=3,Q$31*$F38,IF(Q$26=4,Q$31*$G38,IF(Q$26=5,Q$31*$H38))) -> 160.17 | R39: =IF(R$26=3,R$31*$F38,IF(R$26=4,R$31*$G38,IF(R$26=5,R$31*$H38))) -> 95.77 | U39: =IF(J$26=3,"",J39-$I39) -> 146.68 | V39: =IF(K$26=3,"",K39-$I39) | W39: =IF(L$26=3,"",L39-$I39) -> 127.8 | X39: =IF(M$26=3,"",M39-$I39) | Y39: =IF(N$26=3,"",N39-$I39) -> 62.97 | Z39: =IF(O$26=3,"",O39-$I39) -> 146.68 | AA39: =IF(P$26=3,"",P39-$I39) -> 72.66 | AB39: =IF(Q$26=3,"",Q39-$I39) -> 40.17 | AC39: =IF(R$26=3,"",R39-$I39) | AE39: =IF(J$26<5,"",U39-$I39+10) -> 36.68 | AF39: =IF(K$26<5,"",V39-$I39+10) | AG39: =IF(L$26<5,"",W39-$I39+10) -> 17.8 | AH39: =IF(M$26<5,"",X39-$I39+10) | AI39: =IF(N$26<5,"",Y39-$I39+10) | AJ39: =IF(O$26<5,"",Z39-$I39+10) -> 36.68 | AK39: =IF(P$26<5,"",AA39-$I39+10) | AL39: =IF(Q$26<5,"",AB39-$I39+10) | AM39: =IF(R$26<5,"",AC39-$I39+10)
F40: 0.51 | G40: 0.47 | H40: 0.48 | I40: 110 | J40: =IF(J$26=3,J$31*$F39,IF(J$26=4,J$31*$G39,IF(J$26=5,J$31*$H39))) -> 244.08 | K40: =IF(K$26=3,K$31*$F39,IF(K$26=4,K$31*$G39,IF(K$26=5,K$31*$H39))) -> 60.5 | L40: =IF(L$26=3,L$31*$F39,IF(L$26=4,L$31*$G39,IF(L$26=5,L$31*$H39))) -> 226.8 | M40: =IF(M$26=3,M$31*$F39,IF(M$26=4,M$31*$G39,IF(M$26=5,M$31*$H39))) -> 82.5 | N40: =IF(N$26=3,N$31*$F39,IF(N$26=4,N$31*$G39,IF(N$26=5,N$31*$H39))) -> 166.92 | O40: =IF(O$26=3,O$31*$F39,IF(O$26=4,O$31*$G39,IF(O$26=5,O$31*$H39))) -> 244.08 | P40: =IF(P$26=3,P$31*$F39,IF(P$26=4,P$31*$G39,IF(P$26=5,P$31*$H39))) -> 175.76 | Q40: =IF(Q$26=3,Q$31*$F39,IF(Q$26=4,Q$31*$G39,IF(Q$26=5,Q$31*$H39))) -> 146.12 | R40: =IF(R$26=3,R$31*$F39,IF(R$26=4,R$31*$G39,IF(R$26=5,R$31*$H39))) -> 86.35 | U40: =IF(J$26=3,"",J40-$I40) -> 134.08 | V40: =IF(K$26=3,"",K40-$I40) | W40: =IF(L$26=3,"",L40-$I40) -> 116.8 | X40: =IF(M$26=3,"",M40-$I40) | Y40: =IF(N$26=3,"",N40-$I40) -> 56.92 | Z40: =IF(O$26=3,"",O40-$I40) -> 134.08 | AA40: =IF(P$26=3,"",P40-$I40) -> 65.76 | AB40: =IF(Q$26=3,"",Q40-$I40) -> 36.12 | AC40: =IF(R$26=3,"",R40-$I40) | AE40: =IF(J$26<5,"",U40-$I40+10) -> 34.08 | AF40: =IF(K$26<5,"",V40-$I40+10) | AG40: =IF(L$26<5,"",W40-$I40+10) -> 16.8 | AH40: =IF(M$26<5,"",X40-$I40+10) | AI40: =IF(N$26<5,"",Y40-$I40+10) | AJ40: =IF(O$26<5,"",Z40-$I40+10) -> 34.08 | AK40: =IF(P$26<5,"",AA40-$I40+10) | AL40: =IF(Q$26<5,"",AB40-$I40+10) | AM40: =IF(R$26<5,"",AC40-$I40+10)
I41: 100 | J41: =IF(J$26=3,J$31*$F40,IF(J$26=4,J$31*$G40,IF(J$26=5,J$31*$H40))) -> 216.96 | K41: =IF(K$26=3,K$31*$F40,IF(K$26=4,K$31*$G40,IF(K$26=5,K$31*$H40))) -> 56.1 | L41: =IF(L$26=3,L$31*$F40,IF(L$26=4,L$31*$G40,IF(L$26=5,L$31*$H40))) -> 201.6 | M41: =IF(M$26=3,M$31*$F40,IF(M$26=4,M$31*$G40,IF(M$26=5,M$31*$H40))) -> 76.5 | N41: =IF(N$26=3,N$31*$F40,IF(N$26=4,N$31*$G40,IF(N$26=5,N$31*$H40))) -> 150.87 | O41: =IF(O$26=3,O$31*$F40,IF(O$26=4,O$31*$G40,IF(O$26=5,O$31*$H40))) -> 216.96 | P41: =IF(P$26=3,P$31*$F40,IF(P$26=4,P$31*$G40,IF(P$26=5,P$31*$H40))) -> 158.86 | Q41: =IF(Q$26=3,Q$31*$F40,IF(Q$26=4,Q$31*$G40,IF(Q$26=5,Q$31*$H40))) -> 132.07 | R41: =IF(R$26=3,R$31*$F40,IF(R$26=4,R$31*$G40,IF(R$26=5,R$31*$H40))) -> 80.07 | U41: =IF(J$26=3,"",J41-$I41) -> 116.96 | V41: =IF(K$26=3,"",K41-$I41) | W41: =IF(L$26=3,"",L41-$I41) -> 101.6 | X41: =IF(M$26=3,"",M41-$I41) | Y41: =IF(N$26=3,"",N41-$I41) -> 50.87 | Z41: =IF(O$26=3,"",O41-$I41) -> 116.96 | AA41: =IF(P$26=3,"",P41-$I41) -> 58.86 | AB41: =IF(Q$26=3,"",Q41-$I41) -> 32.07 | AC41: =IF(R$26=3,"",R41-$I41) | AE41: =IF(J$26<5,"",U41-$I41+10) -> 26.96 | AF41: =IF(K$26<5,"",V41-$I41+10) | AG41: =IF(L$26<5,"",W41-$I41+10) -> 11.6 | AH41: =IF(M$26<5,"",X41-$I41+10) | AI41: =IF(N$26<5,"",Y41-$I41+10) | AJ41: =IF(O$26<5,"",Z41-$I41+10) -> 26.96 | AK41: =IF(P$26<5,"",AA41-$I41+10) | AL41: =IF(Q$26<5,"",AB41-$I41+10) | AM41: =IF(R$26<5,"",AC41-$I41+10)
F43: 0.86 | G43: 0.7788162 | H43: 0.70132743 | I43: 6 iron | U43: =IF(J$32=3,"",J45-$AZ44) -> 294 | V43: =IF(K$32=3,"",K45-$AZ44) -> 102 | W43: =IF(L$32=3,"",L45-$AZ44) -> 276 | X43: =IF(M$32=3,"",M45-$AZ44) -> 120 | Y43: =IF(N$32=3,"",N45-$AZ44) -> 232 | Z43: =IF(O$32=3,"",O45-$AZ44) -> 294 | AA43: =IF(P$32=3,"",P45-$AZ44) -> 240 | AB43: =IF(Q$32=3,"",Q45-$AZ44) -> 195 | AC43: =IF(R$32=3,"",R45-$AZ44) -> 120 | AE43: =IF(J$32<5,"",J45-$AZ44-$AZ44+10) -> 304 | AF43: =IF(K$32<5,"",K45-$AZ44-$AZ44+10) -> 112 | AG43: =IF(L$32<5,"",L45-$AZ44-$AZ44+10) -> 286 | AH43: =IF(M$32<5,"",M45-$AZ44-$AZ44+10) -> 130 | AI43: =IF(N$32<5,"",N45-$AZ44-$AZ44+10) -> 242 | AJ43: =IF(O$32<5,"",O45-$AZ44-$AZ44+10) -> 304 | AK43: =IF(P$32<5,"",P45-$AZ44-$AZ44+10) -> 250 | AL43: =IF(Q$32<5,"",Q45-$AZ44-$AZ44+10) -> 205 | AM43: =IF(R$32<5,"",R45-$AZ44-$AZ44+10) -> 130
F44: 0.8 | G44: 0.72274143 | H44: 0.65044248 | I44: 129 | J44: =IF(J$26=3,J$31*$F43,IF(J$26=4,J$31*$G43,IF(J$26=5,J$31*$H43))) -> 317 | K44: 110 | L44: 285 | M44: 129 | N44: 250 | O44: 317 | P44: 258 | Q44: 210 | R44: 129 | U44: =IF(J$32=3,"",J46-$AZ45) -> 278 | V44: =IF(K$32=3,"",K46-$AZ45) -> 97 | W44: =IF(L$32=3,"",L46-$AZ45) -> 251 | X44: =IF(M$32=3,"",M46-$AZ45) -> 113 | Y44: =IF(N$32=3,"",N46-$AZ45) -> 219 | Z44: =IF(O$32=3,"",O46-$AZ45) -> 278 | AA44: =IF(P$32=3,"",P46-$AZ45) -> 226 | AB44: =IF(Q$32=3,"",Q46-$AZ45) -> 184 | AC44: =IF(R$32=3,"",R46-$AZ45) -> 113 | AE44: =IF(J$32<5,"",J46-$AZ45-$AZ45+10) -> 288 | AF44: =IF(K$32<5,"",K46-$AZ45-$AZ45+10) -> 107 | AG44: =IF(L$32<5,"",L46-$AZ45-$AZ45+10) -> 261 | AH44: =IF(M$32<5,"",M46-$AZ45-$AZ45+10) -> 123 | AI44: =IF(N$32<5,"",N46-$AZ45-$AZ45+10) -> 229 | AJ44: =IF(O$32<5,"",O46-$AZ45-$AZ45+10) -> 288 | AK44: =IF(P$32<5,"",P46-$AZ45-$AZ45+10) -> 236 | AL44: =IF(Q$32<5,"",Q46-$AZ45-$AZ45+10) -> 194 | AM44: =IF(R$32<5,"",R46-$AZ45-$AZ45+10) -> 123
F45: 0.75333333 | G45: 0.68224299 | H45: 0.61504425 | I45: 120 | J45: 294 | K45: 102 | L45: 276 | M45: 120 | N45: 232 | O45: 294 | P45: 240 | Q45: 195 | R45: 120 | U45: =IF(J$32=3,"",J47-$AZ46) -> 261 | V45: =IF(K$32=3,"",K47-$AZ46) -> 91 | W45: =IF(L$32=3,"",L47-$AZ46) -> 236 | X45: =IF(M$32=3,"",M47-$AZ46) -> 106 | Y45: =IF(N$32=3,"",N47-$AZ46) -> 205 | Z45: =IF(O$32=3,"",O47-$AZ46) -> 261 | AA45: =IF(P$32=3,"",P47-$AZ46) -> 212 | AB45: =IF(Q$32=3,"",Q47-$AZ46) -> 172 | AC45: =IF(R$32=3,"",R47-$AZ46) -> 106 | AE45: =IF(J$32<5,"",J47-$AZ46-$AZ46+10) -> 271 | AF45: =IF(K$32<5,"",K47-$AZ46-$AZ46+10) -> 101 | AG45: =IF(L$32<5,"",L47-$AZ46-$AZ46+10) -> 246 | AH45: =IF(M$32<5,"",M47-$AZ46-$AZ46+10) -> 116 | AI45: =IF(N$32<5,"",N47-$AZ46-$AZ46+10) -> 215 | AJ45: =IF(O$32<5,"",O47-$AZ46-$AZ46+10) -> 271 | AK45: =IF(P$32<5,"",P47-$AZ46-$AZ46+10) -> 222 | AL45: =IF(Q$32<5,"",Q47-$AZ46-$AZ46+10) -> 182 | AM45: =IF(R$32<5,"",R47-$AZ46-$AZ46+10) -> 116
F46: 0.70666667 | G46: 0.63862928 | H46: 0.57743363 | I46: 113 | J46: 278 | K46: 97 | L46: 251 | M46: 113 | N46: 219 | O46: 278 | P46: 226 | Q46: 184 | R46: 113 | U46: =IF(J$32=3,"",J48-$AZ47) -> 244 | V46: =IF(K$32=3,"",K48-$AZ47) -> 84 | W46: =IF(L$32=3,"",L48-$AZ47) -> 221 | X46: =IF(M$32=3,"",M48-$AZ47) -> 99 | Y46: =IF(N$32=3,"",N48-$AZ47) -> 192 | Z46: =IF(O$32=3,"",O48-$AZ47) -> 244 | AA46: =IF(P$32=3,"",P48-$AZ47) -> 198 | AB46: =IF(Q$32=3,"",Q48-$AZ47) -> 161 | AC46: =IF(R$32=3,"",R48-$AZ47) -> 99 | AE46: =IF(J$32<5,"",J48-$AZ47-$AZ47+10) -> 254 | AF46: =IF(K$32<5,"",K48-$AZ47-$AZ47+10) -> 94 | AG46: =IF(L$32<5,"",L48-$AZ47-$AZ47+10) -> 231 | AH46: =IF(M$32<5,"",M48-$AZ47-$AZ47+10) -> 109 | AI46: =IF(N$32<5,"",N48-$AZ47-$AZ47+10) -> 202 | AJ46: =IF(O$32<5,"",O48-$AZ47-$AZ47+10) -> 254 | AK46: =IF(P$32<5,"",P48-$AZ47-$AZ47+10) -> 208 | AL46: =IF(Q$32<5,"",Q48-$AZ47-$AZ47+10) -> 171 | AM46: =IF(R$32<5,"",R48-$AZ47-$AZ47+10) -> 109
F47: 0.66 | G47: 0.59813084 | H47: 0.53982301 | I47: 106 | J47: 261 | K47: 91 | L47: 236 | M47: 106 | N47: 205 | O47: 261 | P47: 212 | Q47: 172 | R47: 106 | U47: =IF(J$32=3,"",J49-$AZ48) -> 227 | V47: =IF(K$32=3,"",K49-$AZ48) -> 79 | W47: =IF(L$32=3,"",L49-$AZ48) -> 206 | X47: =IF(M$32=3,"",M49-$AZ48) -> 92 | Y47: =IF(N$32=3,"",N49-$AZ48) -> 178 | Z47: =IF(O$32=3,"",O49-$AZ48) -> 227 | AA47: =IF(P$32=3,"",P49-$AZ48) -> 184 | AB47: =IF(Q$32=3,"",Q49-$AZ48) -> 150 | AC47: =IF(R$32=3,"",R49-$AZ48) -> 92 | AE47: =IF(J$32<5,"",J49-$AZ48-$AZ48+10) -> 237 | AF47: =IF(K$32<5,"",K49-$AZ48-$AZ48+10) -> 89 | AG47: =IF(L$32<5,"",L49-$AZ48-$AZ48+10) -> 216 | AH47: =IF(M$32<5,"",M49-$AZ48-$AZ48+10) -> 102 | AI47: =IF(N$32<5,"",N49-$AZ48-$AZ48+10) -> 188 | AJ47: =IF(O$32<5,"",O49-$AZ48-$AZ48+10) -> 237 | AK47: =IF(P$32<5,"",P49-$AZ48-$AZ48+10) -> 194 | AL47: =IF(Q$32<5,"",Q49-$AZ48-$AZ48+10) -> 160 | AM47: =IF(R$32<5,"",R49-$AZ48-$AZ48+10) -> 102
F48: 0.61333333 | G48: 0.55451713 | H48: 0.50221239 | I48: 99 | J48: 244 | K48: 84 | L48: 221 | M48: 99 | N48: 192 | O48: 244 | P48: 198 | Q48: 161 | R48: 99 | U48: =IF(J$32=3,"",J50-$AZ49) -> 211 | V48: =IF(K$32=3,"",K50-$AZ49) -> 74 | W48: =IF(L$32=3,"",L50-$AZ49) -> 191 | X48: =IF(M$32=3,"",M50-$AZ49) -> 86 | Y48: =IF(N$32=3,"",N50-$AZ49) -> 166 | Z48: =IF(O$32=3,"",O50-$AZ49) -> 211 | AA48: =IF(P$32=3,"",P50-$AZ49) -> 172 | AB48: =IF(Q$32=3,"",Q50-$AZ49) -> 141 | AC48: =IF(R$32=3,"",R50-$AZ49) -> 86 | AE48: =IF(J$32<5,"",J50-$AZ49-$AZ49+10) -> 221 | AF48: =IF(K$32<5,"",K50-$AZ49-$AZ49+10) -> 84 | AG48: =IF(L$32<5,"",L50-$AZ49-$AZ49+10) -> 201 | AH48: =IF(M$32<5,"",M50-$AZ49-$AZ49+10) -> 96 | AI48: =IF(N$32<5,"",N50-$AZ49-$AZ49+10) -> 176 | AJ48: =IF(O$32<5,"",O50-$AZ49-$AZ49+10) -> 221 | AK48: =IF(P$32<5,"",P50-$AZ49-$AZ49+10) -> 182 | AL48: =IF(Q$32<5,"",Q50-$AZ49-$AZ49+10) -> 151 | AM48: =IF(R$32<5,"",R50-$AZ49-$AZ49+10) -> 96
...

Sheet 2° stampa score
C1: 2 | D1: 3 | E1: 4 | F1: 5 | G1: 6 | H1: 7 | I1: 8 | J1: 9 | K1: 10 | L1: 11
B2: allotted play times | C2: 0.011805556 | D2: 0.0076388889 | E2: 0.011111111 | F2: 0.0083333333 | G2: 0.0097222222 | H2: 0.011805556 | I2: 0.010416667 | J2: 0.0090277778 | K2: 0.0090277778 | L2: =SUM(C2:K2) -> 0.088888889 | M2: tot | Z2: convalida dati
B3: tempi di gioco > | C3: =IF(C10=3,$O$5,IF(C10=4,$P$5,IF(C10=5,$Q$5))) -> 0.011805556 | D3: =IF(D10=3,$O$5,IF(D10=4,$P$5,IF(D10=5,$Q$5))) -> 0.0083333333 | E3: =IF(E10=3,$O$5,IF(E10=4,$P$5,IF(E10=5,$Q$5))) -> 0.011805556 | F3: =IF(F10=3,$O$5,IF(F10=4,$P$5,IF(F10=5,$Q$5))) -> 0.0083333333 | G3: =IF(G10=3,$O$5,IF(G10=4,$P$5,IF(G10=5,$Q$5))) -> 0.0097222222 | H3: =IF(H10=3,$O$5,IF(H10=4,$P$5,IF(H10=5,$Q$5))) -> 0.011805556 | I3: =IF(I10=3,$O$5,IF(I10=4,$P$5,IF(I10=5,$Q$5))) -> 0.0097222222 | J3: =IF(J10=3,$O$5,IF(J10=4,$P$5,IF(J10=5,$Q$5))) -> 0.0097222222 | K3: =IF(K10=3,$O$5,IF(K10=4,$P$5,IF(K10=5,$Q$5))) -> 0.0083333333 | L3: =SUM(C3:K3) -> 0.089583333 | M3: tot | Z3: D
B4: HOLE start time | C4: 0.42013889 | D4: =C4+C3 -> 0.43194444 | E4: =D4+D3 -> 0.44027778 | F4: =E4+E3 -> 0.45208333 | G4: =F4+F3 -> 0.46041667 | H4: =G4+G3 -> 0.47013889 | I4: =H4+H3 -> 0.48194444 | J4: =I4+I3 -> 0.49166667 | K4: =J4+J3 -> 0.50138889 | L4: =K4+K3 -> 0.50972222 | Z4: 3W
B5: play time - sec. | C5: =IF(C10=3,CONCATENATE(C10*40,"/",40),IF(C10=4,CONCATENATE(C10*40,"/",40),IF(C10=5,CONCATENATE(C10*40,"/",40)))) -> 200/40 | D5: =IF(D10=3,CONCATENATE(D10*40,"/",40),IF(D10=4,CONCATENATE(D10*40,"/",40),IF(D10=5,CONCATENATE(D10*40,"/",40)))) -> 120/40 | E5: =IF(E10=3,CONCATENATE(E10*40,"/",40),IF(E10=4,CONCATENATE(E10*40,"/",40),IF(E10=5,CONCATENATE(E10*40,"/",40)))) -> 200/40 | F5: =IF(F10=3,CONCATENATE(F10*40,"/",40),IF(F10=4,CONCATENATE(F10*40,"/",40),IF(F10=5,CONCATENATE(F10*40,"/",40)))) -> 120/40 | G5: =IF(G10=3,CONCATENATE(G10*40,"/",40),IF(G10=4,CONCATENATE(G10*40,"/",40),IF(G10=5,CONCATENATE(G10*40,"/",40)))) -> 160/40 | H5: =IF(H10=3,CONCATENATE(H10*40,"/",40),IF(H10=4,CONCATENATE(H10*40,"/",40),IF(H10=5,CONCATENATE(H10*40,"/",40)))) -> 200/40 | I5: =IF(I10=3,CONCATENATE(I10*40,"/",40),IF(I10=4,CONCATENATE(I10*40,"/",40),IF(I10=5,CONCATENATE(I10*40,"/",40)))) -> 160/40 | J5: =IF(J10=3,CONCATENATE(J10*40,"/",40),IF(J10=4,CONCATENATE(J10*40,"/",40),IF(J10=5,CONCATENATE(J10*40,"/",40)))) -> 160/40 | K5: =IF(K10=3,CONCATENATE(K10*40,"/",40),IF(K10=4,CONCATENATE(K10*40,"/",40),IF(K10=5,CONCATENATE(K10*40,"/",40)))) -> 120/40 | O5: 0.0083333333 | P5: 0.0097222222 | Q5: 0.011805556
B6: BUCA | C6: 1 | D6: 2 | E6: 3 | F6: 4 | G6: 5 | H6: 6 | I6: 7 | J6: 8 | K6: 9
B7: Tee GPS | C7: =IF(AND(HLOOKUP(C$6,'1° HOLES'!$I$25:$R$30,6,FALSE)="D",C10=4),$L12+C11,IF(AND(HLOOKUP(C$6,'1° HOLES'!$I$25:$R$30,6,FALSE)="D",C10=5),$L12+C11+C12,VLOOKUP($L12,'1° HOLES'!$I$31:$R$41,C$1,FALSE))) -> 357.08 | D7: =IF(AND(HLOOKUP(D$6,'1° HOLES'!$I$25:$R$30,6,FALSE)="D",D10=4),$L12+D11,IF(AND(HLOOKUP(D$6,'1° HOLES'!$I$25:$R$30,6,FALSE)="D",D10=5),$L12+D11+D12,VLOOKUP($L12,'1° HOLES'!$I$31:$R$41,D$1,FALSE))) -> 88 | E7: =IF(AND(HLOOKUP(E$6,'1° HOLES'!$I$25:$R$30,6,FALSE)="D",E10=4),$L12+E11,IF(AND(HLOOKUP(E$6,'1° HOLES'!$I$25:$R$30,6,FALSE)="D",E10=5),$L12+E11+E12,VLOOKUP($L12,'1° HOLES'!$I$31:$R$41,E$1,FALSE))) -> 326 | F7: =IF(AND(HLOOKUP(F$6,'1° HOLES'!$I$25:$R$30,6,FALSE)="D",F10=4),$L12+F11,IF(AND(HLOOKUP(F$6,'1° HOLES'!$I$25:$R$30,6,FALSE)="D",F10=5),$L12+F11+F12,VLOOKUP($L12,'1° HOLES'!$I$31:$R$41,F$1,FALSE))) -> 120 | G7: =IF(AND(HLOOKUP(G$6,'1° HOLES'!$I$25:$R$30,6,FALSE)="D",G10=4),$L12+G11,IF(AND(HLOOKUP(G$6,'1° HOLES'!$I$25:$R$30,6,FALSE)="D",G10=5),$L12+G11+G12,VLOOKUP($L12,'1° HOLES'!$I$31:$R$41,G$1,FALSE))) -> 250.38 | H7: =IF(AND(HLOOKUP(H$6,'1° HOLES'!$I$25:$R$30,6,FALSE)="D",H10=4),$L12+H11,IF(AND(HLOOKUP(H$6,'1° HOLES'!$I$25:$R$30,6,FALSE)="D",H10=5),$L12+H11+H12,VLOOKUP($L12,'1° HOLES'!$I$31:$R$41,H$1,FALSE))) -> 357.08 | I7: =IF(AND(HLOOKUP(I$6,'1° HOLES'!$I$25:$R$30,6,FALSE)="D",I10=4),$L12+I11,IF(AND(HLOOKUP(I$6,'1° HOLES'!$I$25:$R$30,6,FALSE)="D",I10=5),$L12+I11+I12,VLOOKUP($L12,'1° HOLES'!$I$31:$R$41,I$1,FALSE))) -> 263.64 | J7: =IF(AND(HLOOKUP(J$6,'1° HOLES'!$I$25:$R$30,6,FALSE)="D",J10=4),$L12+J11,IF(AND(HLOOKUP(J$6,'1° HOLES'!$I$25:$R$30,6,FALSE)="D",J10=5),$L12+J11+J12,VLOOKUP($L12,'1° HOLES'!$I$31:$R$41,J$1,FALSE))) -> 219.18 | K7: =IF(AND(HLOOKUP(K$6,'1° HOLES'!$I$25:$R$30,6,FALSE)="D",K10=4),$L12+K11,IF(AND(HLOOKUP(K$6,'1° HOLES'!$I$25:$R$30,6,FALSE)="D",K10=5),$L12+K11+K12,VLOOKUP($L12,'1° HOLES'!$I$31:$R$41,K$1,FALSE))) -> 125.6 | Z7: Driver
B8: TEE GPS dog-leg | C8: =IF(HLOOKUP(C$6,'1° HOLES'!$I$25:$R$30,6,FALSE)="","",CONCATENATE("T"," ",$L12)) | D8: =IF(HLOOKUP(D$6,'1° HOLES'!$I$25:$R$30,6,FALSE)="","",CONCATENATE("T"," ",$L12)) | E8: =IF(HLOOKUP(E$6,'1° HOLES'!$I$25:$R$30,6,FALSE)="","",CONCATENATE("T"," ",$L12)) -> T 160 | F8: =IF(HLOOKUP(F$6,'1° HOLES'!$I$25:$R$30,6,FALSE)="","",CONCATENATE("T"," ",$L12)) | G8: =IF(HLOOKUP(G$6,'1° HOLES'!$I$25:$R$30,6,FALSE)="","",CONCATENATE("T"," ",$L12)) | H8: =IF(HLOOKUP(H$6,'1° HOLES'!$I$25:$R$30,6,FALSE)="","",CONCATENATE("T"," ",$L12)) | I8: =IF(HLOOKUP(I$6,'1° HOLES'!$I$25:$R$30,6,FALSE)="","",CONCATENATE("T"," ",$L12)) | J8: =IF(HLOOKUP(J$6,'1° HOLES'!$I$25:$R$30,6,FALSE)="","",CONCATENATE("T"," ",$L12)) | K8: =IF(HLOOKUP(K$6,'1° HOLES'!$I$25:$R$30,6,FALSE)="","",CONCATENATE("T"," ",$L12)) | Z8: 200
B9: F.D. clearance | Z9: 190
B10: =CONCATENATE("PAR ",SUM(C10:K10)) -> PAR 36 | C10: =IF(HLOOKUP(C$6,'1° HOLES'!$I$25:$R$30,6,FALSE)="",'1° HOLES'!J$26,IF(AND(ISNUMBER(HLOOKUP(C$6,'1° HOLES'!$I$25:$R$30,5,FALSE)),HLOOKUP(C$6,'1° HOLES'!$I$25:$R$30,5,FALSE)>$L12-10),5,4)) -> 5 | D10: =IF(HLOOKUP(D$6,'1° HOLES'!$I$25:$R$30,6,FALSE)="",'1° HOLES'!K$26,IF(AND(ISNUMBER(HLOOKUP(D$6,'1° HOLES'!$I$25:$R$30,5,FALSE)),HLOOKUP(D$6,'1° HOLES'!$I$25:$R$30,5,FALSE)>$L12-10),5,4)) -> 3 | E10: =IF(HLOOKUP(E$6,'1° HOLES'!$I$25:$R$30,6,FALSE)="",'1° HOLES'!L$26,IF(AND(ISNUMBER(HLOOKUP(E$6,'1° HOLES'!$I$25:$R$30,5,FALSE)),HLOOKUP(E$6,'1° HOLES'!$I$25:$R$30,5,FALSE)>$L12-10),5,4)) -> 5 | F10: =IF(HLOOKUP(F$6,'1° HOLES'!$I$25:$R$30,6,FALSE)="",'1° HOLES'!M$26,IF(AND(ISNUMBER(HLOOKUP(F$6,'1° HOLES'!$I$25:$R$30,5,FALSE)),HLOOKUP(F$6,'1° HOLES'!$I$25:$R$30,5,FALSE)>$L12-10),5,4)) -> 3 | G10: =IF(HLOOKUP(G$6,'1° HOLES'!$I$25:$R$30,6,FALSE)="",'1° HOLES'!N$26,IF(AND(ISNUMBER(HLOOKUP(G$6,'1° HOLES'!$I$25:$R$30,5,FALSE)),HLOOKUP(G$6,'1° HOLES'!$I$25:$R$30,5,FALSE)>$L12-10),5,4)) -> 4 | H10: =IF(HLOOKUP(H$6,'1° HOLES'!$I$25:$R$30,6,FALSE)="",'1° HOLES'!O$26,IF(AND(ISNUMBER(HLOOKUP(H$6,'1° HOLES'!$I$25:$R$30,5,FALSE)),HLOOKUP(H$6,'1° HOLES'!$I$25:$R$30,5,FALSE)>$L12-10),5,4)) -> 5 | I10: =IF(HLOOKUP(I$6,'1° HOLES'!$I$25:$R$30,6,FALSE)="",'1° HOLES'!P$26,IF(AND(ISNUMBER(HLOOKUP(I$6,'1° HOLES'!$I$25:$R$30,5,FALSE)),HLOOKUP(I$6,'1° HOLES'!$I$25:$R$30,5,FALSE)>$L12-10),5,4)) -> 4 | J10: =IF(HLOOKUP(J$6,'1° HOLES'!$I$25:$R$30,6,FALSE)="",'1° HOLES'!Q$26,IF(AND(ISNUMBER(HLOOKUP(J$6,'1° HOLES'!$I$25:$R$30,5,FALSE)),HLOOKUP(J$6,'1° HOLES'!$I$25:$R$30,5,FALSE)>$L12-10),5,4)) -> 4 | K10: =IF(HLOOKUP(K$6,'1° HOLES'!$I$25:$R$30,6,FALSE)="",'1° HOLES'!R$26,IF(AND(ISNUMBER(HLOOKUP(K$6,'1° HOLES'!$I$25:$R$30,5,FALSE)),HLOOKUP(K$6,'1° HOLES'!$I$25:$R$30,5,FALSE)>$L12-10),5,4)) -> 3 | Z10: 180
B11: D & 1° spot | C11: =IF(C10=3,"",IF(HLOOKUP(C$6,'1° HOLES'!$I$25:$R$30,6,FALSE)="",VLOOKUP($L12,'1° HOLES'!$I$30:$AM$41,C$1+11,FALSE)*1,IF(AND(ISNUMBER(HLOOKUP(C$6,'1° HOLES'!$I$25:$R$30,5,FALSE)),HLOOKUP(C$6,'1° HOLES'!$I$25:$R$30,5,FALSE)>$L12-10),$L12-10,IF(AND(ISNUMBER(HLOOKUP(C$6,'1° HOLES'!$I$25:$R$30,5,FALSE)),HLOOKUP(C$6,'1° HOLES'!$I$25:$R$30,5,FALSE)<=$L12-10),HLOOKUP(C$6,'1° HOLES'!$I$25:$R$30,5,FALSE))))) -> 197.08 | D11: =IF(D10=3,"",IF(HLOOKUP(D$6,'1° HOLES'!$I$25:$R$30,6,FALSE)="",VLOOKUP($L12,'1° HOLES'!$I$30:$AM$41,D$1+11,FALSE)*1,IF(AND(ISNUMBER(HLOOKUP(D$6,'1° HOLES'!$I$25:$R$30,5,FALSE)),HLOOKUP(D$6,'1° HOLES'!$I$25:$R$30,5,FALSE)>$L12-10),$L12-10,IF(AND(ISNUMBER(HLOOKUP(D$6,'1° HOLES'!$I$25:$R$30,5,FALSE)),HLOOKUP(D$6,'1° HOLES'!$I$25:$R$30,5,FALSE)<=$L12-10),HLOOKUP(D$6,'1° HOLES'!$I$25:$R$30,5,FALSE))))) | E11: =IF(E10=3,"",IF(HLOOKUP(E$6,'1° HOLES'!$I$25:$R$30,6,FALSE)="",VLOOKUP($L12,'1° HOLES'!$I$30:$AM$41,E$1+11,FALSE)*1,IF(AND(ISNUMBER(HLOOKUP(E$6,'1° HOLES'!$I$25:$R$30,5,FALSE)),HLOOKUP(E$6,'1° HOLES'!$I$25:$R$30,5,FALSE)>$L12-10),$L12-10,IF(AND(ISNUMBER(HLOOKUP(E$6,'1° HOLES'!$I$25:$R$30,5,FALSE)),HLOOKUP(E$6,'1° HOLES'!$I$25:$R$30,5,FALSE)<=$L12-10),HLOOKUP(E$6,'1° HOLES'!$I$25:$R$30,5,FALSE))))) -> 150 | F11: =IF(F10=3,"",IF(HLOOKUP(F$6,'1° HOLES'!$I$25:$R$30,6,FALSE)="",VLOOKUP($L12,'1° HOLES'!$I$30:$AM$41,F$1+11,FALSE)*1,IF(AND(ISNUMBER(HLOOKUP(F$6,'1° HOLES'!$I$25:$R$30,5,FALSE)),HLOOKUP(F$6,'1° HOLES'!$I$25:$R$30,5,FALSE)>$L12-10),$L12-10,IF(AND(ISNUMBER(HLOOKUP(F$6,'1° HOLES'!$I$25:$R$30,5,FALSE)),HLOOKUP(F$6,'1° HOLES'!$I$25:$R$30,5,FALSE)<=$L12-10),HLOOKUP(F$6,'1° HOLES'!$I$25:$R$30,5,FALSE))))) | G11: =IF(G10=3,"",IF(HLOOKUP(G$6,'1° HOLES'!$I$25:$R$30,6,FALSE)="",VLOOKUP($L12,'1° HOLES'!$I$30:$AM$41,G$1+11,FALSE)*1,IF(AND(ISNUMBER(HLOOKUP(G$6,'1° HOLES'!$I$25:$R$30,5,FALSE)),HLOOKUP(G$6,'1° HOLES'!$I$25:$R$30,5,FALSE)>$L12-10),$L12-10,IF(AND(ISNUMBER(HLOOKUP(G$6,'1° HOLES'!$I$25:$R$30,5,FALSE)),HLOOKUP(G$6,'1° HOLES'!$I$25:$R$30,5,FALSE)<=$L12-10),HLOOKUP(G$6,'1° HOLES'!$I$25:$R$30,5,FALSE))))) -> 90.38 | H11: =IF(H10=3,"",IF(HLOOKUP(H$6,'1° HOLES'!$I$25:$R$30,6,FALSE)="",VLOOKUP($L12,'1° HOLES'!$I$30:$AM$41,H$1+11,FALSE)*1,IF(AND(ISNUMBER(HLOOKUP(H$6,'1° HOLES'!$I$25:$R$30,5,FALSE)),HLOOKUP(H$6,'1° HOLES'!$I$25:$R$30,5,FALSE)>$L12-10),$L12-10,IF(AND(ISNUMBER(HLOOKUP(H$6,'1° HOLES'!$I$25:$R$30,5,FALSE)),HLOOKUP(H$6,'1° HOLES'!$I$25:$R$30,5,FALSE)<=$L12-10),HLOOKUP(H$6,'1° HOLES'!$I$25:$R$30,5,FALSE))))) -> 197.08 | I11: =IF(I10=3,"",IF(HLOOKUP(I$6,'1° HOLES'!$I$25:$R$30,6,FALSE)="",VLOOKUP($L12,'1° HOLES'!$I$30:$AM$41,I$1+11,FALSE)*1,IF(AND(ISNUMBER(HLOOKUP(I$6,'1° HOLES'!$I$25:$R$30,5,FALSE)),HLOOKUP(I$6,'1° HOLES'!$I$25:$R$30,5,FALSE)>$L12-10),$L12-10,IF(AND(ISNUMBER(HLOOKUP(I$6,'1° HOLES'!$I$25:$R$30,5,FALSE)),HLOOKUP(I$6,'1° HOLES'!$I$25:$R$30,5,FALSE)<=$L12-10),HLOOKUP(I$6,'1° HOLES'!$I$25:$R$30,5,FALSE))))) -> 103.64 | J11: =IF(J10=3,"",IF(HLOOKUP(J$6,'1° HOLES'!$I$25:$R$30,6,FALSE)="",VLOOKUP($L12,'1° HOLES'!$I$30:$AM$41,J$1+11,FALSE)*1,IF(AND(ISNUMBER(HLOOKUP(J$6,'1° HOLES'!$I$25:$R$30,5,FALSE)),HLOOKUP(J$6,'1° HOLES'!$I$25:$R$30,5,FALSE)>$L12-10),$L12-10,IF(AND(ISNUMBER(HLOOKUP(J$6,'1° HOLES'!$I$25:$R$30,5,FALSE)),HLOOKUP(J$6,'1° HOLES'!$I$25:$R$30,5,FALSE)<=$L12-10),HLOOKUP(J$6,'1° HOLES'!$I$25:$R$30,5,FALSE))))) -> 59.18 | K11: =IF(K10=3,"",IF(HLOOKUP(K$6,'1° HOLES'!$I$25:$R$30,6,FALSE)="",VLOOKUP($L12,'1° HOLES'!$I$30:$AM$41,K$1+11,FALSE)*1,IF(AND(ISNUMBER(HLOOKUP(K$6,'1° HOLES'!$I$25:$R$30,5,FALSE)),HLOOKUP(K$6,'1° HOLES'!$I$25:$R$30,5,FALSE)>$L12-10),$L12-10,IF(AND(ISNUMBER(HLOOKUP(K$6,'1° HOLES'!$I$25:$R$30,5,FALSE)),HLOOKUP(K$6,'1° HOLES'!$I$25:$R$30,5,FALSE)<=$L12-10),HLOOKUP(K$6,'1° HOLES'!$I$25:$R$30,5,FALSE))))) | L11: D | Z11: 170
B12: Approach club/dist | C12: =IF(AND(C10=4,ISNUMBER(HLOOKUP(C$6,'1° HOLES'!$I$25:$R$30,5,FALSE))),"",IF(AND(C10=5,ISNUMBER(HLOOKUP(C$6,'1° HOLES'!$I$25:$R$30,5,FALSE))),HLOOKUP(C$6,'1° HOLES'!$I$25:$R$30,5,FALSE)-$L12+10,VLOOKUP($L12,'1° HOLES'!$I$30:$AM$41,C$1+21,FALSE))) -> 47.08 | D12: =IF(AND(D10=4,ISNUMBER(HLOOKUP(D$6,'1° HOLES'!$I$25:$R$30,5,FALSE))),"",IF(AND(D10=5,ISNUMBER(HLOOKUP(D$6,'1° HOLES'!$I$25:$R$30,5,FALSE))),HLOOKUP(D$6,'1° HOLES'!$I$25:$R$30,5,FALSE)-$L12+10,VLOOKUP($L12,'1° HOLES'!$I$30:$AM$41,D$1+21,FALSE))) | E12: =IF(AND(E10=4,ISNUMBER(HLOOKUP(E$6,'1° HOLES'!$I$25:$R$30,5,FALSE))),"",IF(AND(E10=5,ISNUMBER(HLOOKUP(E$6,'1° HOLES'!$I$25:$R$30,5,FALSE))),HLOOKUP(E$6,'1° HOLES'!$I$25:$R$30,5,FALSE)-$L12+10,VLOOKUP($L12,'1° HOLES'!$I$30:$AM$41,E$1+21,FALSE))) -> 16 | F12: =IF(AND(F10=4,ISNUMBER(HLOOKUP(F$6,'1° HOLES'!$I$25:$R$30,5,FALSE))),"",IF(AND(F10=5,ISNUMBER(HLOOKUP(F$6,'1° HOLES'!$I$25:$R$30,5,FALSE))),HLOOKUP(F$6,'1° HOLES'!$I$25:$R$30,5,FALSE)-$L12+10,VLOOKUP($L12,'1° HOLES'!$I$30:$AM$41,F$1+21,FALSE))) | G12: =IF(AND(G10=4,ISNUMBER(HLOOKUP(G$6,'1° HOLES'!$I$25:$R$30,5,FALSE))),"",IF(AND(G10=5,ISNUMBER(HLOOKUP(G$6,'1° HOLES'!$I$25:$R$30,5,FALSE))),HLOOKUP(G$6,'1° HOLES'!$I$25:$R$30,5,FALSE)-$L12+10,VLOOKUP($L12,'1° HOLES'!$I$30:$AM$41,G$1+21,FALSE))) | H12: =IF(AND(H10=4,ISNUMBER(HLOOKUP(H$6,'1° HOLES'!$I$25:$R$30,5,FALSE))),"",IF(AND(H10=5,ISNUMBER(HLOOKUP(H$6,'1° HOLES'!$I$25:$R$30,5,FALSE))),HLOOKUP(H$6,'1° HOLES'!$I$25:$R$30,5,FALSE)-$L12+10,VLOOKUP($L12,'1° HOLES'!$I$30:$AM$41,H$1+21,FALSE))) -> 47.08 | I12: =IF(AND(I10=4,ISNUMBER(HLOOKUP(I$6,'1° HOLES'!$I$25:$R$30,5,FALSE))),"",IF(AND(I10=5,ISNUMBER(HLOOKUP(I$6,'1° HOLES'!$I$25:$R$30,5,FALSE))),HLOOKUP(I$6,'1° HOLES'!$I$25:$R$30,5,FALSE)-$L12+10,VLOOKUP($L12,'1° HOLES'!$I$30:$AM$41,I$1+21,FALSE))) | J12: =IF(AND(J10=4,ISNUMBER(HLOOKUP(J$6,'1° HOLES'!$I$25:$R$30,5,FALSE))),"",IF(AND(J10=5,ISNUMBER(HLOOKUP(J$6,'1° HOLES'!$I$25:$R$30,5,FALSE))),HLOOKUP(J$6,'1° HOLES'!$I$25:$R$30,5,FALSE)-$L12+10,VLOOKUP($L12,'1° HOLES'!$I$30:$AM$41,J$1+21,FALSE))) | K12: =IF(AND(K10=4,ISNUMBER(HLOOKUP(K$6,'1° HOLES'!$I$25:$R$30,5,FALSE))),"",IF(AND(K10=5,ISNUMBER(HLOOKUP(K$6,'1° HOLES'!$I$25:$R$30,5,FALSE))),HLOOKUP(K$6,'1° HOLES'!$I$25:$R$30,5,FALSE)-$L12+10,VLOOKUP($L12,'1° HOLES'!$I$30:$AM$41,K$1+21,FALSE))) | L12: 160 | Z12: 160
B13: N. di putt | Z13: 150
B14: Massimo Gessi | Z14: 140
Z15: 130
B16: Tee GPS | C16: =IF(AND(HLOOKUP(C$6,'1° HOLES'!$I$25:$R$30,6,FALSE)="D",C19=4),$L21+C20,IF(AND(HLOOKUP(C$6,'1° HOLES'!$I$25:$R$30,6,FALSE)="D",C19=5),$L21+C20+C21,VLOOKUP($L21,'1° HOLES'!$I$31:$R$41,C$1,FALSE))) -> 357.08 | D16: =IF(AND(HLOOKUP(D$6,'1° HOLES'!$I$25:$R$30,6,FALSE)="D",D19=4),$L21+D20,IF(AND(HLOOKUP(D$6,'1° HOLES'!$I$25:$R$30,6,FALSE)="D",D19=5),$L21+D20+D21,VLOOKUP($L21,'1° HOLES'!$I$31:$R$41,D$1,FALSE))) -> 88 | E16: =IF(AND(HLOOKUP(E$6,'1° HOLES'!$I$25:$R$30,6,FALSE)="D",E19=4),$L21+E20,IF(AND(HLOOKUP(E$6,'1° HOLES'!$I$25:$R$30,6,FALSE)="D",E19=5),$L21+E20+E21,VLOOKUP($L21,'1° HOLES'!$I$31:$R$41,E$1,FALSE))) -> 326 | F16: =IF(AND(HLOOKUP(F$6,'1° HOLES'!$I$25:$R$30,6,FALSE)="D",F19=4),$L21+F20,IF(AND(HLOOKUP(F$6,'1° HOLES'!$I$25:$R$30,6,FALSE)="D",F19=5),$L21+F20+F21,VLOOKUP($L21,'1° HOLES'!$I$31:$R$41,F$1,FALSE))) -> 120 | G16: =IF(AND(HLOOKUP(G$6,'1° HOLES'!$I$25:$R$30,6,FALSE)="D",G19=4),$L21+G20,IF(AND(HLOOKUP(G$6,'1° HOLES'!$I$25:$R$30,6,FALSE)="D",G19=5),$L21+G20+G21,VLOOKUP($L21,'1° HOLES'!$I$31:$R$41,G$1,FALSE))) -> 250.38 | H16: =IF(AND(HLOOKUP(H$6,'1° HOLES'!$I$25:$R$30,6,FALSE)="D",H19=4),$L21+H20,IF(AND(HLOOKUP(H$6,'1° HOLES'!$I$25:$R$30,6,FALSE)="D",H19=5),$L21+H20+H21,VLOOKUP($L21,'1° HOLES'!$I$31:$R$41,H$1,FALSE))) -> 357.08 | I16: =IF(AND(HLOOKUP(I$6,'1° HOLES'!$I$25:$R$30,6,FALSE)="D",I19=4),$L21+I20,IF(AND(HLOOKUP(I$6,'1° HOLES'!$I$25:$R$30,6,FALSE)="D",I19=5),$L21+I20+I21,VLOOKUP($L21,'1° HOLES'!$I$31:$R$41,I$1,FALSE))) -> 263.64 | J16: =IF(AND(HLOOKUP(J$6,'1° HOLES'!$I$25:$R$30,6,FALSE)="D",J19=4),$L21+J20,IF(AND(HLOOKUP(J$6,'1° HOLES'!$I$25:$R$30,6,FALSE)="D",J19=5),$L21+J20+J21,VLOOKUP($L21,'1° HOLES'!$I$31:$R$41,J$1,FALSE))) -> 219.18 | K16: =IF(AND(HLOOKUP(K$6,'1° HOLES'!$I$25:$R$30,6,FALSE)="D",K19=4),$L21+K20,IF(AND(HLOOKUP(K$6,'1° HOLES'!$I$25:$R$30,6,FALSE)="D",K19=5),$L21+K20+K21,VLOOKUP($L21,'1° HOLES'!$I$31:$R$41,K$1,FALSE))) -> 125.6 | Z16: 120
B17: TEE GPS dog-leg | C17: =IF(HLOOKUP(C$6,'1° HOLES'!$I$25:$R$30,6,FALSE)="","",CONCATENATE("T"," ",$L21)) | D17: =IF(HLOOKUP(D$6,'1° HOLES'!$I$25:$R$30,6,FALSE)="","",CONCATENATE("T"," ",$L21)) | E17: =IF(HLOOKUP(E$6,'1° HOLES'!$I$25:$R$30,6,FALSE)="","",CONCATENATE("T"," ",$L21)) -> T 160 | F17: =IF(HLOOKUP(F$6,'1° HOLES'!$I$25:$R$30,6,FALSE)="","",CONCATENATE("T"," ",$L21)) | G17: =IF(HLOOKUP(G$6,'1° HOLES'!$I$25:$R$30,6,FALSE)="","",CONCATENATE("T"," ",$L21)) | H17: =IF(HLOOKUP(H$6,'1° HOLES'!$I$25:$R$30,6,FALSE)="","",CONCATENATE("T"," ",$L21)) | I17: =IF(HLOOKUP(I$6,'1° HOLES'!$I$25:$R$30,6,FALSE)="","",CONCATENATE("T"," ",$L21)) | J17: =IF(HLOOKUP(J$6,'1° HOLES'!$I$25:$R$30,6,FALSE)="","",CONCATENATE("T"," ",$L21)) | K17: =IF(HLOOKUP(K$6,'1° HOLES'!$I$25:$R$30,6,FALSE)="","",CONCATENATE("T"," ",$L21)) | Z17: 110
B18: F.D. clearance | Z18: 100
B19: =CONCATENATE("PAR ",SUM(C19:K19)) -> PAR 36 | C19: =IF(HLOOKUP(C$6,'1° HOLES'!$I$25:$R$30,6,FALSE)="",'1° HOLES'!J$26,IF(AND(ISNUMBER(HLOOKUP(C$6,'1° HOLES'!$I$25:$R$30,5,FALSE)),HLOOKUP(C$6,'1° HOLES'!$I$25:$R$30,5,FALSE)>$L21-10),5,4)) -> 5 | D19: =IF(HLOOKUP(D$6,'1° HOLES'!$I$25:$R$30,6,FALSE)="",'1° HOLES'!K$26,IF(AND(ISNUMBER(HLOOKUP(D$6,'1° HOLES'!$I$25:$R$30,5,FALSE)),HLOOKUP(D$6,'1° HOLES'!$I$25:$R$30,5,FALSE)>$L21-10),5,4)) -> 3 | E19: =IF(HLOOKUP(E$6,'1° HOLES'!$I$25:$R$30,6,FALSE)="",'1° HOLES'!L$26,IF(AND(ISNUMBER(HLOOKUP(E$6,'1° HOLES'!$I$25:$R$30,5,FALSE)),HLOOKUP(E$6,'1° HOLES'!$I$25:$R$30,5,FALSE)>$L21-10),5,4)) -> 5 | F19: =IF(HLOOKUP(F$6,'1° HOLES'!$I$25:$R$30,6,FALSE)="",'1° HOLES'!M$26,IF(AND(ISNUMBER(HLOOKUP(F$6,'1° HOLES'!$I$25:$R$30,5,FALSE)),HLOOKUP(F$6,'1° HOLES'!$I$25:$R$30,5,FALSE)>$L21-10),5,4)) -> 3 | G19: =IF(HLOOKUP(G$6,'1° HOLES'!$I$25:$R$30,6,FALSE)="",'1° HOLES'!N$26,IF(AND(ISNUMBER(HLOOKUP(G$6,'1° HOLES'!$I$25:$R$30,5,FALSE)),HLOOKUP(G$6,'1° HOLES'!$I$25:$R$30,5,FALSE)>$L21-10),5,4)) -> 4 | H19: =IF(HLOOKUP(H$6,'1° HOLES'!$I$25:$R$30,6,FALSE)="",'1° HOLES'!O$26,IF(AND(ISNUMBER(HLOOKUP(H$6,'1° HOLES'!$I$25:$R$30,5,FALSE)),HLOOKUP(H$6,'1° HOLES'!$I$25:$R$30,5,FALSE)>$L21-10),5,4)) -> 5 | I19: =IF(HLOOKUP(I$6,'1° HOLES'!$I$25:$R$30,6,FALSE)="",'1° HOLES'!P$26,IF(AND(ISNUMBER(HLOOKUP(I$6,'1° HOLES'!$I$25:$R$30,5,FALSE)),HLOOKUP(I$6,'1° HOLES'!$I$25:$R$30,5,FALSE)>$L21-10),5,4)) -> 4 | J19: =IF(HLOOKUP(J$6,'1° HOLES'!$I$25:$R$30,6,FALSE)="",'1° HOLES'!Q$26,IF(AND(ISNUMBER(HLOOKUP(J$6,'1° HOLES'!$I$25:$R$30,5,FALSE)),HLOOKUP(J$6,'1° HOLES'!$I$25:$R$30,5,FALSE)>$L21-10),5,4)) -> 4 | K19: =IF(HLOOKUP(K$6,'1° HOLES'!$I$25:$R$30,6,FALSE)="",'1° HOLES'!R$26,IF(AND(ISNUMBER(HLOOKUP(K$6,'1° HOLES'!$I$25:$R$30,5,FALSE)),HLOOKUP(K$6,'1° HOLES'!$I$25:$R$30,5,FALSE)>$L21-10),5,4)) -> 3
B20: D & 1° spot | C20: =IF(C19=3,"",IF(HLOOKUP(C$6,'1° HOLES'!$I$25:$R$30,6,FALSE)="",VLOOKUP($L21,'1° HOLES'!$I$30:$AM$41,C$1+11,FALSE)*1,IF(AND(ISNUMBER(HLOOKUP(C$6,'1° HOLES'!$I$25:$R$30,5,FALSE)),HLOOKUP(C$6,'1° HOLES'!$I$25:$R$30,5,FALSE)>$L21-10),$L21-10,IF(AND(ISNUMBER(HLOOKUP(C$6,'1° HOLES'!$I$25:$R$30,5,FALSE)),HLOOKUP(C$6,'1° HOLES'!$I$25:$R$30,5,FALSE)<=$L21-10),HLOOKUP(C$6,'1° HOLES'!$I$25:$R$30,5,FALSE))))) -> 197.08 | D20: =IF(D19=3,"",IF(HLOOKUP(D$6,'1° HOLES'!$I$25:$R$30,6,FALSE)="",VLOOKUP($L21,'1° HOLES'!$I$30:$AM$41,D$1+11,FALSE)*1,IF(AND(ISNUMBER(HLOOKUP(D$6,'1° HOLES'!$I$25:$R$30,5,FALSE)),HLOOKUP(D$6,'1° HOLES'!$I$25:$R$30,5,FALSE)>$L21-10),$L21-10,IF(AND(ISNUMBER(HLOOKUP(D$6,'1° HOLES'!$I$25:$R$30,5,FALSE)),HLOOKUP(D$6,'1° HOLES'!$I$25:$R$30,5,FALSE)<=$L21-10),HLOOKUP(D$6,'1° HOLES'!$I$25:$R$30,5,FALSE))))) | E20: =IF(E19=3,"",IF(HLOOKUP(E$6,'1° HOLES'!$I$25:$R$30,6,FALSE)="",VLOOKUP($L21,'1° HOLES'!$I$30:$AM$41,E$1+11,FALSE)*1,IF(AND(ISNUMBER(HLOOKUP(E$6,'1° HOLES'!$I$25:$R$30,5,FALSE)),HLOOKUP(E$6,'1° HOLES'!$I$25:$R$30,5,FALSE)>$L21-10),$L21-10,IF(AND(ISNUMBER(HLOOKUP(E$6,'1° HOLES'!$I$25:$R$30,5,FALSE)),HLOOKUP(E$6,'1° HOLES'!$I$25:$R$30,5,FALSE)<=$L21-10),HLOOKUP(E$6,'1° HOLES'!$I$25:$R$30,5,FALSE))))) -> 150 | F20: =IF(F19=3,"",IF(HLOOKUP(F$6,'1° HOLES'!$I$25:$R$30,6,FALSE)="",VLOOKUP($L21,'1° HOLES'!$I$30:$AM$41,F$1+11,FALSE)*1,IF(AND(ISNUMBER(HLOOKUP(F$6,'1° HOLES'!$I$25:$R$30,5,FALSE)),HLOOKUP(F$6,'1° HOLES'!$I$25:$R$30,5,FALSE)>$L21-10),$L21-10,IF(AND(ISNUMBER(HLOOKUP(F$6,'1° HOLES'!$I$25:$R$30,5,FALSE)),HLOOKUP(F$6,'1° HOLES'!$I$25:$R$30,5,FALSE)<=$L21-10),HLOOKUP(F$6,'1° HOLES'!$I$25:$R$30,5,FALSE))))) | G20: =IF(G19=3,"",IF(HLOOKUP(G$6,'1° HOLES'!$I$25:$R$30,6,FALSE)="",VLOOKUP($L21,'1° HOLES'!$I$30:$AM$41,G$1+11,FALSE)*1,IF(AND(ISNUMBER(HLOOKUP(G$6,'1° HOLES'!$I$25:$R$30,5,FALSE)),HLOOKUP(G$6,'1° HOLES'!$I$25:$R$30,5,FALSE)>$L21-10),$L21-10,IF(AND(ISNUMBER(HLOOKUP(G$6,'1° HOLES'!$I$25:$R$30,5,FALSE)),HLOOKUP(G$6,'1° HOLES'!$I$25:$R$30,5,FALSE)<=$L21-10),HLOOKUP(G$6,'1° HOLES'!$I$25:$R$30,5,FALSE))))) -> 90.38 | H20: =IF(H19=3,"",IF(HLOOKUP(H$6,'1° HOLES'!$I$25:$R$30,6,FALSE)="",VLOOKUP($L21,'1° HOLES'!$I$30:$AM$41,H$1+11,FALSE)*1,IF(AND(ISNUMBER(HLOOKUP(H$6,'1° HOLES'!$I$25:$R$30,5,FALSE)),HLOOKUP(H$6,'1° HOLES'!$I$25:$R$30,5,FALSE)>$L21-10),$L21-10,IF(AND(ISNUMBER(HLOOKUP(H$6,'1° HOLES'!$I$25:$R$30,5,FALSE)),HLOOKUP(H$6,'1° HOLES'!$I$25:$R$30,5,FALSE)<=$L21-10),HLOOKUP(H$6,'1° HOLES'!$I$25:$R$30,5,FALSE))))) -> 197.08 | I20: =IF(I19=3,"",IF(HLOOKUP(I$6,'1° HOLES'!$I$25:$R$30,6,FALSE)="",VLOOKUP($L21,'1° HOLES'!$I$30:$AM$41,I$1+11,FALSE)*1,IF(AND(ISNUMBER(HLOOKUP(I$6,'1° HOLES'!$I$25:$R$30,5,FALSE)),HLOOKUP(I$6,'1° HOLES'!$I$25:$R$30,5,FALSE)>$L21-10),$L21-10,IF(AND(ISNUMBER(HLOOKUP(I$6,'1° HOLES'!$I$25:$R$30,5,FALSE)),HLOOKUP(I$6,'1° HOLES'!$I$25:$R$30,5,FALSE)<=$L21-10),HLOOKUP(I$6,'1° HOLES'!$I$25:$R$30,5,FALSE))))) -> 103.64 | J20: =IF(J19=3,"",IF(HLOOKUP(J$6,'1° HOLES'!$I$25:$R$30,6,FALSE)="",VLOOKUP($L21,'1° HOLES'!$I$30:$AM$41,J$1+11,FALSE)*1,IF(AND(ISNUMBER(HLOOKUP(J$6,'1° HOLES'!$I$25:$R$30,5,FALSE)),HLOOKUP(J$6,'1° HOLES'!$I$25:$R$30,5,FALSE)>$L21-10),$L21-10,IF(AND(ISNUMBER(HLOOKUP(J$6,'1° HOLES'!$I$25:$R$30,5,FALSE)),HLOOKUP(J$6,'1° HOLES'!$I$25:$R$30,5,FALSE)<=$L21-10),HLOOKUP(J$6,'1° HOLES'!$I$25:$R$30,5,FALSE))))) -> 59.18 | K20: =IF(K19=3,"",IF(HLOOKUP(K$6,'1° HOLES'!$I$25:$R$30,6,FALSE)="",VLOOKUP($L21,'1° HOLES'!$I$30:$AM$41,K$1+11,FALSE)*1,IF(AND(ISNUMBER(HLOOKUP(K$6,'1° HOLES'!$I$25:$R$30,5,FALSE)),HLOOKUP(K$6,'1° HOLES'!$I$25:$R$30,5,FALSE)>$L21-10),$L21-10,IF(AND(ISNUMBER(HLOOKUP(K$6,'1° HOLES'!$I$25:$R$30,5,FALSE)),HLOOKUP(K$6,'1° HOLES'!$I$25:$R$30,5,FALSE)<=$L21-10),HLOOKUP(K$6,'1° HOLES'!$I$25:$R$30,5,FALSE))))) | L20: D
B21: Approach club/dist | C21: =IF(AND(C19=4,ISNUMBER(HLOOKUP(C$6,'1° HOLES'!$I$25:$R$30,5,FALSE))),"",IF(AND(C19=5,ISNUMBER(HLOOKUP(C$6,'1° HOLES'!$I$25:$R$30,5,FALSE))),HLOOKUP(C$6,'1° HOLES'!$I$25:$R$30,5,FALSE)-$L21+10,VLOOKUP($L21,'1° HOLES'!$I$30:$AM$41,C$1+21,FALSE))) -> 47.08 | D21: =IF(AND(D19=4,ISNUMBER(HLOOKUP(D$6,'1° HOLES'!$I$25:$R$30,5,FALSE))),"",IF(AND(D19=5,ISNUMBER(HLOOKUP(D$6,'1° HOLES'!$I$25:$R$30,5,FALSE))),HLOOKUP(D$6,'1° HOLES'!$I$25:$R$30,5,FALSE)-$L21+10,VLOOKUP($L21,'1° HOLES'!$I$30:$AM$41,D$1+21,FALSE))) | E21: =IF(AND(E19=4,ISNUMBER(HLOOKUP(E$6,'1° HOLES'!$I$25:$R$30,5,FALSE))),"",IF(AND(E19=5,ISNUMBER(HLOOKUP(E$6,'1° HOLES'!$I$25:$R$30,5,FALSE))),HLOOKUP(E$6,'1° HOLES'!$I$25:$R$30,5,FALSE)-$L21+10,VLOOKUP($L21,'1° HOLES'!$I$30:$AM$41,E$1+21,FALSE))) -> 16 | F21: =IF(AND(F19=4,ISNUMBER(HLOOKUP(F$6,'1° HOLES'!$I$25:$R$30,5,FALSE))),"",IF(AND(F19=5,ISNUMBER(HLOOKUP(F$6,'1° HOLES'!$I$25:$R$30,5,FALSE))),HLOOKUP(F$6,'1° HOLES'!$I$25:$R$30,5,FALSE)-$L21+10,VLOOKUP($L21,'1° HOLES'!$I$30:$AM$41,F$1+21,FALSE))) | G21: =IF(AND(G19=4,ISNUMBER(HLOOKUP(G$6,'1° HOLES'!$I$25:$R$30,5,FALSE))),"",IF(AND(G19=5,ISNUMBER(HLOOKUP(G$6,'1° HOLES'!$I$25:$R$30,5,FALSE))),HLOOKUP(G$6,'1° HOLES'!$I$25:$R$30,5,FALSE)-$L21+10,VLOOKUP($L21,'1° HOLES'!$I$30:$AM$41,G$1+21,FALSE))) | H21: =IF(AND(H19=4,ISNUMBER(HLOOKUP(H$6,'1° HOLES'!$I$25:$R$30,5,FALSE))),"",IF(AND(H19=5,ISNUMBER(HLOOKUP(H$6,'1° HOLES'!$I$25:$R$30,5,FALSE))),HLOOKUP(H$6,'1° HOLES'!$I$25:$R$30,5,FALSE)-$L21+10,VLOOKUP($L21,'1° HOLES'!$I$30:$AM$41,H$1+21,FALSE))) -> 47.08 | I21: =IF(AND(I19=4,ISNUMBER(HLOOKUP(I$6,'1° HOLES'!$I$25:$R$30,5,FALSE))),"",IF(AND(I19=5,ISNUMBER(HLOOKUP(I$6,'1° HOLES'!$I$25:$R$30,5,FALSE))),HLOOKUP(I$6,'1° HOLES'!$I$25:$R$30,5,FALSE)-$L21+10,VLOOKUP($L21,'1° HOLES'!$I$30:$AM$41,I$1+21,FALSE))) | J21: =IF(AND(J19=4,ISNUMBER(HLOOKUP(J$6,'1° HOLES'!$I$25:$R$30,5,FALSE))),"",IF(AND(J19=5,ISNUMBER(HLOOKUP(J$6,'1° HOLES'!$I$25:$R$30,5,FALSE))),HLOOKUP(J$6,'1° HOLES'!$I$25:$R$30,5,FALSE)-$L21+10,VLOOKUP($L21,'1° HOLES'!$I$30:$AM$41,J$1+21,FALSE))) | K21: =IF(AND(K19=4,ISNUMBER(HLOOKUP(K$6,'1° HOLES'!$I$25:$R$30,5,FALSE))),"",IF(AND(K19=5,ISNUMBER(HLOOKUP(K$6,'1° HOLES'!$I$25:$R$30,5,FALSE))),HLOOKUP(K$6,'1° HOLES'!$I$25:$R$30,5,FALSE)-$L21+10,VLOOKUP($L21,'1° HOLES'!$I$30:$AM$41,K$1+21,FALSE))) | L21: 160
B22: N. di putt
B23: Tizio Tiziani
B25: Tee GPS | C25: =IF(AND(HLOOKUP(C$6,'1° HOLES'!$I$25:$R$30,6,FALSE)="D",C28=4),$L30+C29,IF(AND(HLOOKUP(C$6,'1° HOLES'!$I$25:$R$30,6,FALSE)="D",C28=5),$L30+C29+C30,VLOOKUP($L30,'1° HOLES'!$I$31:$R$41,C$1,FALSE))) -> 216.96 | D25: =IF(AND(HLOOKUP(D$6,'1° HOLES'!$I$25:$R$30,6,FALSE)="D",D28=4),$L30+D29,IF(AND(HLOOKUP(D$6,'1° HOLES'!$I$25:$R$30,6,FALSE)="D",D28=5),$L30+D29+D30,VLOOKUP($L30,'1° HOLES'!$I$31:$R$41,D$1,FALSE))) -> 56.1 | E25: =IF(AND(HLOOKUP(E$6,'1° HOLES'!$I$25:$R$30,6,FALSE)="D",E28=4),$L30+E29,IF(AND(HLOOKUP(E$6,'1° HOLES'!$I$25:$R$30,6,FALSE)="D",E28=5),$L30+E29+E30,VLOOKUP($L30,'1° HOLES'!$I$31:$R$41,E$1,FALSE))) -> 266 | F25: =IF(AND(HLOOKUP(F$6,'1° HOLES'!$I$25:$R$30,6,FALSE)="D",F28=4),$L30+F29,IF(AND(HLOOKUP(F$6,'1° HOLES'!$I$25:$R$30,6,FALSE)="D",F28=5),$L30+F29+F30,VLOOKUP($L30,'1° HOLES'!$I$31:$R$41,F$1,FALSE))) -> 76.5 | G25: =IF(AND(HLOOKUP(G$6,'1° HOLES'!$I$25:$R$30,6,FALSE)="D",G28=4),$L30+G29,IF(AND(HLOOKUP(G$6,'1° HOLES'!$I$25:$R$30,6,FALSE)="D",G28=5),$L30+G29+G30,VLOOKUP($L30,'1° HOLES'!$I$31:$R$41,G$1,FALSE))) -> 150.87 | H25: =IF(AND(HLOOKUP(H$6,'1° HOLES'!$I$25:$R$30,6,FALSE)="D",H28=4),$L30+H29,IF(AND(HLOOKUP(H$6,'1° HOLES'!$I$25:$R$30,6,FALSE)="D",H28=5),$L30+H29+H30,VLOOKUP($L30,'1° HOLES'!$I$31:$R$41,H$1,FALSE))) -> 216.96 | I25: =IF(AND(HLOOKUP(I$6,'1° HOLES'!$I$25:$R$30,6,FALSE)="D",I28=4),$L30+I29,IF(AND(HLOOKUP(I$6,'1° HOLES'!$I$25:$R$30,6,FALSE)="D",I28=5),$L30+I29+I30,VLOOKUP($L30,'1° HOLES'!$I$31:$R$41,I$1,FALSE))) -> 158.86 | J25: =IF(AND(HLOOKUP(J$6,'1° HOLES'!$I$25:$R$30,6,FALSE)="D",J28=4),$L30+J29,IF(AND(HLOOKUP(J$6,'1° HOLES'!$I$25:$R$30,6,FALSE)="D",J28=5),$L30+J29+J30,VLOOKUP($L30,'1° HOLES'!$I$31:$R$41,J$1,FALSE))) -> 132.07 | K25: =IF(AND(HLOOKUP(K$6,'1° HOLES'!$I$25:$R$30,6,FALSE)="D",K28=4),$L30+K29,IF(AND(HLOOKUP(K$6,'1° HOLES'!$I$25:$R$30,6,FALSE)="D",K28=5),$L30+K29+K30,VLOOKUP($L30,'1° HOLES'!$I$31:$R$41,K$1,FALSE))) -> 80.07
B26: TEE GPS dog-leg | C26: =IF(HLOOKUP(C$6,'1° HOLES'!$I$25:$R$30,6,FALSE)="","",CONCATENATE("T"," ",$L30)) | D26: =IF(HLOOKUP(D$6,'1° HOLES'!$I$25:$R$30,6,FALSE)="","",CONCATENATE("T"," ",$L30)) | E26: =IF(HLOOKUP(E$6,'1° HOLES'!$I$25:$R$30,6,FALSE)="","",CONCATENATE("T"," ",$L30)) -> T 100 | F26: =IF(HLOOKUP(F$6,'1° HOLES'!$I$25:$R$30,6,FALSE)="","",CONCATENATE("T"," ",$L30)) | G26: =IF(HLOOKUP(G$6,'1° HOLES'!$I$25:$R$30,6,FALSE)="","",CONCATENATE("T"," ",$L30)) | H26: =IF(HLOOKUP(H$6,'1° HOLES'!$I$25:$R$30,6,FALSE)="","",CONCATENATE("T"," ",$L30)) | I26: =IF(HLOOKUP(I$6,'1° HOLES'!$I$25:$R$30,6,FALSE)="","",CONCATENATE("T"," ",$L30)) | J26: =IF(HLOOKUP(J$6,'1° HOLES'!$I$25:$R$30,6,FALSE)="","",CONCATENATE("T"," ",$L30)) | K26: =IF(HLOOKUP(K$6,'1° HOLES'!$I$25:$R$30,6,FALSE)="","",CONCATENATE("T"," ",$L30))
B27: F.D. clearance
B28: =CONCATENATE("PAR ",SUM(C28:K28)) -> PAR 36 | C28: =IF(HLOOKUP(C$6,'1° HOLES'!$I$25:$R$30,6,FALSE)="",'1° HOLES'!J$26,IF(AND(ISNUMBER(HLOOKUP(C$6,'1° HOLES'!$I$25:$R$30,5,FALSE)),HLOOKUP(C$6,'1° HOLES'!$I$25:$R$30,5,FALSE)>$L30-10),5,4)) -> 5 | D28: =IF(HLOOKUP(D$6,'1° HOLES'!$I$25:$R$30,6,FALSE)="",'1° HOLES'!K$26,IF(AND(ISNUMBER(HLOOKUP(D$6,'1° HOLES'!$I$25:$R$30,5,FALSE)),HLOOKUP(D$6,'1° HOLES'!$I$25:$R$30,5,FALSE)>$L30-10),5,4)) -> 3 | E28: =IF(HLOOKUP(E$6,'1° HOLES'!$I$25:$R$30,6,FALSE)="",'1° HOLES'!L$26,IF(AND(ISNUMBER(HLOOKUP(E$6,'1° HOLES'!$I$25:$R$30,5,FALSE)),HLOOKUP(E$6,'1° HOLES'!$I$25:$R$30,5,FALSE)>$L30-10),5,4)) -> 5 | F28: =IF(HLOOKUP(F$6,'1° HOLES'!$I$25:$R$30,6,FALSE)="",'1° HOLES'!M$26,IF(AND(ISNUMBER(HLOOKUP(F$6,'1° HOLES'!$I$25:$R$30,5,FALSE)),HLOOKUP(F$6,'1° HOLES'!$I$25:$R$30,5,FALSE)>$L30-10),5,4)) -> 3 | G28: =IF(HLOOKUP(G$6,'1° HOLES'!$I$25:$R$30,6,FALSE)="",'1° HOLES'!N$26,IF(AND(ISNUMBER(HLOOKUP(G$6,'1° HOLES'!$I$25:$R$30,5,FALSE)),HLOOKUP(G$6,'1° HOLES'!$I$25:$R$30,5,FALSE)>$L30-10),5,4)) -> 4 | H28: =IF(HLOOKUP(H$6,'1° HOLES'!$I$25:$R$30,6,FALSE)="",'1° HOLES'!O$26,IF(AND(ISNUMBER(HLOOKUP(H$6,'1° HOLES'!$I$25:$R$30,5,FALSE)),HLOOKUP(H$6,'1° HOLES'!$I$25:$R$30,5,FALSE)>$L30-10),5,4)) -> 5 | I28: =IF(HLOOKUP(I$6,'1° HOLES'!$I$25:$R$30,6,FALSE)="",'1° HOLES'!P$26,IF(AND(ISNUMBER(HLOOKUP(I$6,'1° HOLES'!$I$25:$R$30,5,FALSE)),HLOOKUP(I$6,'1° HOLES'!$I$25:$R$30,5,FALSE)>$L30-10),5,4)) -> 4 | J28: =IF(HLOOKUP(J$6,'1° HOLES'!$I$25:$R$30,6,FALSE)="",'1° HOLES'!Q$26,IF(AND(ISNUMBER(HLOOKUP(J$6,'1° HOLES'!$I$25:$R$30,5,FALSE)),HLOOKUP(J$6,'1° HOLES'!$I$25:$R$30,5,FALSE)>$L30-10),5,4)) -> 4 | K28: =IF(HLOOKUP(K$6,'1° HOLES'!$I$25:$R$30,6,FALSE)="",'1° HOLES'!R$26,IF(AND(ISNUMBER(HLOOKUP(K$6,'1° HOLES'!$I$25:$R$30,5,FALSE)),HLOOKUP(K$6,'1° HOLES'!$I$25:$R$30,5,FALSE)>$L30-10),5,4)) -> 3
B29: D & 1° spot | C29: =IF(C28=3,"",IF(HLOOKUP(C$6,'1° HOLES'!$I$25:$R$30,6,FALSE)="",VLOOKUP($L30,'1° HOLES'!$I$30:$AM$41,C$1+11,FALSE)*1,IF(AND(ISNUMBER(HLOOKUP(C$6,'1° HOLES'!$I$25:$R$30,5,FALSE)),HLOOKUP(C$6,'1° HOLES'!$I$25:$R$30,5,FALSE)>$L30-10),$L30-10,IF(AND(ISNUMBER(HLOOKUP(C$6,'1° HOLES'!$I$25:$R$30,5,FALSE)),HLOOKUP(C$6,'1° HOLES'!$I$25:$R$30,5,FALSE)<=$L30-10),HLOOKUP(C$6,'1° HOLES'!$I$25:$R$30,5,FALSE))))) -> 116.96 | D29: =IF(D28=3,"",IF(HLOOKUP(D$6,'1° HOLES'!$I$25:$R$30,6,FALSE)="",VLOOKUP($L30,'1° HOLES'!$I$30:$AM$41,D$1+11,FALSE)*1,IF(AND(ISNUMBER(HLOOKUP(D$6,'1° HOLES'!$I$25:$R$30,5,FALSE)),HLOOKUP(D$6,'1° HOLES'!$I$25:$R$30,5,FALSE)>$L30-10),$L30-10,IF(AND(ISNUMBER(HLOOKUP(D$6,'1° HOLES'!$I$25:$R$30,5,FALSE)),HLOOKUP(D$6,'1° HOLES'!$I$25:$R$30,5,FALSE)<=$L30-10),HLOOKUP(D$6,'1° HOLES'!$I$25:$R$30,5,FALSE))))) | E29: =IF(E28=3,"",IF(HLOOKUP(E$6,'1° HOLES'!$I$25:$R$30,6,FALSE)="",VLOOKUP($L30,'1° HOLES'!$I$30:$AM$41,E$1+11,FALSE)*1,IF(AND(ISNUMBER(HLOOKUP(E$6,'1° HOLES'!$I$25:$R$30,5,FALSE)),HLOOKUP(E$6,'1° HOLES'!$I$25:$R$30,5,FALSE)>$L30-10),$L30-10,IF(AND(ISNUMBER(HLOOKUP(E$6,'1° HOLES'!$I$25:$R$30,5,FALSE)),HLOOKUP(E$6,'1° HOLES'!$I$25:$R$30,5,FALSE)<=$L30-10),HLOOKUP(E$6,'1° HOLES'!$I$25:$R$30,5,FALSE))))) -> 90 | F29: =IF(F28=3,"",IF(HLOOKUP(F$6,'1° HOLES'!$I$25:$R$30,6,FALSE)="",VLOOKUP($L30,'1° HOLES'!$I$30:$AM$41,F$1+11,FALSE)*1,IF(AND(ISNUMBER(HLOOKUP(F$6,'1° HOLES'!$I$25:$R$30,5,FALSE)),HLOOKUP(F$6,'1° HOLES'!$I$25:$R$30,5,FALSE)>$L30-10),$L30-10,IF(AND(ISNUMBER(HLOOKUP(F$6,'1° HOLES'!$I$25:$R$30,5,FALSE)),HLOOKUP(F$6,'1° HOLES'!$I$25:$R$30,5,FALSE)<=$L30-10),HLOOKUP(F$6,'1° HOLES'!$I$25:$R$30,5,FALSE))))) | G29: =IF(G28=3,"",IF(HLOOKUP(G$6,'1° HOLES'!$I$25:$R$30,6,FALSE)="",VLOOKUP($L30,'1° HOLES'!$I$30:$AM$41,G$1+11,FALSE)*1,IF(AND(ISNUMBER(HLOOKUP(G$6,'1° HOLES'!$I$25:$R$30,5,FALSE)),HLOOKUP(G$6,'1° HOLES'!$I$25:$R$30,5,FALSE)>$L30-10),$L30-10,IF(AND(ISNUMBER(HLOOKUP(G$6,'1° HOLES'!$I$25:$R$30,5,FALSE)),HLOOKUP(G$6,'1° HOLES'!$I$25:$R$30,5,FALSE)<=$L30-10),HLOOKUP(G$6,'1° HOLES'!$I$25:$R$30,5,FALSE))))) -> 50.87 | H29: =IF(H28=3,"",IF(HLOOKUP(H$6,'1° HOLES'!$I$25:$R$30,6,FALSE)="",VLOOKUP($L30,'1° HOLES'!$I$30:$AM$41,H$1+11,FALSE)*1,IF(AND(ISNUMBER(HLOOKUP(H$6,'1° HOLES'!$I$25:$R$30,5,FALSE)),HLOOKUP(H$6,'1° HOLES'!$I$25:$R$30,5,FALSE)>$L30-10),$L30-10,IF(AND(ISNUMBER(HLOOKUP(H$6,'1° HOLES'!$I$25:$R$30,5,FALSE)),HLOOKUP(H$6,'1° HOLES'!$I$25:$R$30,5,FALSE)<=$L30-10),HLOOKUP(H$6,'1° HOLES'!$I$25:$R$30,5,FALSE))))) -> 116.96 | I29: =IF(I28=3,"",IF(HLOOKUP(I$6,'1° HOLES'!$I$25:$R$30,6,FALSE)="",VLOOKUP($L30,'1° HOLES'!$I$30:$AM$41,I$1+11,FALSE)*1,IF(AND(ISNUMBER(HLOOKUP(I$6,'1° HOLES'!$I$25:$R$30,5,FALSE)),HLOOKUP(I$6,'1° HOLES'!$I$25:$R$30,5,FALSE)>$L30-10),$L30-10,IF(AND(ISNUMBER(HLOOKUP(I$6,'1° HOLES'!$I$25:$R$30,5,FALSE)),HLOOKUP(I$6,'1° HOLES'!$I$25:$R$30,5,FALSE)<=$L30-10),HLOOKUP(I$6,'1° HOLES'!$I$25:$R$30,5,FALSE))))) -> 58.86 | J29: =IF(J28=3,"",IF(HLOOKUP(J$6,'1° HOLES'!$I$25:$R$30,6,FALSE)="",VLOOKUP($L30,'1° HOLES'!$I$30:$AM$41,J$1+11,FALSE)*1,IF(AND(ISNUMBER(HLOOKUP(J$6,'1° HOLES'!$I$25:$R$30,5,FALSE)),HLOOKUP(J$6,'1° HOLES'!$I$25:$R$30,5,FALSE)>$L30-10),$L30-10,IF(AND(ISNUMBER(HLOOKUP(J$6,'1° HOLES'!$I$25:$R$30,5,FALSE)),HLOOKUP(J$6,'1° HOLES'!$I$25:$R$30,5,FALSE)<=$L30-10),HLOOKUP(J$6,'1° HOLES'!$I$25:$R$30,5,FALSE))))) -> 32.07 | K29: =IF(K28=3,"",IF(HLOOKUP(K$6,'1° HOLES'!$I$25:$R$30,6,FALSE)="",VLOOKUP($L30,'1° HOLES'!$I$30:$AM$41,K$1+11,FALSE)*1,IF(AND(ISNUMBER(HLOOKUP(K$6,'1° HOLES'!$I$25:$R$30,5,FALSE)),HLOOKUP(K$6,'1° HOLES'!$I$25:$R$30,5,FALSE)>$L30-10),$L30-10,IF(AND(ISNUMBER(HLOOKUP(K$6,'1° HOLES'!$I$25:$R$30,5,FALSE)),HLOOKUP(K$6,'1° HOLES'!$I$25:$R$30,5,FALSE)<=$L30-10),HLOOKUP(K$6,'1° HOLES'!$I$25:$R$30,5,FALSE))))) | L29: D
